BEGIN:VCALENDAR
VERSION:2.0
PRODID:-//World Wake Association - ECPv6.15.17//NONSGML v1.0//EN
CALSCALE:GREGORIAN
METHOD:PUBLISH
X-WR-CALNAME:World Wake Association
X-ORIGINAL-URL:https://www.thewwa.com
X-WR-CALDESC:Events for World Wake Association
REFRESH-INTERVAL;VALUE=DURATION:PT1H
X-Robots-Tag:noindex
X-PUBLISHED-TTL:PT1H
BEGIN:VTIMEZONE
TZID:America/Halifax
BEGIN:DAYLIGHT
TZOFFSETFROM:-0400
TZOFFSETTO:-0300
TZNAME:ADT
DTSTART:20200308T060000
END:DAYLIGHT
BEGIN:STANDARD
TZOFFSETFROM:-0300
TZOFFSETTO:-0400
TZNAME:AST
DTSTART:20201101T050000
END:STANDARD
BEGIN:DAYLIGHT
TZOFFSETFROM:-0400
TZOFFSETTO:-0300
TZNAME:ADT
DTSTART:20210314T060000
END:DAYLIGHT
BEGIN:STANDARD
TZOFFSETFROM:-0300
TZOFFSETTO:-0400
TZNAME:AST
DTSTART:20211107T050000
END:STANDARD
BEGIN:DAYLIGHT
TZOFFSETFROM:-0400
TZOFFSETTO:-0300
TZNAME:ADT
DTSTART:20220313T060000
END:DAYLIGHT
BEGIN:STANDARD
TZOFFSETFROM:-0300
TZOFFSETTO:-0400
TZNAME:AST
DTSTART:20221106T050000
END:STANDARD
END:VTIMEZONE
BEGIN:VEVENT
DTSTART;TZID=America/Halifax:20210220T080000
DTEND;TZID=America/Halifax:20210220T170000
DTSTAMP:20260420T222935
CREATED:20210223T175609Z
LAST-MODIFIED:20210223T175801Z
UID:19520-1613808000-1613840400@www.thewwa.com
SUMMARY:Aktion Parks Member's Only Contest Stop #2 - Orlando Watersports Complex
DESCRIPTION:Format\nSaturday Feb 20th at 8am (Breakfast will be provided at 7:45 for members)\nJam Format \nEach rider will have 5 minutes or 3 hits on a feature in case they fall twice\nBest hit is scored and riders will advance through 3 rounds\nRound 1: Nessie\nRound 2: Kickers\nRound 3: Rooftop (Beginner and Novice)\nRound 3: Pool Gap (Intermediate and up)\n\nEntry fee\n$25\nCloses Feb 18th \nIncluded in Entry\nEvent T-shirt\nStickers\nGive away items\nFree Red Bull \nPrizes\n1st Place: $75 Credit\n2nd Place: $50 Credit\n3rd Place: $25 Credit \nDivision Limits\n*If you won a division in 2020 you must ride in the division higher* \n\nBeginner Wakeboard:Kickers:Spins – Front Side 180s Only\, Add some style! One Invert allowed on kicker sections\nRails: up to 180’s on and off rails (No Transfers)\nNovice Wakeboard:Kickers:Spins – Front Side 360s and backside 360s Only Basic Inverts with 180’s allowed in Run (no blind landings)\nRails: up to 180 on and 360 off rails (Transfers allowed)\n\nIntermediate Wakeboard:Kickers:Spins – Front Side 540s and backside 540s Only. All Basic Inverts allowed in Run (No 360 handle pass inverts – blind landings 180 inverts allowed)\nRails: 270 on and 450 off\n\nAdvanced Wakeboard:Kickers:Spins – Front Side 720s and backside 720s Only. All Basic Inverts\, basic blind tricks and 360 inverts\nRails: 360 on and 540 off\nOpen : No Restrictions
URL:https://www.thewwa.com/event/aktion-parks-members-only-stop-2-orlando-watersports-complex/
LOCATION:Orlando Watersports Complex\, 8615 Florida Rock Rd\, Orlando\, FL\, 32824\, United States
END:VEVENT
END:VCALENDAR