BEGIN:VCALENDAR
VERSION:2.0
PRODID:-//World Wake Association - ECPv6.15.17//NONSGML v1.0//EN
CALSCALE:GREGORIAN
METHOD:PUBLISH
X-WR-CALNAME:World Wake Association
X-ORIGINAL-URL:https://www.thewwa.com
X-WR-CALDESC:Events for World Wake Association
REFRESH-INTERVAL;VALUE=DURATION:PT1H
X-Robots-Tag:noindex
X-PUBLISHED-TTL:PT1H
BEGIN:VTIMEZONE
TZID:America/Halifax
BEGIN:DAYLIGHT
TZOFFSETFROM:-0400
TZOFFSETTO:-0300
TZNAME:ADT
DTSTART:20200308T060000
END:DAYLIGHT
BEGIN:STANDARD
TZOFFSETFROM:-0300
TZOFFSETTO:-0400
TZNAME:AST
DTSTART:20201101T050000
END:STANDARD
BEGIN:DAYLIGHT
TZOFFSETFROM:-0400
TZOFFSETTO:-0300
TZNAME:ADT
DTSTART:20210314T060000
END:DAYLIGHT
BEGIN:STANDARD
TZOFFSETFROM:-0300
TZOFFSETTO:-0400
TZNAME:AST
DTSTART:20211107T050000
END:STANDARD
BEGIN:DAYLIGHT
TZOFFSETFROM:-0400
TZOFFSETTO:-0300
TZNAME:ADT
DTSTART:20220313T060000
END:DAYLIGHT
BEGIN:STANDARD
TZOFFSETFROM:-0300
TZOFFSETTO:-0400
TZNAME:AST
DTSTART:20221106T050000
END:STANDARD
END:VTIMEZONE
BEGIN:VEVENT
DTSTART;VALUE=DATE:20210716
DTEND;VALUE=DATE:20210717
DTSTAMP:20260420T002239
CREATED:20210409T181546Z
LAST-MODIFIED:20210409T181732Z
UID:19929-1626393600-1626479999@www.thewwa.com
SUMMARY:Quest ATX Nationals Traditional & Features Only Qualifier
DESCRIPTION:Compete locally to qualify for the 2021 WWA Wakepark National Championships at Elite Cable Park August 1-4th! \n2021 Nautique WWA Wakepark National Championships \nQuest ATX will be participating in the WWA Points Chase series and will be hosting a one-day event on Friday\, July 16th\, 2021. Both Traditional and Features Only competitions will be held to qualify for the August WWA Nationals Points Chase Event at Elite Cable Park in Auburndale\, Florida.  All qualifying riders will represent team Quest. \nTop three riders from each division qualify while those placing 4th and 5th will be able to attend Nationals as alternates. \nWe will hold Traditional in the morning and Features Only in the afternoon. \nTraditional Format: \nEach rider will be judged based off their best “front stretch only” line. For time efficiency purposes\, the traditional competition will only be the front stretch of the cable lake. Each qualifying heat will allow every rider to have two runs (we take the score from the best run of the 2). \nTo break that down\, the rider will leave the dock and once they have hit the water\, the rider will hit as many features creating their best lines down the front stretch. If the rider successfully gets to the end of the front stretch\, they will then complete one lap without hitting anything on the back stretch (the rider’s run is complete if rider falls on back stretch and no points are received if any features on back stretch are hit). Once the rider gets back to Motor Tower\, they will have one outside kicker hit (our cable spins clockwise). That will complete the riders traditional run. \nPercentages of each feature for Traditional and Features only will soon be announced after the park setup is confirmed for the competition. \nFeatures Only Format: \nFeatures only format TBA with features setup change. \nWe welcome all to participate! \nTraditional Cable Divisions\n• Beginner Wakeboard\n• Amateur Wakeskate\n• Novice Wakeboard\n• Intermediate Wakeboard\n• Advanced Wakeboard\n• Professional Wakeskate\n• Professional Wakeboard \nFeatures Only Divisions\n• Pro Men\n• Women (at Nationals both Pro and Open)\n• Masters Ages 30+ (at Nationals both Masters 30-39 & Veterans 40+)\n• Open Ages 19 – 29\n• Juniors Ages 15 – 18\n• Kids Ages 10 – 14\n• Groms Age 9 & under \nTRICK LIMITATIONS:\nFeatures Only: No Restrictions \nTraditional Cable:\nBeginner Wakeboard:\nKickers: Spins – Front Side 180s Only\, Add some style! No Inverts\nAir Tricks: No Air tricks\, Ollie 180 front side and backside and slaeshing\nRails: Judges Discretion (No Transfers) \nAmateur Wakeskate:\nKickers: Spins – Frontside 180’s\, HS & TS Airs (NO: BS spins or FS 360 or more\, no shuv or flip tricks off)\nFlats Tricks: Shuv FS & BS\, 180 body varials\, 180’s fs & bs (NO: 360 shuv\, Big Spins & Flip Tricks)\nRails: Riding them\, spins up to 360 on them\, 1 shuv either off or on top of\, not onto the box or rail. (NO: Everything else) \nNovice Wakeboard:\nKickers: Spins – Front Side 360s and backside 180s Only. One Basic Invert allowed in Run\nAir Tricks: Ollie 180 and 360 both front side and backside. One Air Trick (Only: Railey\, Roll\, Roll to Revert or Krypt) can be done in the run.\nRails: Judges Discretion \nIntermediate Wakeboard:\nKickers: Spins – Front Side 540s and backside 360s Only. All Basic Inverts allowed in Run (No 360 Inverts or blind landing inverts)\nAir Tricks: Basic Air tricks\, No Blind Landing Tricks or mobes. (S-Bends & Vulcans are allowed)\nRails: Judges Discretion \nAdvanced Wakeboard:\nKickers: Spins – Front Side 720s and backside 540s Only. All Basic Inverts\, basic blind tricks and 360 inverts without a handle pass are allowed in Run (No handle pass 360 Inverts)\nAir Tricks: Basic Air tricks\, Blind Landing Tricks allowed. HS Mobes are only full twisting invert allowed in run. (S-toBlinds are allowed)\nRails: Judges Discretion \nProfessional Wakeskate & Wakeboard:\nNo Restrictions
URL:https://www.thewwa.com/event/quest-atx-nationals-traditional-features-only-qualifier/
LOCATION:Quest ATX\, 10815 Fm 1625\, Austin\, TX\, 78747\, United States
END:VEVENT
BEGIN:VEVENT
DTSTART;VALUE=DATE:20210716
DTEND;VALUE=DATE:20210718
DTSTAMP:20260420T002239
CREATED:20210219T141058Z
LAST-MODIFIED:20210630T214824Z
UID:19353-1626393600-1626566399@www.thewwa.com
SUMMARY:Nautique European Wakesurf Championships London 2021 - CANCELLED
DESCRIPTION:2021 Event has been cancelled\, will be back for 2022!\n  \n \n  \n  \n  \n*Please note – All participants must hold a current WWA Membership to compete* \nA WWA Pro Membership is required to compete in the Pro divisions.  All other divisions may choose between a WWA Annual Membership or One Event Membership. \nDivisions:\nPro Men Wakesurf – Anything goes\nPro Women Wakesurf – Anything goes\nMen’s Wakesurf – Ages 18-29 – Anything goes\nWomen’s Wakesurf – Ages 18-34 – Anything goes\nOpen Men Wakesurf – Any age\, Anything goes (intended for competitors who exceed the talent level of their respective age bracket. It is also intended for the competitors who have competed at pro events but did not advance to the semifinal round in any pro event during the year)\nOpen Women Wakesurf – Any age\, Anything goes (intended for competitors who exceed the talent level of their respective age bracket. It is also intended for the competitors who have competed at pro events but did not advance to the semifinal round in any pro event during the year)\nMen’s Beginner Wakesurf – Any Age – Carves\, turns\, surface tricks such as fire hydrant\, sitting duck – No Airs\, No more than 1 360\nWomen’s Beginner Wakesurf – Any Age – Carves\, turns\, surface tricks such as fire hydrant\, sitting duck – No Airs\, No more than 1 360\nVeteran Men – Over 40 – Anything goes\nMasters Men – 30-39 – Anything goes\nMasters Women – Over 35 – Anything goes\nBoys – 12 & Under- Anything goes\nGirls – 12 & Under- Anything goes\nJr. Men – Ages 13-17 – Anything goes\nJr. Women – Ages 13-17 – Anything goes\nAdaptive Sit – Anything goes\nAdaptive Stand – Anything goes\nSurfin Moms– Mothers\, must have a child competing\nSurfin Dads – Fathers\, must have a child competing \nCLICK HERE FOR THE WWA WAKESURF RULES \n  \nDue to the Covid -19 pandemic there may be some travel restrictions in place\, depending on the country you’re flying in from. Please read carefully all the information on the following website:\nhttps://www.gov.uk/uk-border-control/before-you-leave-for-the-uk\nNOTE: The WWA will not be held responsible for any travel restrictions you may incur\, imposed by the UK or your country of origin governmental entities. \n  \nQUESTIONS? CONTACT US! Email: andre@thewwa.com
URL:https://www.thewwa.com/event/nautique-european-wakesurf-championships-london-2021/
LOCATION:Liquid Leisure\, Horton Road\, Slough\, SL3 9HY\, United Kingdom
ATTACH;FMTTYPE=image/jpeg:https://www.thewwa.com/wp-content/uploads/2021/02/London-Header-100.jpg
ORGANIZER;CN="World Wake Association":MAILTO:info@thewwa.com
END:VEVENT
BEGIN:VEVENT
DTSTART;TZID=America/Halifax:20210716T090000
DTEND;TZID=America/Halifax:20210718T170000
DTSTAMP:20260420T002239
CREATED:20210607T132605Z
LAST-MODIFIED:20210629T195911Z
UID:20355-1626426000-1626627600@www.thewwa.com
SUMMARY:Wake the Desert 2021
DESCRIPTION:  \n \n \n \n \n  \nPrize Money Breakdown: \nPro Men Wakeboard \n\n$4000\n$2000\n$1000\n\nPro Women Wakeboard \n\n$4000\n$2000\n$1000\n\n*New* Expert Men Wakeboard (Non-Pro) \n\n$800\n$500\n$200\n\n*New* Expert Women Wakeboard (Non-Pro) \n\n$800\n$500\n$200\n\nWomen Pro Skim \n\n1000\n700\n300\n\nWomen Pro Surf \n\n1000\n700\n300\n\nMen Pro Skim \n\n1000\n700\n300\n\nMen Pro Surf \n\n1000\n700\n300\n\n 
URL:https://www.thewwa.com/event/wake-the-desert-2021/
LOCATION:Middle Concho Park – Lake Nasworthy\, San Angelo\, TX\, 76904\, United States
ATTACH;FMTTYPE=image/jpeg:https://www.thewwa.com/wp-content/uploads/2021/06/wtd2021FLYER-1-scaled.jpg
END:VEVENT
END:VCALENDAR