BEGIN:VCALENDAR
VERSION:2.0
PRODID:-//World Wake Association - ECPv6.15.17//NONSGML v1.0//EN
CALSCALE:GREGORIAN
METHOD:PUBLISH
X-WR-CALNAME:World Wake Association
X-ORIGINAL-URL:https://www.thewwa.com
X-WR-CALDESC:Events for World Wake Association
REFRESH-INTERVAL;VALUE=DURATION:PT1H
X-Robots-Tag:noindex
X-PUBLISHED-TTL:PT1H
BEGIN:VTIMEZONE
TZID:America/Halifax
BEGIN:DAYLIGHT
TZOFFSETFROM:-0400
TZOFFSETTO:-0300
TZNAME:ADT
DTSTART:20240310T060000
END:DAYLIGHT
BEGIN:STANDARD
TZOFFSETFROM:-0300
TZOFFSETTO:-0400
TZNAME:AST
DTSTART:20241103T050000
END:STANDARD
BEGIN:DAYLIGHT
TZOFFSETFROM:-0400
TZOFFSETTO:-0300
TZNAME:ADT
DTSTART:20250309T060000
END:DAYLIGHT
BEGIN:STANDARD
TZOFFSETFROM:-0300
TZOFFSETTO:-0400
TZNAME:AST
DTSTART:20251102T050000
END:STANDARD
BEGIN:DAYLIGHT
TZOFFSETFROM:-0400
TZOFFSETTO:-0300
TZNAME:ADT
DTSTART:20260308T060000
END:DAYLIGHT
BEGIN:STANDARD
TZOFFSETFROM:-0300
TZOFFSETTO:-0400
TZNAME:AST
DTSTART:20261101T050000
END:STANDARD
END:VTIMEZONE
BEGIN:VEVENT
DTSTART;VALUE=DATE:20250808
DTEND;VALUE=DATE:20250811
DTSTAMP:20260420T135339
CREATED:20241219T131842Z
LAST-MODIFIED:20250327T184346Z
UID:27869-1754611200-1754870399@www.thewwa.com
SUMMARY:Nautique Canadian Regatta
DESCRIPTION:Nautique Boats along with the World Wake Association (WWA) are excited to announce the schedule for the 2025 Nautique Regattas! The Nautique Regattas are exclusive experiences tailored specifically for Nautique Boat owners and are FREE* to attend. With participation reaching new heights each year\, these events have become a summer staple for Nautique families and have proven to build bonds and memories that last a lifetime. \nThere will be five Nautique Regatta events across North America for 2025. Throughout each weekend-long event\, participants at each location have the opportunity to schedule demos with their favorite Nautique athletes with the option to ride behind their very own Nautique or the latest models in the Nautique line-up. Participants will also get the chance to join the legendary Nautique Regatta Tie-Up\, and young riders can put their skills to the test in the Grom Fest competitions. Off the water\, Nautique owners can partake in a poker run through our vendor village and gather for themed banquet dinners with an awards night celebrating the highlights of the weekend. \nSaturday’s Owner Appreciation Dinner Theme: This year’s theme is “Through the Decades” as we celebrate Nautique Boat’s 100 year Anniversary! Dress from your favorite decade! \n  \n					\n									REGISTER TO ATTEND THE NAUTIQUE CANADIAN REGATTA\n					\n					\n									CLICK HERE FOR THE DAILY SCHEDULE OF EVENTS\n					\n			 \nWe are pleased to confirm that the Host Hotel will be the Eldorado Resort for the 2025 Nautique Regatta for August 7-10. In order to ensure you receive the special rate please reserve your room by July 1\, 2025 and identify yourself as a participant attending the Nautique Regatta 2025. You may call our Reservations Department at 250-860-1031 ext.1103 or email reservations@eldoradoresort.ca.  \nBelow are the discounted rates: Deluxe Guestroom (2 Queen) – $319/nightDeluxe Guestroom (1 King).- $319/night-Deluxe Guestroom\, Lakeside (2 Queen) – $429/night-Deluxe Guestroom\, Lakeside (King) – $429/night-One Bedroom Suite – $449/night-One Bedroom Suite\, Lakeside – $489/night-Two Bedroom Villa\, Gardenside – $719/night \n\n Room rates quoted are in Canadian Dollars\, per room per night and based on single or double occupancy for all room types excluding villas.\n Each additional person in the room is $20.00 per person/per night plus applicable taxes.\n Two Bedroom Villas are based on occupancy for up to four people and Three Bedroom Villas are based on occupancy for up to six people.\n Room rates are exclusive of taxes. The current taxes are 8% Provincial Sales Tax (PST)\, 5% Goods & Services Tax (GST) and 3% Municipal & Regional District Tax (MRDT).\n Rates quoted are net-non-commissionable.\n We have reduced the daily Resort Fee to $15.00 per day\, plus GST (regular rate is $30.00 per day).\n Resort fees include parking\, property wide high-speed Internet\, local calls\, fitness center\, lobby coffee service\, and all resort amenity access including indoor & outdoor swimming pools\, hot tubs\, sauna\, tennis\, basketball\, pickleball court\, and private beach. *Some resort amenities are seasonal. For more information\, please visit our website:\n\nhttps://www.manteo.com/resort/resort-experience \n  \nPARKING \nParking will be included in the Resort Fee (regularly $15 per vehicle\, per day). Guests must \nregister their license plate at the Hotel’s Front Desk. \nWe cannot guarantee that parking will be available as spots are on a first come\, first served basis. There is an option of Public \nParking in the Kelowna Public Parking on Cook Road\, located directly in front of Hotel Eldorado\, for up to $11.00 a day or $1.65 \nper hour. A local parking map is available upon request.
URL:https://www.thewwa.com/event/nautique-canadian-regatta-2025/
CATEGORIES:Nautique Regatta 2025
ATTACH;FMTTYPE=image/png:https://www.thewwa.com/wp-content/uploads/2024/12/Group-43884.png
ORGANIZER;CN="WWA":MAILTO:info@thewwa.com
END:VEVENT
END:VCALENDAR