BEGIN:VCALENDAR
VERSION:2.0
PRODID:-//World Wake Association - ECPv6.15.17//NONSGML v1.0//EN
CALSCALE:GREGORIAN
METHOD:PUBLISH
X-WR-CALNAME:World Wake Association
X-ORIGINAL-URL:https://www.thewwa.com
X-WR-CALDESC:Events for World Wake Association
REFRESH-INTERVAL;VALUE=DURATION:PT1H
X-Robots-Tag:noindex
X-PUBLISHED-TTL:PT1H
BEGIN:VTIMEZONE
TZID:America/New_York
BEGIN:DAYLIGHT
TZOFFSETFROM:-0500
TZOFFSETTO:-0400
TZNAME:EDT
DTSTART:20170312T070000
END:DAYLIGHT
BEGIN:STANDARD
TZOFFSETFROM:-0400
TZOFFSETTO:-0500
TZNAME:EST
DTSTART:20171105T060000
END:STANDARD
BEGIN:DAYLIGHT
TZOFFSETFROM:-0500
TZOFFSETTO:-0400
TZNAME:EDT
DTSTART:20180311T070000
END:DAYLIGHT
BEGIN:STANDARD
TZOFFSETFROM:-0400
TZOFFSETTO:-0500
TZNAME:EST
DTSTART:20181104T060000
END:STANDARD
BEGIN:DAYLIGHT
TZOFFSETFROM:-0500
TZOFFSETTO:-0400
TZNAME:EDT
DTSTART:20190310T070000
END:DAYLIGHT
BEGIN:STANDARD
TZOFFSETFROM:-0400
TZOFFSETTO:-0500
TZNAME:EST
DTSTART:20191103T060000
END:STANDARD
END:VTIMEZONE
BEGIN:VTIMEZONE
TZID:America/Halifax
BEGIN:DAYLIGHT
TZOFFSETFROM:-0400
TZOFFSETTO:-0300
TZNAME:ADT
DTSTART:20170312T060000
END:DAYLIGHT
BEGIN:STANDARD
TZOFFSETFROM:-0300
TZOFFSETTO:-0400
TZNAME:AST
DTSTART:20171105T050000
END:STANDARD
BEGIN:DAYLIGHT
TZOFFSETFROM:-0400
TZOFFSETTO:-0300
TZNAME:ADT
DTSTART:20180311T060000
END:DAYLIGHT
BEGIN:STANDARD
TZOFFSETFROM:-0300
TZOFFSETTO:-0400
TZNAME:AST
DTSTART:20181104T050000
END:STANDARD
BEGIN:DAYLIGHT
TZOFFSETFROM:-0400
TZOFFSETTO:-0300
TZNAME:ADT
DTSTART:20190310T060000
END:DAYLIGHT
BEGIN:STANDARD
TZOFFSETFROM:-0300
TZOFFSETTO:-0400
TZNAME:AST
DTSTART:20191103T050000
END:STANDARD
END:VTIMEZONE
BEGIN:VEVENT
DTSTART;TZID=America/New_York:20180610T080000
DTEND;TZID=America/New_York:20180610T170000
DTSTAMP:20260423T212414
CREATED:20180306T160952Z
LAST-MODIFIED:20180314T192331Z
UID:14113-1528617600-1528650000@www.thewwa.com
SUMMARY:GA Wake Series Stop #3 - Lake Lanier Olympic Park
DESCRIPTION:Info coming soon…								\n				\n				\n				\n									\n					\n						\n									Event Registration
URL:https://www.thewwa.com/event/ga-wake-series-stop-3-lake-lanier-olympic-park/
LOCATION:Lake Lanier Olympic Park\, 3105 Clarks Bridge Rd\, Gainesville\, GA\, United States
ATTACH;FMTTYPE=image/jpeg:https://www.thewwa.com/wp-content/uploads/2018/03/GAWS-logo.jpg
END:VEVENT
BEGIN:VEVENT
DTSTART;TZID=America/Halifax:20180608T080000
DTEND;TZID=America/Halifax:20180609T170000
DTSTAMP:20260423T212414
CREATED:20180501T202731Z
LAST-MODIFIED:20180501T202731Z
UID:14679-1528444800-1528563600@www.thewwa.com
SUMMARY:Spring 2 Summer - Wake Factory
DESCRIPTION:Info coming soon…								\n				\n				\n				\n									\n					\n						\n									Event Registration
URL:https://www.thewwa.com/event/spring-2-summer-wake-factory/
LOCATION:Steel Ford Boat Ramp\, 2600 Thomas Avenue\, Guntersville\, AL\, 35976\, United States
ATTACH;FMTTYPE=image/jpeg:https://www.thewwa.com/wp-content/uploads/2018/05/30072740_10156210799529471_7881943944222154855_o.jpg
END:VEVENT
BEGIN:VEVENT
DTSTART;TZID=America/Halifax:20180607T080000
DTEND;TZID=America/Halifax:20180609T170000
DTSTAMP:20260423T212414
CREATED:20180427T151303Z
LAST-MODIFIED:20180427T151303Z
UID:14659-1528358400-1528563600@www.thewwa.com
SUMMARY:SC INT Stop #3 - Taste of the Creek
DESCRIPTION:Info coming soon…								\n				\n				\n				\n									\n					\n						\n									Event Registration
URL:https://www.thewwa.com/event/sc-int-stop-3-taste-of-the-creek/
LOCATION:Byou Creek\, Orangeburg\, SC\, United States
ATTACH;FMTTYPE=image/jpeg:https://www.thewwa.com/wp-content/uploads/2012/08/INTCircleLogo_small.jpg
ORGANIZER;CN="SC INT League":MAILTO:scwatersports@gmail.com
END:VEVENT
BEGIN:VEVENT
DTSTART;TZID=America/New_York:20180602T080000
DTEND;TZID=America/New_York:20180602T170000
DTSTAMP:20260423T212414
CREATED:20180309T154708Z
LAST-MODIFIED:20180502T134148Z
UID:13998-1527926400-1527958800@www.thewwa.com
SUMMARY:WWA Wakeboard Regional Championships - South 2018
DESCRIPTION:Info coming soon…								\n				\n				\n				\n									\n					\n						\n									Event Registration
URL:https://www.thewwa.com/event/wwa-wakeboard-regional-championships-south-2018/
LOCATION:Freedom Wake Park\, 7200 Lake Ellenor Dr.\, Orlando\, FL\, 32809\, United States
ATTACH;FMTTYPE=image/jpeg:https://www.thewwa.com/wp-content/uploads/2018/03/WWA_RE2018_Tiles_Locations_01_south.jpg
ORGANIZER;CN="World Wake Association":MAILTO:info@thewwa.com
END:VEVENT
BEGIN:VEVENT
DTSTART;TZID=America/New_York:20180602T080000
DTEND;TZID=America/New_York:20180602T170000
DTSTAMP:20260423T212414
CREATED:20180309T154631Z
LAST-MODIFIED:20180427T204701Z
UID:14002-1527926400-1527958800@www.thewwa.com
SUMMARY:Malibu Pro Card Qualifier #1 - 2018
DESCRIPTION:Info coming soon…								\n				\n				\n				\n									\n					\n						\n									Event Registration
URL:https://www.thewwa.com/event/malibu-pro-card-qualifier-1-2018/
LOCATION:Freedom Wake Park\, 7200 Lake Ellenor Dr.\, Orlando\, FL\, 32809\, United States
ATTACH;FMTTYPE=image/jpeg:https://www.thewwa.com/wp-content/uploads/2018/03/WWA_ProCard_WebTiles-Qualifiers_02_1.jpg
ORGANIZER;CN="World Wake Association":MAILTO:info@thewwa.com
END:VEVENT
BEGIN:VEVENT
DTSTART;TZID=America/Halifax:20180601T080000
DTEND;TZID=America/Halifax:20180603T170000
DTSTAMP:20260423T212414
CREATED:20180427T155657Z
LAST-MODIFIED:20180427T155657Z
UID:14661-1527840000-1528045200@www.thewwa.com
SUMMARY:SC INT Stop 3 1- Boarders Bash
DESCRIPTION:Info coming soon…								\n				\n				\n				\n									\n					\n						\n									Event Registration
URL:https://www.thewwa.com/event/sc-int-stop-3-1-boarders-bash/
LOCATION:Hartwell Project Office\, 5625 Anderson Highway\, Hartwell\, GA\, 30643\, United States
ATTACH;FMTTYPE=image/jpeg:https://www.thewwa.com/wp-content/uploads/2012/08/INTCircleLogo_small.jpg
ORGANIZER;CN="SC INT League":MAILTO:scwatersports@gmail.com
END:VEVENT
BEGIN:VEVENT
DTSTART;TZID=America/New_York:20180601T080000
DTEND;TZID=America/New_York:20180603T170000
DTSTAMP:20260423T212414
CREATED:20180309T153951Z
LAST-MODIFIED:20180603T201340Z
UID:14000-1527840000-1528045200@www.thewwa.com
SUMMARY:Malibu Rider Experience - South 2018
DESCRIPTION:Info coming soon…								\n				\n				\n				\n									\n					\n						\n									Event Registration
URL:https://www.thewwa.com/event/malibu-rider-experience-south-2018/
LOCATION:Freedom Wake Park\, 7200 Lake Ellenor Dr.\, Orlando\, FL\, 32809\, United States
ATTACH;FMTTYPE=image/jpeg:https://www.thewwa.com/wp-content/uploads/2018/03/WWA_RE2018_Tiles_Locations_01_south.jpg
ORGANIZER;CN="World Wake Association":MAILTO:info@thewwa.com
END:VEVENT
BEGIN:VEVENT
DTSTART;TZID=America/Halifax:20180526T080000
DTEND;TZID=America/Halifax:20180527T170000
DTSTAMP:20260423T212414
CREATED:20180503T175449Z
LAST-MODIFIED:20180503T175449Z
UID:14699-1527321600-1527440400@www.thewwa.com
SUMMARY:A National Salute to American Heroes
DESCRIPTION:Info coming soon…								\n				\n				\n				\n									\n					\n						\n									Event Registration
URL:https://www.thewwa.com/event/a-national-salute-to-american-heroes/
LOCATION:Miami Beach\, Miami Beach\, FL\, United States
ATTACH;FMTTYPE=image/png:https://www.thewwa.com/wp-content/uploads/2018/05/header-logo-with-date-2.png
ORGANIZER;CN="A National Salute to American Heroes%2C LLC":MAILTO:mickey@mdmgroup.com
END:VEVENT
BEGIN:VEVENT
DTSTART;TZID=America/New_York:20180525T080000
DTEND;TZID=America/New_York:20180527T170000
DTSTAMP:20260423T212414
CREATED:20180312T152015Z
LAST-MODIFIED:20180404T141232Z
UID:14229-1527235200-1527440400@www.thewwa.com
SUMMARY:Malibu WWA Asian Wake Series - Macau 2018
DESCRIPTION:Info coming soon…								\n				\n				\n				\n									\n					\n						\n									Event Registration
URL:https://www.thewwa.com/event/wwa-asian-wake-series-china-2018/
LOCATION:Fisherman’s Wharf Park\, Macau\, China
ATTACH;FMTTYPE=image/png:https://www.thewwa.com/wp-content/uploads/2018/03/Asian-Wake-Series-18-tiles-02-1-scaled.png
END:VEVENT
BEGIN:VEVENT
DTSTART;TZID=America/New_York:20180525T080000
DTEND;TZID=America/New_York:20180527T160000
DTSTAMP:20260423T212414
CREATED:20180110T155954Z
LAST-MODIFIED:20180110T201922Z
UID:13776-1527235200-1527436800@www.thewwa.com
SUMMARY:2018 Nautique Masters Water Ski & Wakeboard Tournament presented by GM Marine Engine Technology
DESCRIPTION:Info coming soon…								\n				\n				\n				\n									\n					\n						\n									Event Registration
URL:https://www.thewwa.com/event/nautique-masters-waterski-wakeboard-tournament-2018/
LOCATION:Callaway Gardens\, 3 Mile Beach Drive\, Pine Mountain\, GA\, 31822\, United States
CATEGORIES:Nautique Wake Series,WBWS
ATTACH;FMTTYPE=image/jpeg:https://www.thewwa.com/wp-content/uploads/2018/01/WWA_WBWS_Tiles2018_NWS_02C.jpg
ORGANIZER;CN="World Wake Association":MAILTO:info@thewwa.com
END:VEVENT
BEGIN:VEVENT
DTSTART;TZID=America/Halifax:20180523T120000
DTEND;TZID=America/Halifax:20180523T190000
DTSTAMP:20260423T212414
CREATED:20180515T132606Z
LAST-MODIFIED:20180515T134411Z
UID:14771-1527076800-1527102000@www.thewwa.com
SUMMARY:Feet on Fire
DESCRIPTION:Info coming soon…								\n				\n				\n				\n									\n					\n						\n									Event Registration
URL:https://www.thewwa.com/event/feet-on-fire/
LOCATION:The Waterfront Orlando\, 4201 S Orange Ave\, Orlando\, FL\, 32806\, United States
ATTACH;FMTTYPE=image/jpeg:https://www.thewwa.com/wp-content/uploads/2018/05/Logo.jpg
ORGANIZER;CN="Touch of the North Events%2C LLC":MAILTO:Dano2340@aol.com
END:VEVENT
BEGIN:VEVENT
DTSTART;TZID=America/Halifax:20180519T080000
DTEND;TZID=America/Halifax:20180520T170000
DTSTAMP:20260423T212414
CREATED:20180503T182954Z
LAST-MODIFIED:20180503T182954Z
UID:14713-1526716800-1526835600@www.thewwa.com
SUMMARY:Mountain Wake Games - Southern Wake Series Stop #1
DESCRIPTION:Info coming soon…								\n				\n				\n				\n									\n					\n						\n									Event Registration
URL:https://www.thewwa.com/event/mountain-wake-games-southern-wake-series-stop-1/
LOCATION:Oak Mountain State Park\, 20 Terrace Drive\, Pelham\, AL\, 35124\, United States
ATTACH;FMTTYPE=image/jpeg:https://www.thewwa.com/wp-content/uploads/2018/05/9623f9_b0e11bbba14d48b4b7ac4aedad045617mv2.jpg
ORGANIZER;CN="Flip Side Watersports of AL":MAILTO:info@flipsideal.com
END:VEVENT
BEGIN:VEVENT
DTSTART;TZID=America/New_York:20180519T080000
DTEND;TZID=America/New_York:20180519T170000
DTSTAMP:20260423T212414
CREATED:20180306T154445Z
LAST-MODIFIED:20180306T155230Z
UID:14097-1526716800-1526749200@www.thewwa.com
SUMMARY:Pro Wakeboard Tour Stop #2
DESCRIPTION:Info coming soon…								\n				\n				\n				\n									\n					\n						\n									Event Registration
URL:https://www.thewwa.com/event/pro-wakeboard-tour-stop-2/
LOCATION:Dallas Landing Park\, 5120 Allatoona Dr\, Acworth\, GA\, 30101\, United States
END:VEVENT
BEGIN:VEVENT
DTSTART;TZID=America/Halifax:20180518T080000
DTEND;TZID=America/Halifax:20180520T170000
DTSTAMP:20260423T212414
CREATED:20180514T145130Z
LAST-MODIFIED:20180514T145130Z
UID:14768-1526630400-1526835600@www.thewwa.com
SUMMARY:Wake for Warriors - Lake Altoona
DESCRIPTION:Info coming soon…								\n				\n				\n				\n									\n					\n						\n									Event Registration
URL:https://www.thewwa.com/event/wake-for-warriors-lake-altoona/
LOCATION:Navy Recration Facility at Lake Allatoona\, GA\, United States
ATTACH;FMTTYPE=image/png:https://www.thewwa.com/wp-content/uploads/2018/05/Wake-For-Warriors-logl.png
ORGANIZER;CN="Wake for Warriors":MAILTO:djdeep@wakeforwarriors.org
END:VEVENT
BEGIN:VEVENT
DTSTART;TZID=America/New_York:20180512T080000
DTEND;TZID=America/New_York:20180512T170000
DTSTAMP:20260423T212414
CREATED:20180406T143435Z
LAST-MODIFIED:20180427T195949Z
UID:14539-1526112000-1526144400@www.thewwa.com
SUMMARY:Spartan Throwdown - 2018
DESCRIPTION:Info coming soon…								\n				\n				\n				\n									\n					\n						\n									Event Registration
URL:https://www.thewwa.com/event/spartan-throwdown-2018/
LOCATION:Lake Lansing Park South\, 1621 Pike St\, Haslett\, MI\, United States
ATTACH;FMTTYPE=image/jpeg:https://www.thewwa.com/wp-content/uploads/2018/04/27459433_1833661649979942_7328195709879824900_n.jpg
ORGANIZER;CN="MSU Wakeboard Club":MAILTO:msuwakeboardclub@gmail.com
END:VEVENT
BEGIN:VEVENT
DTSTART;TZID=America/New_York:20180512T080000
DTEND;TZID=America/New_York:20180512T170000
DTSTAMP:20260423T212414
CREATED:20180402T172318Z
LAST-MODIFIED:20180402T172337Z
UID:14470-1526112000-1526144400@www.thewwa.com
SUMMARY:Gravel Tour Stop #2 - Performance Ski & Surf
DESCRIPTION:Info coming soon…								\n				\n				\n				\n									\n					\n						\n									Event Registration
URL:https://www.thewwa.com/event/gravel-tour-stop-2-performance-ski-surf/
LOCATION:Orlando Watersports Complex\, 8615 Florida Rock Rd\, Orlando\, FL\, 32824\, United States
ATTACH;FMTTYPE=image/png:https://www.thewwa.com/wp-content/uploads/2018/04/Screen-Shot-2018-04-02-at-1.12.39-PM.png
END:VEVENT
BEGIN:VEVENT
DTSTART;VALUE=DATE:20180512
DTEND;VALUE=DATE:20180513
DTSTAMP:20260423T212414
CREATED:20180404T185351Z
LAST-MODIFIED:20180404T185351Z
UID:14527-1526083200-1526169599@www.thewwa.com
SUMMARY:Canyon Lake Wakeboard Club Stop #2
DESCRIPTION:Info coming soon…								\n				\n				\n				\n									\n					\n						\n									Event Registration
URL:https://www.thewwa.com/event/canyon-lake-wakeboard-club-stop-2/
LOCATION:Canyon Lake North Ski Area\, Vacation Drive\, Canyon Lake\, CA\, 92587\, United States
ATTACH;FMTTYPE=image/png:https://www.thewwa.com/wp-content/uploads/2018/04/CLWC-logo.png
ORGANIZER;CN="Canyon Lake Wakeboard Club":MAILTO:daveclarke951@yahoo.com
END:VEVENT
BEGIN:VEVENT
DTSTART;TZID=America/New_York:20180511T080000
DTEND;TZID=America/New_York:20180513T170000
DTSTAMP:20260423T212414
CREATED:20180306T180007Z
LAST-MODIFIED:20180306T180007Z
UID:14138-1526025600-1526230800@www.thewwa.com
SUMMARY:Scheels All Sports Rail Jam
DESCRIPTION:Info coming soon…								\n				\n				\n				\n									\n					\n						\n									Event Registration
URL:https://www.thewwa.com/event/scheels-all-sports-rail-jam/
LOCATION:Scheels All Sports\, 2101 W 41st St\, Sioux Falls\, SD\, 57105\, United States
ORGANIZER;CN="Step Up Productions":MAILTO:ryan@stepupproductions.com
END:VEVENT
BEGIN:VEVENT
DTSTART;TZID=America/New_York:20180506T080000
DTEND;TZID=America/New_York:20180506T170000
DTSTAMP:20260423T212414
CREATED:20180425T160356Z
LAST-MODIFIED:20180425T160356Z
UID:14647-1525593600-1525626000@www.thewwa.com
SUMMARY:Cardinal Classic -Ball State Waterski & Wakeboard
DESCRIPTION:Info coming soon…								\n				\n				\n				\n									\n					\n						\n									Event Registration
URL:https://www.thewwa.com/event/cardinal-classic-ball-state-waterski-wakeboard/
LOCATION:Harbour Trees Golf Club\, 333 Regents Park Lane\, Noblesville\, IN\, 46062\, United States
ATTACH;FMTTYPE=image/jpeg:https://www.thewwa.com/wp-content/uploads/2018/04/Flyer.jpg
ORGANIZER;CN="Ball State Waterski & Wakeboard":MAILTO:bsuwakelife@outlook.com
END:VEVENT
BEGIN:VEVENT
DTSTART;TZID=America/New_York:20180506T080000
DTEND;TZID=America/New_York:20180506T170000
DTSTAMP:20260423T212414
CREATED:20180306T160434Z
LAST-MODIFIED:20180314T192418Z
UID:14110-1525593600-1525626000@www.thewwa.com
SUMMARY:GA Wake Series Stop #2 - Lake Spivey
DESCRIPTION:Info coming soon…								\n				\n				\n				\n									\n					\n						\n									Event Registration
URL:https://www.thewwa.com/event/ga-wake-series-stop-2/
LOCATION:Lake Spivey\, 8629 BLACKHALL RD\, Jonesboro\, GA\, 30236\, United States
ATTACH;FMTTYPE=image/jpeg:https://www.thewwa.com/wp-content/uploads/2018/03/GAWS-logo.jpg
END:VEVENT
BEGIN:VEVENT
DTSTART;TZID=America/New_York:20180505T080000
DTEND;TZID=America/New_York:20180505T170000
DTSTAMP:20260423T212414
CREATED:20180306T160139Z
LAST-MODIFIED:20180314T192501Z
UID:14108-1525507200-1525539600@www.thewwa.com
SUMMARY:GA Wake Series Stop #1 - Terminus Wake Park
DESCRIPTION:Info coming soon…								\n				\n				\n				\n									\n					\n						\n									Event Registration
URL:https://www.thewwa.com/event/ga-wake-series-stop-1/
LOCATION:Terminus Wake Park\, 171 Lakepoint Pkwy\, Cartersville\, GA\, 30121\, United States
ATTACH;FMTTYPE=image/jpeg:https://www.thewwa.com/wp-content/uploads/2018/03/GAWS-logo.jpg
END:VEVENT
BEGIN:VEVENT
DTSTART;TZID=America/New_York:20180428T090000
DTEND;TZID=America/New_York:20180428T170000
DTSTAMP:20260423T212414
CREATED:20180305T172251Z
LAST-MODIFIED:20180430T140021Z
UID:13996-1524906000-1524934800@www.thewwa.com
SUMMARY:2018 Nautique Master's Wakeboard LCQ
DESCRIPTION:Info coming soon…								\n				\n				\n				\n									\n					\n						\n									Event Registration
URL:https://www.thewwa.com/event/2018-nautique-masters-wakeboard-lcq/
LOCATION:Orlando Watersports Complex\, 8615 Florida Rock Rd\, Orlando\, FL\, 32824\, United States
ATTACH;FMTTYPE=image/jpeg:https://www.thewwa.com/wp-content/uploads/2018/03/WWA_WBWS_Tiles2018_NWS_03F.jpg
ORGANIZER;CN="World Wake Association":MAILTO:info@thewwa.com
END:VEVENT
BEGIN:VEVENT
DTSTART;VALUE=DATE:20180428
DTEND;VALUE=DATE:20180429
DTSTAMP:20260423T212414
CREATED:20180404T185214Z
LAST-MODIFIED:20180404T185214Z
UID:14523-1524873600-1524959999@www.thewwa.com
SUMMARY:Canyon Lake Wakeboard Club Stop #1
DESCRIPTION:Info coming soon…								\n				\n				\n				\n									\n					\n						\n									Event Registration
URL:https://www.thewwa.com/event/canyon-lake-wakeboard-club-stop-1/
LOCATION:Canyon Lake North Ski Area\, Vacation Drive\, Canyon Lake\, CA\, 92587\, United States
ATTACH;FMTTYPE=image/png:https://www.thewwa.com/wp-content/uploads/2018/04/CLWC-logo.png
ORGANIZER;CN="Canyon Lake Wakeboard Club":MAILTO:daveclarke951@yahoo.com
END:VEVENT
BEGIN:VEVENT
DTSTART;TZID=America/New_York:20180427T080000
DTEND;TZID=America/New_York:20180429T170000
DTSTAMP:20260423T212414
CREATED:20180406T152856Z
LAST-MODIFIED:20180406T152856Z
UID:14543-1524816000-1525021200@www.thewwa.com
SUMMARY:Valdosta Yardsale II - 2018
DESCRIPTION:Info coming soon…								\n				\n				\n				\n									\n					\n						\n									Event Registration
URL:https://www.thewwa.com/event/valdosta-yardsale-ii-2018/
LOCATION:Valdosta Wake Compound\, 2314 Old Clyattville Rd\, Valdosta\, GA\, 31601\, United States
ATTACH;FMTTYPE=image/png:https://www.thewwa.com/wp-content/uploads/2018/04/28619167_1675347099155110_6249193351354481359_o.png
END:VEVENT
BEGIN:VEVENT
DTSTART;TZID=America/New_York:20180419T090000
DTEND;TZID=America/New_York:20180421T170000
DTSTAMP:20260423T212414
CREATED:20180110T160108Z
LAST-MODIFIED:20180422T012600Z
UID:13781-1524128400-1524330000@www.thewwa.com
SUMMARY:Nautique Wake Open presented by Rockstar 2018
DESCRIPTION:Info coming soon…								\n				\n				\n				\n									\n					\n						\n									Event Registration
URL:https://www.thewwa.com/event/nautique-wake-open-presented-by-rockstar-2018/
LOCATION:Mayan Water Complex\, Carr. Tulum\, Quintana Roo\, Mexico
CATEGORIES:Nautique Wake Series,WBWS
ATTACH;FMTTYPE=image/jpeg:https://www.thewwa.com/wp-content/uploads/2018/01/WWA_WBWS_Tiles2018_NWS_01B.jpg
ORGANIZER;CN="World Wake Association":MAILTO:info@thewwa.com
END:VEVENT
BEGIN:VEVENT
DTSTART;TZID=America/New_York:20180414T080000
DTEND;TZID=America/New_York:20180415T170000
DTSTAMP:20260423T212414
CREATED:20180214T164317Z
LAST-MODIFIED:20180221T203132Z
UID:14025-1523692800-1523811600@www.thewwa.com
SUMMARY:Texas Longhorn Invitational - Texas Wake
DESCRIPTION:Info coming soon…								\n				\n				\n				\n									\n					\n						\n									Event Registration
URL:https://www.thewwa.com/event/texas-wake-collegiate/
LOCATION:Lake Austin & Next Level Ride\, TX\, United States
ATTACH;FMTTYPE=image/png:https://www.thewwa.com/wp-content/uploads/2018/02/Flyer-scaled.png
END:VEVENT
BEGIN:VEVENT
DTSTART;TZID=America/New_York:20180413T080000
DTEND;TZID=America/New_York:20180414T170000
DTSTAMP:20260423T212414
CREATED:20180306T154643Z
LAST-MODIFIED:20180306T155013Z
UID:14099-1523606400-1523725200@www.thewwa.com
SUMMARY:Pro Wakeboard Tour Stop #1
DESCRIPTION:Info coming soon…								\n				\n				\n				\n									\n					\n						\n									Event Registration
URL:https://www.thewwa.com/event/pro-wakeboard-tour-stop-1-2/
LOCATION:Wild Horse Pass Motorsports Park\, 20000 S Maricopa Rd\, Chandler\, AZ\, 85226\, United States
END:VEVENT
BEGIN:VEVENT
DTSTART;TZID=America/New_York:20180407T080000
DTEND;TZID=America/New_York:20180407T170000
DTSTAMP:20260423T212414
CREATED:20180402T172142Z
LAST-MODIFIED:20180402T172142Z
UID:14464-1523088000-1523120400@www.thewwa.com
SUMMARY:Gravel Tour Stop #1 - Performance Ski & Surf
DESCRIPTION:Info coming soon…								\n				\n				\n				\n									\n					\n						\n									Event Registration
URL:https://www.thewwa.com/event/gravel-tour-stop-1-performance-ski-surf/
LOCATION:Orlando Watersports Complex\, 8615 Florida Rock Rd\, Orlando\, FL\, 32824\, United States
ATTACH;FMTTYPE=image/png:https://www.thewwa.com/wp-content/uploads/2018/04/Screen-Shot-2018-04-02-at-1.12.39-PM.png
END:VEVENT
BEGIN:VEVENT
DTSTART;TZID=America/New_York:20180405T080000
DTEND;TZID=America/New_York:20180405T170000
DTSTAMP:20260423T212414
CREATED:20180410T153050Z
LAST-MODIFIED:20180410T153050Z
UID:14571-1522915200-1522947600@www.thewwa.com
SUMMARY:Canyon Lake Wakeboard Club - Learn To Ride Clinic
DESCRIPTION:Info coming soon…								\n				\n				\n				\n									\n					\n						\n									Event Registration
URL:https://www.thewwa.com/event/canyon-lake-wakeboard-club-learn-to-ride-clinic/
LOCATION:Canyon Lake North Ski Area\, Vacation Drive\, Canyon Lake\, CA\, 92587\, United States
ATTACH;FMTTYPE=image/png:https://www.thewwa.com/wp-content/uploads/2018/04/CLWC-logo.png
ORGANIZER;CN="Canyon Lake Wakeboard Club":MAILTO:daveclarke951@yahoo.com
END:VEVENT
BEGIN:VEVENT
DTSTART;TZID=America/New_York:20180310T080000
DTEND;TZID=America/New_York:20180310T170000
DTSTAMP:20260423T212414
CREATED:20180301T161405Z
LAST-MODIFIED:20180301T161405Z
UID:14071-1520668800-1520701200@www.thewwa.com
SUMMARY:Pig On The Pond
DESCRIPTION:Info coming soon…								\n				\n				\n				\n									\n					\n						\n									Event Registration
URL:https://www.thewwa.com/event/pig-on-the-pond/
LOCATION:Waterfront Park
ATTACH;FMTTYPE=image/png:https://www.thewwa.com/wp-content/uploads/2018/03/Screen-Shot-2018-03-01-at-12.12.34-PM.png
END:VEVENT
END:VCALENDAR