BEGIN:VCALENDAR
VERSION:2.0
PRODID:-//World Wake Association - ECPv6.15.17//NONSGML v1.0//EN
CALSCALE:GREGORIAN
METHOD:PUBLISH
X-WR-CALNAME:World Wake Association
X-ORIGINAL-URL:https://www.thewwa.com
X-WR-CALDESC:Events for World Wake Association
REFRESH-INTERVAL;VALUE=DURATION:PT1H
X-Robots-Tag:noindex
X-PUBLISHED-TTL:PT1H
BEGIN:VTIMEZONE
TZID:America/Halifax
BEGIN:DAYLIGHT
TZOFFSETFROM:-0400
TZOFFSETTO:-0300
TZNAME:ADT
DTSTART:20170312T060000
END:DAYLIGHT
BEGIN:STANDARD
TZOFFSETFROM:-0300
TZOFFSETTO:-0400
TZNAME:AST
DTSTART:20171105T050000
END:STANDARD
BEGIN:DAYLIGHT
TZOFFSETFROM:-0400
TZOFFSETTO:-0300
TZNAME:ADT
DTSTART:20180311T060000
END:DAYLIGHT
BEGIN:STANDARD
TZOFFSETFROM:-0300
TZOFFSETTO:-0400
TZNAME:AST
DTSTART:20181104T050000
END:STANDARD
BEGIN:DAYLIGHT
TZOFFSETFROM:-0400
TZOFFSETTO:-0300
TZNAME:ADT
DTSTART:20190310T060000
END:DAYLIGHT
BEGIN:STANDARD
TZOFFSETFROM:-0300
TZOFFSETTO:-0400
TZNAME:AST
DTSTART:20191103T050000
END:STANDARD
END:VTIMEZONE
BEGIN:VTIMEZONE
TZID:America/New_York
BEGIN:DAYLIGHT
TZOFFSETFROM:-0500
TZOFFSETTO:-0400
TZNAME:EDT
DTSTART:20170312T070000
END:DAYLIGHT
BEGIN:STANDARD
TZOFFSETFROM:-0400
TZOFFSETTO:-0500
TZNAME:EST
DTSTART:20171105T060000
END:STANDARD
BEGIN:DAYLIGHT
TZOFFSETFROM:-0500
TZOFFSETTO:-0400
TZNAME:EDT
DTSTART:20180311T070000
END:DAYLIGHT
BEGIN:STANDARD
TZOFFSETFROM:-0400
TZOFFSETTO:-0500
TZNAME:EST
DTSTART:20181104T060000
END:STANDARD
BEGIN:DAYLIGHT
TZOFFSETFROM:-0500
TZOFFSETTO:-0400
TZNAME:EDT
DTSTART:20190310T070000
END:DAYLIGHT
BEGIN:STANDARD
TZOFFSETFROM:-0400
TZOFFSETTO:-0500
TZNAME:EST
DTSTART:20191103T060000
END:STANDARD
END:VTIMEZONE
BEGIN:VEVENT
DTSTART;TZID=America/Halifax:20180707T130000
DTEND;TZID=America/Halifax:20180708T190000
DTSTAMP:20260425T204126
CREATED:20180614T160448Z
LAST-MODIFIED:20180620T101246Z
UID:14895-1530968400-1531076400@www.thewwa.com
SUMMARY:Wake Series 18- Circuito Nacional de Cable - 1ª Etapa
DESCRIPTION:Info coming soon…								\n				\n				\n				\n									\n					\n						\n									Event Registration
URL:https://www.thewwa.com/event/wake-series-18-circuito-nacional-de-cable-1a-etapa/
LOCATION:Cable de Aldeia do Mato\, Praia Fluvial de Aldeia do Mato\, Abrantes\, Portugal
CATEGORIES:Portugal
ATTACH;FMTTYPE=image/png:https://www.thewwa.com/wp-content/uploads/2018/06/Banner1000x560_WS18_ABR-1.png
ORGANIZER;CN="WWA Portugal":MAILTO:info@apww.pt
END:VEVENT
BEGIN:VEVENT
DTSTART;TZID=America/New_York:20180707T080000
DTEND;TZID=America/New_York:20180707T170000
DTSTAMP:20260425T204126
CREATED:20180309T154343Z
LAST-MODIFIED:20180522T171437Z
UID:14014-1530950400-1530982800@www.thewwa.com
SUMMARY:Malibu Pro Card Qualifier #3 - 2018
DESCRIPTION:Info coming soon…								\n				\n				\n				\n									\n					\n						\n									Event Registration
URL:https://www.thewwa.com/event/malibu-pro-card-qualifier-3-2018/
LOCATION:Broadside Harbor Ski Lakes\, 21600 Look Ln\, Caldwell\, ID\, 83607\, United States
ATTACH;FMTTYPE=image/jpeg:https://www.thewwa.com/wp-content/uploads/2018/03/WWA_ProCard_WebTiles-Qualifiers_02_3.jpg
ORGANIZER;CN="World Wake Association":MAILTO:info@thewwa.com
END:VEVENT
BEGIN:VEVENT
DTSTART;TZID=America/New_York:20180707T080000
DTEND;TZID=America/New_York:20180707T170000
DTSTAMP:20260425T204126
CREATED:20180309T154306Z
LAST-MODIFIED:20180708T162654Z
UID:14010-1530950400-1530982800@www.thewwa.com
SUMMARY:WWA Wakeboard Regional Championships - West 2018
DESCRIPTION:Info coming soon…								\n				\n				\n				\n									\n					\n						\n									Event Registration
URL:https://www.thewwa.com/event/wwa-wakeboard-regional-championships-west-2018/
LOCATION:Broadside Harbor Ski Lakes\, 21600 Look Ln\, Caldwell\, ID\, 83607\, United States
ATTACH;FMTTYPE=image/jpeg:https://www.thewwa.com/wp-content/uploads/2018/03/WWA_RE2018_Tiles_Locations_01_west.jpg
ORGANIZER;CN="World Wake Association":MAILTO:info@thewwa.com
END:VEVENT
BEGIN:VEVENT
DTSTART;TZID=America/New_York:20180706T080000
DTEND;TZID=America/New_York:20180708T170000
DTSTAMP:20260425T204126
CREATED:20180309T154237Z
LAST-MODIFIED:20180708T162752Z
UID:14012-1530864000-1531069200@www.thewwa.com
SUMMARY:Malibu Rider Experience - West 2018
DESCRIPTION:Info coming soon…								\n				\n				\n				\n									\n					\n						\n									Event Registration
URL:https://www.thewwa.com/event/malibu-rider-experience-west-2018/
LOCATION:Broadside Harbor Ski Lakes\, 21600 Look Ln\, Caldwell\, ID\, 83607\, United States
ATTACH;FMTTYPE=image/jpeg:https://www.thewwa.com/wp-content/uploads/2018/05/WWA_RE2018_Tiles_Locations_03_west.jpg
ORGANIZER;CN="World Wake Association":MAILTO:info@thewwa.com
END:VEVENT
BEGIN:VEVENT
DTSTART;TZID=America/Halifax:20180630T080000
DTEND;TZID=America/Halifax:20180701T170000
DTSTAMP:20260425T204126
CREATED:20180503T133324Z
LAST-MODIFIED:20180626T171546Z
UID:14696-1530345600-1530464400@www.thewwa.com
SUMMARY:Malibu Factory Smoky Mountain Pro presented by Rockstar Energy 2018
DESCRIPTION:Info coming soon…								\n				\n				\n				\n									\n					\n						\n									Event Registration
URL:https://www.thewwa.com/event/malibu-factory-smoky-mountain-pro-presented-by-rockstar-energy-2018/
LOCATION:Malibu Boats Factory\, 5075 Kimberly Way\, Loudon\, TN\, 37774\, United States
ATTACH;FMTTYPE=image/jpeg:https://www.thewwa.com/wp-content/uploads/2018/05/WWA_WBWS_Tiles2018_Malibu_01.jpg
ORGANIZER;CN="World Wake Association":MAILTO:info@thewwa.com
END:VEVENT
BEGIN:VEVENT
DTSTART;TZID=America/Halifax:20180628T090000
DTEND;TZID=America/Halifax:20180630T210000
DTSTAMP:20260425T204126
CREATED:20180608T183834Z
LAST-MODIFIED:20180615T143346Z
UID:14853-1530176400-1530392400@www.thewwa.com
SUMMARY:Circuito Mundial Tomar Pro Wakeboard
DESCRIPTION:Info coming soon…								\n				\n				\n				\n									\n					\n						\n									Event Registration
URL:https://www.thewwa.com/event/circuito-mundial-tomar-pro-wakeboard/
LOCATION:Mouchão Park\, United States
CATEGORIES:Portugal,WPWS
ATTACH;FMTTYPE=image/png:https://www.thewwa.com/wp-content/uploads/2018/06/BannerTomarPRO_1000x560.png
ORGANIZER;CN="Wakeboard Portugal":MAILTO:andre@thewwa.com
END:VEVENT
BEGIN:VEVENT
DTSTART;TZID=America/New_York:20180623T080000
DTEND;TZID=America/New_York:20180624T170000
DTSTAMP:20260425T204126
CREATED:20180226T153908Z
LAST-MODIFIED:20180314T192154Z
UID:14062-1529740800-1529859600@www.thewwa.com
SUMMARY:Girls Ride The Wake
DESCRIPTION:Info coming soon…								\n				\n				\n				\n									\n					\n						\n									Event Registration
URL:https://www.thewwa.com/event/girls-ride-the-wake-2/
LOCATION:Girls Ride The Wake\, 15199 Glascock Rd\, Lodi\, CA\, 95242\, United States
ATTACH;FMTTYPE=image/png:https://www.thewwa.com/wp-content/uploads/2018/02/Screen-Shot-2018-02-26-at-11.38.00-AM.png
ORGANIZER;CN="Girls Ride The Wake":MAILTO:info@girlsridethewake.com
END:VEVENT
BEGIN:VEVENT
DTSTART;TZID=America/New_York:20180623T080000
DTEND;TZID=America/New_York:20180623T170000
DTSTAMP:20260425T204126
CREATED:20180402T172458Z
LAST-MODIFIED:20180402T172458Z
UID:14472-1529740800-1529773200@www.thewwa.com
SUMMARY:Gravel Tour Stop #3 - Performance Ski & Surf
DESCRIPTION:Info coming soon…								\n				\n				\n				\n									\n					\n						\n									Event Registration
URL:https://www.thewwa.com/event/gravel-tour-stop-3-performance-ski-surf/
LOCATION:Orlando Watersports Complex\, 8615 Florida Rock Rd\, Orlando\, FL\, 32824\, United States
ATTACH;FMTTYPE=image/png:https://www.thewwa.com/wp-content/uploads/2018/04/Screen-Shot-2018-04-02-at-1.12.39-PM.png
END:VEVENT
BEGIN:VEVENT
DTSTART;TZID=America/New_York:20180623T080000
DTEND;TZID=America/New_York:20180623T170000
DTSTAMP:20260425T204126
CREATED:20180309T154126Z
LAST-MODIFIED:20180614T132439Z
UID:14008-1529740800-1529773200@www.thewwa.com
SUMMARY:Malibu Pro Card Qualifier #2 - 2018
DESCRIPTION:Info coming soon…								\n				\n				\n				\n									\n					\n						\n									Event Registration
URL:https://www.thewwa.com/event/malibu-pro-card-qualifier-2-2018/
LOCATION:Bagnell Dam Strip Cove\, 1028 Bagnell Dam Blvd\, Lake Ozark\, MO\, 65049\, United States
ATTACH;FMTTYPE=image/jpeg:https://www.thewwa.com/wp-content/uploads/2018/03/WWA_ProCard_WebTiles-Qualifiers_02_2.jpg
ORGANIZER;CN="World Wake Association":MAILTO:info@thewwa.com
END:VEVENT
BEGIN:VEVENT
DTSTART;TZID=America/New_York:20180623T080000
DTEND;TZID=America/New_York:20180623T170000
DTSTAMP:20260425T204126
CREATED:20180309T154037Z
LAST-MODIFIED:20180615T045012Z
UID:14004-1529740800-1529773200@www.thewwa.com
SUMMARY:WWA Wakeboard Regional Championships - Central 2018
DESCRIPTION:Info coming soon…								\n				\n				\n				\n									\n					\n						\n									Event Registration
URL:https://www.thewwa.com/event/wwa-wakeboard-regional-championships-central-2018/
LOCATION:Bagnell Dam Strip Cove\, 1028 Bagnell Dam Blvd\, Lake Ozark\, MO\, 65049\, United States
ATTACH;FMTTYPE=image/jpeg:https://www.thewwa.com/wp-content/uploads/2018/03/WWA_RE2018_Tiles_Locations_01_central.jpg
ORGANIZER;CN="World Wake Association":MAILTO:info@thewwa.com
END:VEVENT
BEGIN:VEVENT
DTSTART;TZID=America/Halifax:20180622T080000
DTEND;TZID=America/Halifax:20180624T170000
DTSTAMP:20260425T204126
CREATED:20180510T184633Z
LAST-MODIFIED:20180510T184633Z
UID:14759-1529654400-1529859600@www.thewwa.com
SUMMARY:Crescent Bar River Fest - WA INT Stop #3
DESCRIPTION:Info coming soon…								\n				\n				\n				\n									\n					\n						\n									Event Registration
URL:https://www.thewwa.com/event/crescent-bar-river-fest-wa-int-stop-3/
LOCATION:Crescent Bar Recreation Area\, 8866 Crescent Bar Rd NW\, Quincy\, WA\, 98848\, United States
ATTACH;FMTTYPE=image/jpeg:https://www.thewwa.com/wp-content/uploads/2012/08/INTCircleLogo_small.jpg
ORGANIZER;CN="WA INT League":MAILTO:WA@intleague.com
END:VEVENT
BEGIN:VEVENT
DTSTART;TZID=America/New_York:20180622T080000
DTEND;TZID=America/New_York:20180624T170000
DTSTAMP:20260425T204126
CREATED:20180309T154156Z
LAST-MODIFIED:20180625T011847Z
UID:14006-1529654400-1529859600@www.thewwa.com
SUMMARY:Malibu Rider Experience Central 2018
DESCRIPTION:Info coming soon…								\n				\n				\n				\n									\n					\n						\n									Event Registration
URL:https://www.thewwa.com/event/malibu-rider-experience-central-2018/
LOCATION:Bagnell Dam Strip Cove\, 1028 Bagnell Dam Blvd\, Lake Ozark\, MO\, 65049\, United States
ATTACH;FMTTYPE=image/jpeg:https://www.thewwa.com/wp-content/uploads/2018/03/WWA_RE2018_Tiles_Locations_02_central.jpg
ORGANIZER;CN="World Wake Association":MAILTO:info@thewwa.com
END:VEVENT
BEGIN:VEVENT
DTSTART;TZID=America/Halifax:20180616T080000
DTEND;TZID=America/Halifax:20180616T170000
DTSTAMP:20260425T204126
CREATED:20180503T180826Z
LAST-MODIFIED:20180503T180858Z
UID:14704-1529136000-1529168400@www.thewwa.com
SUMMARY:South FL Marine Play Day
DESCRIPTION:Info coming soon…								\n				\n				\n				\n									\n					\n						\n									Event Registration
URL:https://www.thewwa.com/event/south-fl-marine/
LOCATION:Anchor Inn\, Lake Osbourne\, Lantana\, FL\, 33462\, United States
ATTACH;FMTTYPE=image/jpeg:https://www.thewwa.com/wp-content/uploads/2018/05/Play-Day-Flyer-2018.jpg
END:VEVENT
BEGIN:VEVENT
DTSTART;TZID=America/New_York:20180616T080000
DTEND;TZID=America/New_York:20180616T170000
DTSTAMP:20260425T204126
CREATED:20180306T161242Z
LAST-MODIFIED:20180314T192241Z
UID:14116-1529136000-1529168400@www.thewwa.com
SUMMARY:GA Wake Series Stop #4 - WakeFest GA
DESCRIPTION:Info coming soon…								\n				\n				\n				\n									\n					\n						\n									Event Registration
URL:https://www.thewwa.com/event/ga-wake-series-stop-4-wakefest-ga/
LOCATION:WakeFest GA\, Chehaw Park\, Albany\, United States
ATTACH;FMTTYPE=image/jpeg:https://www.thewwa.com/wp-content/uploads/2018/03/GAWS-logo.jpg
END:VEVENT
BEGIN:VEVENT
DTSTART;TZID=America/New_York:20180616T080000
DTEND;TZID=America/New_York:20180616T170000
DTSTAMP:20260425T204126
CREATED:20180306T154323Z
LAST-MODIFIED:20180306T155150Z
UID:14095-1529136000-1529168400@www.thewwa.com
SUMMARY:Pro Wakeboard Tour Stop #3
DESCRIPTION:Info coming soon…								\n				\n				\n				\n									\n					\n						\n									Event Registration
URL:https://www.thewwa.com/event/pro-wakeboard-tour-stop-3/
LOCATION:Stumpy Creek Boat Landing\, State Rd 1301\, Mooresville\, NC\, 28117\, United States
END:VEVENT
BEGIN:VEVENT
DTSTART;TZID=America/New_York:20180614T080000
DTEND;TZID=America/New_York:20180616T170000
DTSTAMP:20260425T204126
CREATED:20180423T202917Z
LAST-MODIFIED:20180426T184004Z
UID:14634-1528963200-1529168400@www.thewwa.com
SUMMARY:Shark Wake Park Open
DESCRIPTION:Info coming soon…								\n				\n				\n				\n									\n					\n						\n									Event Registration
URL:https://www.thewwa.com/event/shark-wake-park-open/
LOCATION:Shark Wake Park – North Myrtle Beach\, 150 Citizens Circle\, Little River\, SC\, 29566\, United States
CATEGORIES:WPWS
ATTACH;FMTTYPE=image/jpeg:https://www.thewwa.com/wp-content/uploads/2018/04/WWA_WPWS_Tiles2018_02_shark.jpg
END:VEVENT
BEGIN:VEVENT
DTSTART;TZID=America/New_York:20180610T080000
DTEND;TZID=America/New_York:20180610T170000
DTSTAMP:20260425T204126
CREATED:20180306T160952Z
LAST-MODIFIED:20180314T192331Z
UID:14113-1528617600-1528650000@www.thewwa.com
SUMMARY:GA Wake Series Stop #3 - Lake Lanier Olympic Park
DESCRIPTION:Info coming soon…								\n				\n				\n				\n									\n					\n						\n									Event Registration
URL:https://www.thewwa.com/event/ga-wake-series-stop-3-lake-lanier-olympic-park/
LOCATION:Lake Lanier Olympic Park\, 3105 Clarks Bridge Rd\, Gainesville\, GA\, United States
ATTACH;FMTTYPE=image/jpeg:https://www.thewwa.com/wp-content/uploads/2018/03/GAWS-logo.jpg
END:VEVENT
BEGIN:VEVENT
DTSTART;TZID=America/Halifax:20180608T080000
DTEND;TZID=America/Halifax:20180609T170000
DTSTAMP:20260425T204126
CREATED:20180501T202731Z
LAST-MODIFIED:20180501T202731Z
UID:14679-1528444800-1528563600@www.thewwa.com
SUMMARY:Spring 2 Summer - Wake Factory
DESCRIPTION:Info coming soon…								\n				\n				\n				\n									\n					\n						\n									Event Registration
URL:https://www.thewwa.com/event/spring-2-summer-wake-factory/
LOCATION:Steel Ford Boat Ramp\, 2600 Thomas Avenue\, Guntersville\, AL\, 35976\, United States
ATTACH;FMTTYPE=image/jpeg:https://www.thewwa.com/wp-content/uploads/2018/05/30072740_10156210799529471_7881943944222154855_o.jpg
END:VEVENT
BEGIN:VEVENT
DTSTART;TZID=America/Halifax:20180607T080000
DTEND;TZID=America/Halifax:20180609T170000
DTSTAMP:20260425T204126
CREATED:20180427T151303Z
LAST-MODIFIED:20180427T151303Z
UID:14659-1528358400-1528563600@www.thewwa.com
SUMMARY:SC INT Stop #3 - Taste of the Creek
DESCRIPTION:Info coming soon…								\n				\n				\n				\n									\n					\n						\n									Event Registration
URL:https://www.thewwa.com/event/sc-int-stop-3-taste-of-the-creek/
LOCATION:Byou Creek\, Orangeburg\, SC\, United States
ATTACH;FMTTYPE=image/jpeg:https://www.thewwa.com/wp-content/uploads/2012/08/INTCircleLogo_small.jpg
ORGANIZER;CN="SC INT League":MAILTO:scwatersports@gmail.com
END:VEVENT
BEGIN:VEVENT
DTSTART;TZID=America/New_York:20180602T080000
DTEND;TZID=America/New_York:20180602T170000
DTSTAMP:20260425T204126
CREATED:20180309T154708Z
LAST-MODIFIED:20180502T134148Z
UID:13998-1527926400-1527958800@www.thewwa.com
SUMMARY:WWA Wakeboard Regional Championships - South 2018
DESCRIPTION:Info coming soon…								\n				\n				\n				\n									\n					\n						\n									Event Registration
URL:https://www.thewwa.com/event/wwa-wakeboard-regional-championships-south-2018/
LOCATION:Freedom Wake Park\, 7200 Lake Ellenor Dr.\, Orlando\, FL\, 32809\, United States
ATTACH;FMTTYPE=image/jpeg:https://www.thewwa.com/wp-content/uploads/2018/03/WWA_RE2018_Tiles_Locations_01_south.jpg
ORGANIZER;CN="World Wake Association":MAILTO:info@thewwa.com
END:VEVENT
BEGIN:VEVENT
DTSTART;TZID=America/New_York:20180602T080000
DTEND;TZID=America/New_York:20180602T170000
DTSTAMP:20260425T204126
CREATED:20180309T154631Z
LAST-MODIFIED:20180427T204701Z
UID:14002-1527926400-1527958800@www.thewwa.com
SUMMARY:Malibu Pro Card Qualifier #1 - 2018
DESCRIPTION:Info coming soon…								\n				\n				\n				\n									\n					\n						\n									Event Registration
URL:https://www.thewwa.com/event/malibu-pro-card-qualifier-1-2018/
LOCATION:Freedom Wake Park\, 7200 Lake Ellenor Dr.\, Orlando\, FL\, 32809\, United States
ATTACH;FMTTYPE=image/jpeg:https://www.thewwa.com/wp-content/uploads/2018/03/WWA_ProCard_WebTiles-Qualifiers_02_1.jpg
ORGANIZER;CN="World Wake Association":MAILTO:info@thewwa.com
END:VEVENT
BEGIN:VEVENT
DTSTART;TZID=America/Halifax:20180601T080000
DTEND;TZID=America/Halifax:20180603T170000
DTSTAMP:20260425T204126
CREATED:20180427T155657Z
LAST-MODIFIED:20180427T155657Z
UID:14661-1527840000-1528045200@www.thewwa.com
SUMMARY:SC INT Stop 3 1- Boarders Bash
DESCRIPTION:Info coming soon…								\n				\n				\n				\n									\n					\n						\n									Event Registration
URL:https://www.thewwa.com/event/sc-int-stop-3-1-boarders-bash/
LOCATION:Hartwell Project Office\, 5625 Anderson Highway\, Hartwell\, GA\, 30643\, United States
ATTACH;FMTTYPE=image/jpeg:https://www.thewwa.com/wp-content/uploads/2012/08/INTCircleLogo_small.jpg
ORGANIZER;CN="SC INT League":MAILTO:scwatersports@gmail.com
END:VEVENT
BEGIN:VEVENT
DTSTART;TZID=America/New_York:20180601T080000
DTEND;TZID=America/New_York:20180603T170000
DTSTAMP:20260425T204126
CREATED:20180309T153951Z
LAST-MODIFIED:20180603T201340Z
UID:14000-1527840000-1528045200@www.thewwa.com
SUMMARY:Malibu Rider Experience - South 2018
DESCRIPTION:Info coming soon…								\n				\n				\n				\n									\n					\n						\n									Event Registration
URL:https://www.thewwa.com/event/malibu-rider-experience-south-2018/
LOCATION:Freedom Wake Park\, 7200 Lake Ellenor Dr.\, Orlando\, FL\, 32809\, United States
ATTACH;FMTTYPE=image/jpeg:https://www.thewwa.com/wp-content/uploads/2018/03/WWA_RE2018_Tiles_Locations_01_south.jpg
ORGANIZER;CN="World Wake Association":MAILTO:info@thewwa.com
END:VEVENT
BEGIN:VEVENT
DTSTART;TZID=America/Halifax:20180526T080000
DTEND;TZID=America/Halifax:20180527T170000
DTSTAMP:20260425T204126
CREATED:20180503T175449Z
LAST-MODIFIED:20180503T175449Z
UID:14699-1527321600-1527440400@www.thewwa.com
SUMMARY:A National Salute to American Heroes
DESCRIPTION:Info coming soon…								\n				\n				\n				\n									\n					\n						\n									Event Registration
URL:https://www.thewwa.com/event/a-national-salute-to-american-heroes/
LOCATION:Miami Beach\, Miami Beach\, FL\, United States
ATTACH;FMTTYPE=image/png:https://www.thewwa.com/wp-content/uploads/2018/05/header-logo-with-date-2.png
ORGANIZER;CN="A National Salute to American Heroes%2C LLC":MAILTO:mickey@mdmgroup.com
END:VEVENT
BEGIN:VEVENT
DTSTART;TZID=America/New_York:20180525T080000
DTEND;TZID=America/New_York:20180527T170000
DTSTAMP:20260425T204126
CREATED:20180312T152015Z
LAST-MODIFIED:20180404T141232Z
UID:14229-1527235200-1527440400@www.thewwa.com
SUMMARY:Malibu WWA Asian Wake Series - Macau 2018
DESCRIPTION:Info coming soon…								\n				\n				\n				\n									\n					\n						\n									Event Registration
URL:https://www.thewwa.com/event/wwa-asian-wake-series-china-2018/
LOCATION:Fisherman’s Wharf Park\, Macau\, China
ATTACH;FMTTYPE=image/png:https://www.thewwa.com/wp-content/uploads/2018/03/Asian-Wake-Series-18-tiles-02-1-scaled.png
END:VEVENT
BEGIN:VEVENT
DTSTART;TZID=America/New_York:20180525T080000
DTEND;TZID=America/New_York:20180527T160000
DTSTAMP:20260425T204126
CREATED:20180110T155954Z
LAST-MODIFIED:20180110T201922Z
UID:13776-1527235200-1527436800@www.thewwa.com
SUMMARY:2018 Nautique Masters Water Ski & Wakeboard Tournament presented by GM Marine Engine Technology
DESCRIPTION:Info coming soon…								\n				\n				\n				\n									\n					\n						\n									Event Registration
URL:https://www.thewwa.com/event/nautique-masters-waterski-wakeboard-tournament-2018/
LOCATION:Callaway Gardens\, 3 Mile Beach Drive\, Pine Mountain\, GA\, 31822\, United States
CATEGORIES:Nautique Wake Series,WBWS
ATTACH;FMTTYPE=image/jpeg:https://www.thewwa.com/wp-content/uploads/2018/01/WWA_WBWS_Tiles2018_NWS_02C.jpg
ORGANIZER;CN="World Wake Association":MAILTO:info@thewwa.com
END:VEVENT
BEGIN:VEVENT
DTSTART;TZID=America/Halifax:20180523T120000
DTEND;TZID=America/Halifax:20180523T190000
DTSTAMP:20260425T204126
CREATED:20180515T132606Z
LAST-MODIFIED:20180515T134411Z
UID:14771-1527076800-1527102000@www.thewwa.com
SUMMARY:Feet on Fire
DESCRIPTION:Info coming soon…								\n				\n				\n				\n									\n					\n						\n									Event Registration
URL:https://www.thewwa.com/event/feet-on-fire/
LOCATION:The Waterfront Orlando\, 4201 S Orange Ave\, Orlando\, FL\, 32806\, United States
ATTACH;FMTTYPE=image/jpeg:https://www.thewwa.com/wp-content/uploads/2018/05/Logo.jpg
ORGANIZER;CN="Touch of the North Events%2C LLC":MAILTO:Dano2340@aol.com
END:VEVENT
BEGIN:VEVENT
DTSTART;TZID=America/Halifax:20180519T080000
DTEND;TZID=America/Halifax:20180520T170000
DTSTAMP:20260425T204126
CREATED:20180503T182954Z
LAST-MODIFIED:20180503T182954Z
UID:14713-1526716800-1526835600@www.thewwa.com
SUMMARY:Mountain Wake Games - Southern Wake Series Stop #1
DESCRIPTION:Info coming soon…								\n				\n				\n				\n									\n					\n						\n									Event Registration
URL:https://www.thewwa.com/event/mountain-wake-games-southern-wake-series-stop-1/
LOCATION:Oak Mountain State Park\, 20 Terrace Drive\, Pelham\, AL\, 35124\, United States
ATTACH;FMTTYPE=image/jpeg:https://www.thewwa.com/wp-content/uploads/2018/05/9623f9_b0e11bbba14d48b4b7ac4aedad045617mv2.jpg
ORGANIZER;CN="Flip Side Watersports of AL":MAILTO:info@flipsideal.com
END:VEVENT
BEGIN:VEVENT
DTSTART;TZID=America/New_York:20180519T080000
DTEND;TZID=America/New_York:20180519T170000
DTSTAMP:20260425T204126
CREATED:20180306T154445Z
LAST-MODIFIED:20180306T155230Z
UID:14097-1526716800-1526749200@www.thewwa.com
SUMMARY:Pro Wakeboard Tour Stop #2
DESCRIPTION:Info coming soon…								\n				\n				\n				\n									\n					\n						\n									Event Registration
URL:https://www.thewwa.com/event/pro-wakeboard-tour-stop-2/
LOCATION:Dallas Landing Park\, 5120 Allatoona Dr\, Acworth\, GA\, 30101\, United States
END:VEVENT
BEGIN:VEVENT
DTSTART;TZID=America/Halifax:20180518T080000
DTEND;TZID=America/Halifax:20180520T170000
DTSTAMP:20260425T204126
CREATED:20180514T145130Z
LAST-MODIFIED:20180514T145130Z
UID:14768-1526630400-1526835600@www.thewwa.com
SUMMARY:Wake for Warriors - Lake Altoona
DESCRIPTION:Info coming soon…								\n				\n				\n				\n									\n					\n						\n									Event Registration
URL:https://www.thewwa.com/event/wake-for-warriors-lake-altoona/
LOCATION:Navy Recration Facility at Lake Allatoona\, GA\, United States
ATTACH;FMTTYPE=image/png:https://www.thewwa.com/wp-content/uploads/2018/05/Wake-For-Warriors-logl.png
ORGANIZER;CN="Wake for Warriors":MAILTO:djdeep@wakeforwarriors.org
END:VEVENT
END:VCALENDAR