BEGIN:VCALENDAR
VERSION:2.0
PRODID:-//World Wake Association - ECPv6.15.17//NONSGML v1.0//EN
CALSCALE:GREGORIAN
METHOD:PUBLISH
X-WR-CALNAME:World Wake Association
X-ORIGINAL-URL:https://www.thewwa.com
X-WR-CALDESC:Events for World Wake Association
REFRESH-INTERVAL;VALUE=DURATION:PT1H
X-Robots-Tag:noindex
X-PUBLISHED-TTL:PT1H
BEGIN:VTIMEZONE
TZID:America/Halifax
BEGIN:DAYLIGHT
TZOFFSETFROM:-0400
TZOFFSETTO:-0300
TZNAME:ADT
DTSTART:20210314T060000
END:DAYLIGHT
BEGIN:STANDARD
TZOFFSETFROM:-0300
TZOFFSETTO:-0400
TZNAME:AST
DTSTART:20211107T050000
END:STANDARD
BEGIN:DAYLIGHT
TZOFFSETFROM:-0400
TZOFFSETTO:-0300
TZNAME:ADT
DTSTART:20220313T060000
END:DAYLIGHT
BEGIN:STANDARD
TZOFFSETFROM:-0300
TZOFFSETTO:-0400
TZNAME:AST
DTSTART:20221106T050000
END:STANDARD
BEGIN:DAYLIGHT
TZOFFSETFROM:-0400
TZOFFSETTO:-0300
TZNAME:ADT
DTSTART:20230312T060000
END:DAYLIGHT
BEGIN:STANDARD
TZOFFSETFROM:-0300
TZOFFSETTO:-0400
TZNAME:AST
DTSTART:20231105T050000
END:STANDARD
END:VTIMEZONE
BEGIN:VEVENT
DTSTART;VALUE=DATE:20221030
DTEND;VALUE=DATE:20221031
DTSTAMP:20260424T061519
CREATED:20221017T172830Z
LAST-MODIFIED:20221017T172830Z
UID:21883-1667088000-1667174399@www.thewwa.com
SUMMARY:2nd Annual Halloween Fun Ride
DESCRIPTION:Info coming soon…								\n				\n				\n				\n									\n					\n						\n									Event Registration
URL:https://www.thewwa.com/event/2nd-annual-halloween-fun-ride/
LOCATION:Orlando Watersports Complex\, 8615 Florida Rock Rd\, Orlando\, FL\, 32824\, United States
ATTACH;FMTTYPE=image/jpeg:https://www.thewwa.com/wp-content/uploads/2022/10/Halloween-Fun-Ride-IG3.jpg
END:VEVENT
BEGIN:VEVENT
DTSTART;VALUE=DATE:20221022
DTEND;VALUE=DATE:20221023
DTSTAMP:20260424T061519
CREATED:20220913T161643Z
LAST-MODIFIED:20221012T133139Z
UID:21864-1666396800-1666483199@www.thewwa.com
SUMMARY:2022 Heyday Collegiate Cup Powered by Wake U
DESCRIPTION:Info coming soon…								\n				\n				\n				\n									\n					\n						\n									Event Registration
URL:https://www.thewwa.com/event/2022-heyday-collegiate-cup-powered-by-wake-u/
LOCATION:Lake David Park\, Groveland\, FL.\, 450 S Lake Ave\, Groveland\, FL\, 34736\, United States
ATTACH;FMTTYPE=image/png:https://www.thewwa.com/wp-content/uploads/2022/09/MicrosoftTeams-image-4.png
END:VEVENT
BEGIN:VEVENT
DTSTART;VALUE=DATE:20220908
DTEND;VALUE=DATE:20220912
DTSTAMP:20260424T061519
CREATED:20211201T170803Z
LAST-MODIFIED:20220903T160514Z
UID:21019-1662595200-1662940799@www.thewwa.com
SUMMARY:Nautique Wakesurf Masters Championships 2022
DESCRIPTION:Info coming soon…								\n				\n				\n				\n									\n					\n						\n									Event Registration
URL:https://www.thewwa.com/event/nautique-wakesurf-masters-championships-2022/
LOCATION:Callaway Gardens\, 3 Mile Beach Drive\, Pine Mountain\, GA\, 31822\, United States
ATTACH;FMTTYPE=image/jpeg:https://www.thewwa.com/wp-content/uploads/2021/12/Wakesurf-Masters-Header.jpg
ORGANIZER;CN="World Wake Association":MAILTO:info@thewwa.com
END:VEVENT
BEGIN:VEVENT
DTSTART;VALUE=DATE:20220908
DTEND;VALUE=DATE:20220912
DTSTAMP:20260424T061519
CREATED:20211122T180550Z
LAST-MODIFIED:20220903T160807Z
UID:21015-1662595200-1662940799@www.thewwa.com
SUMMARY:Nautique WWA Wakeboard World Championships 2022
DESCRIPTION:Info coming soon…								\n				\n				\n				\n									\n					\n						\n									Event Registration
URL:https://www.thewwa.com/event/nautique-wwa-wakeboard-world-championships-2022/
LOCATION:Callaway Gardens\, 3 Mile Beach Drive\, Pine Mountain\, GA\, 31822\, United States
CATEGORIES:Nautique Wake Series,USA,WBWS
ATTACH;FMTTYPE=image/jpeg:https://www.thewwa.com/wp-content/uploads/2021/12/Wakeboard-Worlds-Header.jpg
ORGANIZER;CN="World Wake Association":MAILTO:info@thewwa.com
END:VEVENT
BEGIN:VEVENT
DTSTART;VALUE=DATE:20220826
DTEND;VALUE=DATE:20220829
DTSTAMP:20260424T061519
CREATED:20211206T132709Z
LAST-MODIFIED:20220824T175657Z
UID:21012-1661472000-1661731199@www.thewwa.com
SUMMARY:Nautique Southwest Regatta 2022
DESCRIPTION:Info coming soon…								\n				\n				\n				\n									\n					\n						\n									Event Registration
URL:https://www.thewwa.com/event/nautique-southwest-regatta-2022/
LOCATION:Nautical Beachfront Resort\, 1000 McCulloch Blvd N\, Lake Havasu City\, AZ\, 86403\, United States
ATTACH;FMTTYPE=image/jpeg:https://www.thewwa.com/wp-content/uploads/2021/11/2022-Southwest-Regatta-Header.jpg
ORGANIZER;CN="World Wake Association":MAILTO:info@thewwa.com
END:VEVENT
BEGIN:VEVENT
DTSTART;VALUE=DATE:20220815
DTEND;VALUE=DATE:20220816
DTSTAMP:20260424T061519
CREATED:20220727T210025Z
LAST-MODIFIED:20220727T210025Z
UID:21779-1660521600-1660607999@www.thewwa.com
SUMMARY:Pro Wakeboard Tour Stop #4
DESCRIPTION:Info coming soon…								\n				\n				\n				\n									\n					\n						\n									Event Registration
URL:https://www.thewwa.com/event/pro-wakeboard-tour-stop-4-3/
END:VEVENT
BEGIN:VEVENT
DTSTART;VALUE=DATE:20220813
DTEND;VALUE=DATE:20220815
DTSTAMP:20260424T061519
CREATED:20220727T205307Z
LAST-MODIFIED:20220727T205307Z
UID:21774-1660348800-1660521599@www.thewwa.com
SUMMARY:Battle By the Beach
DESCRIPTION:Info coming soon…								\n				\n				\n				\n									\n					\n						\n									Event Registration
URL:https://www.thewwa.com/event/battle-by-the-beach/
LOCATION:Acworth Beach\, 4425 Beach Street\, Acworth\, GA\, United States
END:VEVENT
BEGIN:VEVENT
DTSTART;VALUE=DATE:20220813
DTEND;VALUE=DATE:20220814
DTSTAMP:20260424T061519
CREATED:20220726T133134Z
LAST-MODIFIED:20220726T133134Z
UID:21762-1660348800-1660435199@www.thewwa.com
SUMMARY:Jersey Wake Off 2022
DESCRIPTION:Info coming soon…								\n				\n				\n				\n									\n					\n						\n									Event Registration
URL:https://www.thewwa.com/event/jersey-wake-off-2022/
LOCATION:Lake Forrest Yacht Club\, 35 Yacht Club Dr\, Lake Hopatcong\, NJ\, 07849\, United States
ATTACH;FMTTYPE=image/jpeg:https://www.thewwa.com/wp-content/uploads/2022/07/Jersey-Wake-Off-2022.jpg
END:VEVENT
BEGIN:VEVENT
DTSTART;VALUE=DATE:20220812
DTEND;VALUE=DATE:20220815
DTSTAMP:20260424T061519
CREATED:20220727T205821Z
LAST-MODIFIED:20220806T173021Z
UID:21777-1660262400-1660521599@www.thewwa.com
SUMMARY:Southern Plains Festival
DESCRIPTION:Info coming soon…								\n				\n				\n				\n									\n					\n						\n									Event Registration
URL:https://www.thewwa.com/event/southern-plains-festival/
END:VEVENT
BEGIN:VEVENT
DTSTART;VALUE=DATE:20220804
DTEND;VALUE=DATE:20220808
DTSTAMP:20260424T061519
CREATED:20220118T172214Z
LAST-MODIFIED:20220807T171700Z
UID:21031-1659571200-1659916799@www.thewwa.com
SUMMARY:Nautique WWA Wake Park National Championships 2022
DESCRIPTION:Info coming soon…								\n				\n				\n				\n									\n					\n						\n									Event Registration
URL:https://www.thewwa.com/event/nautique-wwa-wake-park-national-championships-2022/
LOCATION:Elite Cable Park\, 330 Denton Ave.\, Auburndale\, FL\, 33823\, United States
ATTACH;FMTTYPE=image/jpeg:https://www.thewwa.com/wp-content/uploads/2021/11/22-WPN-Header.jpg
ORGANIZER;CN="World Wake Association":MAILTO:info@thewwa.com
END:VEVENT
BEGIN:VEVENT
DTSTART;VALUE=DATE:20220804
DTEND;VALUE=DATE:20220808
DTSTAMP:20260424T061519
CREATED:20211201T172133Z
LAST-MODIFIED:20220915T155755Z
UID:21005-1659571200-1659916799@www.thewwa.com
SUMMARY:Nautique USA National Wakesurf Championships 2022
DESCRIPTION:Info coming soon…								\n				\n				\n				\n									\n					\n						\n									Event Registration
URL:https://www.thewwa.com/event/nautique-usa-national-wakesurf-championships-2022/
LOCATION:Lake Silver\, 505 Avenue I NW\, Winter Haven\, FL\, 33881\, United States
ATTACH;FMTTYPE=image/png:https://www.thewwa.com/wp-content/uploads/2021/12/Wakesurf-Nationals-Event-Header.png
ORGANIZER;CN="World Wake Association":MAILTO:info@thewwa.com
END:VEVENT
BEGIN:VEVENT
DTSTART;VALUE=DATE:20220804
DTEND;VALUE=DATE:20220808
DTSTAMP:20260424T061519
CREATED:20211122T180455Z
LAST-MODIFIED:20220807T192532Z
UID:21003-1659571200-1659916799@www.thewwa.com
SUMMARY:Nautique WWA Wakeboard National Championships 2022
DESCRIPTION:Info coming soon…								\n				\n				\n				\n									\n					\n						\n									Event Registration
URL:https://www.thewwa.com/event/nautique-wwa-wakeboard-national-championships-2022/
LOCATION:Lake Silver\, 505 Avenue I NW\, Winter Haven\, FL\, 33881\, United States
CATEGORIES:Nautique Wake Series,USA,WBWS
ATTACH;FMTTYPE=image/jpeg:https://www.thewwa.com/wp-content/uploads/2021/11/22-Wakeboard-Nationals-Header-1.jpg
ORGANIZER;CN="World Wake Association":MAILTO:info@thewwa.com
END:VEVENT
BEGIN:VEVENT
DTSTART;VALUE=DATE:20220803
DTEND;VALUE=DATE:20220804
DTSTAMP:20260424T061519
CREATED:20220726T212017Z
LAST-MODIFIED:20220726T212017Z
UID:21768-1659484800-1659571199@www.thewwa.com
SUMMARY:Boat House Amateur Wakesurf Competition 2022
DESCRIPTION:Info coming soon…								\n				\n				\n				\n									\n					\n						\n									Event Registration
URL:https://www.thewwa.com/event/boat-house-amateur-wakesurf-competition-2022/
LOCATION:The Boat House Bar and Grill\, N2062 S. Lake Shore Dr.\, Lake Geneva\, WI\, United States
ATTACH;FMTTYPE=image/jpeg:https://www.thewwa.com/wp-content/uploads/2022/07/293556251_3308729169351007_7312883055132926716_n.jpg
END:VEVENT
BEGIN:VEVENT
DTSTART;VALUE=DATE:20220730
DTEND;VALUE=DATE:20220731
DTSTAMP:20260424T061519
CREATED:20220630T191721Z
LAST-MODIFIED:20220630T191721Z
UID:21744-1659139200-1659225599@www.thewwa.com
SUMMARY:Paragon Pipeline
DESCRIPTION:Info coming soon…								\n				\n				\n				\n									\n					\n						\n									Event Registration
URL:https://www.thewwa.com/event/paragon-pipeline/
LOCATION:Lake Lanier Olympic Park\, 3105 Clarks Bridge Rd\, Gainesville\, GA\, 30506\, United States
ORGANIZER;CN="Action Event Group LLC":MAILTO:brandon@watersportscentral.com
END:VEVENT
BEGIN:VEVENT
DTSTART;VALUE=DATE:20220722
DTEND;VALUE=DATE:20220725
DTSTAMP:20260424T061519
CREATED:20220117T164753Z
LAST-MODIFIED:20220622T155333Z
UID:20986-1658448000-1658707199@www.thewwa.com
SUMMARY:Malibu Rider Experience East 2022
DESCRIPTION:Info coming soon…								\n				\n				\n				\n									\n					\n						\n									Event Registration
URL:https://www.thewwa.com/event/malibu-rider-experience-east-2022/
LOCATION:Fishlipz\, TN\, United States
ATTACH;FMTTYPE=image/png:https://www.thewwa.com/wp-content/uploads/2021/11/Artboard-5.png
ORGANIZER;CN="World Wake Association":MAILTO:info@thewwa.com
END:VEVENT
BEGIN:VEVENT
DTSTART;VALUE=DATE:20220716
DTEND;VALUE=DATE:20220718
DTSTAMP:20260424T061519
CREATED:20220117T164824Z
LAST-MODIFIED:20220714T152216Z
UID:20984-1657929600-1658102399@www.thewwa.com
SUMMARY:Malibu Rider Experience North 2022
DESCRIPTION:Info coming soon…								\n				\n				\n				\n									\n					\n						\n									Event Registration
URL:https://www.thewwa.com/event/malibu-rider-experience-north-2022/
LOCATION:Mount Harmon Plantation\, 600 Mt. Harmon Rd.\, Earleville\, MD\, 21919\, United States
ATTACH;FMTTYPE=image/png:https://www.thewwa.com/wp-content/uploads/2021/12/Artboard-4.png
ORGANIZER;CN="World Wake Association":MAILTO:info@thewwa.com
END:VEVENT
BEGIN:VEVENT
DTSTART;VALUE=DATE:20220716
DTEND;VALUE=DATE:20220718
DTSTAMP:20260424T061519
CREATED:20211201T171251Z
LAST-MODIFIED:20220629T183910Z
UID:21024-1657929600-1658102399@www.thewwa.com
SUMMARY:Nautique European Wakesurf Championships London 2022
DESCRIPTION:Info coming soon…								\n				\n				\n				\n									\n					\n						\n									Event Registration
URL:https://www.thewwa.com/event/nautique-european-wakesurf-championships-london-2022/
LOCATION:Liquid Leisure\, Horton Road\, Slough\, SL3 9HY\, United Kingdom
ATTACH;FMTTYPE=image/jpeg:https://www.thewwa.com/wp-content/uploads/2021/11/2022-Nautique-Wakesurf-Series-Header-Images-2.jpg
ORGANIZER;CN="World Wake Association":MAILTO:info@thewwa.com
END:VEVENT
BEGIN:VEVENT
DTSTART;VALUE=DATE:20220716
DTEND;VALUE=DATE:20220717
DTSTAMP:20260424T061519
CREATED:20220622T162057Z
LAST-MODIFIED:20220622T162057Z
UID:21691-1657929600-1658015999@www.thewwa.com
SUMMARY:Midwest Coast Wakesurf Open
DESCRIPTION:Info coming soon…								\n				\n				\n				\n									\n					\n						\n									Event Registration
URL:https://www.thewwa.com/event/midwest-coast-wakesurf-open-2/
END:VEVENT
BEGIN:VEVENT
DTSTART;VALUE=DATE:20220715
DTEND;VALUE=DATE:20220718
DTSTAMP:20260424T061519
CREATED:20220324T193709Z
LAST-MODIFIED:20220714T151057Z
UID:21444-1657843200-1658102399@www.thewwa.com
SUMMARY:Wake the Desert 2022
DESCRIPTION:Info coming soon…								\n				\n				\n				\n									\n					\n						\n									Event Registration
URL:https://www.thewwa.com/event/wake-the-desert-2022/
LOCATION:Middle Concho Park – Lake Nasworthy\, San Angelo\, TX\, 76904\, United States
ATTACH;FMTTYPE=image/jpeg:https://www.thewwa.com/wp-content/uploads/2022/03/2017-WTD-Logo-1.jpg
END:VEVENT
BEGIN:VEVENT
DTSTART;VALUE=DATE:20220714
DTEND;VALUE=DATE:20220718
DTSTAMP:20260424T061519
CREATED:20220118T173023Z
LAST-MODIFIED:20220629T181935Z
UID:21034-1657756800-1658102399@www.thewwa.com
SUMMARY:WWA Wake Park World Championships Presented by Nautique Boats 2022
DESCRIPTION:Info coming soon…								\n				\n				\n				\n									\n					\n						\n									Event Registration
URL:https://www.thewwa.com/event/wwa-wake-park-world-championships-presented-by-nautique-boats-2022/
LOCATION:Liquid Leisure\, Horton Road\, Slough\, SL3 9HY\, United Kingdom
ATTACH;FMTTYPE=image/png:https://www.thewwa.com/wp-content/uploads/2021/11/22-WPW-Header.png
ORGANIZER;CN="World Wake Association":MAILTO:info@thewwa.com
END:VEVENT
BEGIN:VEVENT
DTSTART;VALUE=DATE:20220709
DTEND;VALUE=DATE:20220710
DTSTAMP:20260424T061519
CREATED:20220622T161700Z
LAST-MODIFIED:20220622T161700Z
UID:21686-1657324800-1657411199@www.thewwa.com
SUMMARY:Wake the Snake 2022
DESCRIPTION:Info coming soon…								\n				\n				\n				\n									\n					\n						\n									Event Registration
URL:https://www.thewwa.com/event/wake-the-snake-2022/
LOCATION:Burley\, ID\, Burley\, ID
ORGANIZER;CN="Idaho Water Sports":MAILTO:carol@idahowatersports.com
END:VEVENT
BEGIN:VEVENT
DTSTART;VALUE=DATE:20220708
DTEND;VALUE=DATE:20220711
DTSTAMP:20260424T061519
CREATED:20211206T132838Z
LAST-MODIFIED:20220629T213120Z
UID:21010-1657238400-1657497599@www.thewwa.com
SUMMARY:Nautique South Central Regatta 2022
DESCRIPTION:Info coming soon…								\n				\n				\n				\n									\n					\n						\n									Event Registration
URL:https://www.thewwa.com/event/nautique-south-central-regatta-2022/
LOCATION:The Harbor Marina Rockwall\, 2059 Summer Lee\, Rockwall\, TX\, United States
ATTACH;FMTTYPE=image/jpeg:https://www.thewwa.com/wp-content/uploads/2021/11/2022-South-Central-Regatta-Header.jpg
ORGANIZER;CN="World Wake Association":MAILTO:info@thewwa.com
END:VEVENT
BEGIN:VEVENT
DTSTART;VALUE=DATE:20220625
DTEND;VALUE=DATE:20220626
DTSTAMP:20260424T061519
CREATED:20220622T161906Z
LAST-MODIFIED:20220622T161906Z
UID:21689-1656115200-1656201599@www.thewwa.com
SUMMARY:Ski Dawgs Adaptive Watersports Day
DESCRIPTION:Info coming soon…								\n				\n				\n				\n									\n					\n						\n									Event Registration
URL:https://www.thewwa.com/event/ski-dawgs-adaptive-watersports-day/
END:VEVENT
BEGIN:VEVENT
DTSTART;VALUE=DATE:20220625
DTEND;VALUE=DATE:20220626
DTSTAMP:20260424T061519
CREATED:20220622T161322Z
LAST-MODIFIED:20220622T161322Z
UID:21683-1656115200-1656201599@www.thewwa.com
SUMMARY:Thigh High Surf Series - Stop #3
DESCRIPTION:Info coming soon…								\n				\n				\n				\n									\n					\n						\n									Event Registration
URL:https://www.thewwa.com/event/thigh-high-surf-series-stop-3/
LOCATION:Lake Ronix\, Christmas\, FL\, United States
END:VEVENT
BEGIN:VEVENT
DTSTART;VALUE=DATE:20220611
DTEND;VALUE=DATE:20220613
DTSTAMP:20260424T061519
CREATED:20220117T164857Z
LAST-MODIFIED:20220526T150735Z
UID:20980-1654905600-1655078399@www.thewwa.com
SUMMARY:Malibu Rider Experience South 2022
DESCRIPTION:Info coming soon…								\n				\n				\n				\n									\n					\n						\n									Event Registration
URL:https://www.thewwa.com/event/malibu-rider-experience-south-2022/
LOCATION:Carney Island State Park\, 13275 SE 115th Ave\, Ocklawaha\, FL\, 32179\, United States
ATTACH;FMTTYPE=image/png:https://www.thewwa.com/wp-content/uploads/2021/12/Artboard-3.png
ORGANIZER;CN="World Wake Association":MAILTO:info@thewwa.com
END:VEVENT
BEGIN:VEVENT
DTSTART;VALUE=DATE:20220603
DTEND;VALUE=DATE:20220606
DTSTAMP:20260424T061519
CREATED:20211206T133302Z
LAST-MODIFIED:20220601T133223Z
UID:21007-1654214400-1654473599@www.thewwa.com
SUMMARY:Nautique Southeast Regatta 2022
DESCRIPTION:Info coming soon…								\n				\n				\n				\n									\n					\n						\n									Event Registration
URL:https://www.thewwa.com/event/nautique-southeast-regatta-2022/
LOCATION:Lake Lanier Islands\, 7000 Lanier Islands Pkwy\, Buford\, GA\, 30518\, United States
ATTACH;FMTTYPE=image/jpeg:https://www.thewwa.com/wp-content/uploads/2021/11/22-Southeast-Regatta-Header.jpg
ORGANIZER;CN="World Wake Association":MAILTO:info@thewwa.com
END:VEVENT
BEGIN:VEVENT
DTSTART;VALUE=DATE:20220527
DTEND;VALUE=DATE:20220530
DTSTAMP:20260424T061519
CREATED:20211117T210656Z
LAST-MODIFIED:20211117T210656Z
UID:21117-1653609600-1653868799@www.thewwa.com
SUMMARY:62nd Nautique Masters Waterski & Wakeboard Tournament presented by GM Marine Engine Technology
DESCRIPTION:Info coming soon…								\n				\n				\n				\n									\n					\n						\n									Event Registration
URL:https://www.thewwa.com/event/62nd-nautique-masters-waterski-wakeboard-tournament-presented-by-gm-marine-engine-technology/
LOCATION:Callaway Gardens\, 3 Mile Beach Drive\, Pine Mountain\, GA\, 31822\, United States
CATEGORIES:WBWS
ATTACH;FMTTYPE=image/jpeg:https://www.thewwa.com/wp-content/uploads/2021/11/22-Masters-LCQ-Header.jpg
ORGANIZER;CN="World Wake Association":MAILTO:info@thewwa.com
END:VEVENT
BEGIN:VEVENT
DTSTART;VALUE=DATE:20220521
DTEND;VALUE=DATE:20220523
DTSTAMP:20260424T061519
CREATED:20211201T171428Z
LAST-MODIFIED:20220425T162502Z
UID:21027-1653091200-1653263999@www.thewwa.com
SUMMARY:Nautique Japan Wakesurf Championships 2022
DESCRIPTION:Info coming soon…								\n				\n				\n				\n									\n					\n						\n									Event Registration
URL:https://www.thewwa.com/event/nautique-japan-wakesurf-championships-2022/
LOCATION:Lake Biwa\, Yanmar Sunset Marina\, Japan
ATTACH;FMTTYPE=image/jpeg:https://www.thewwa.com/wp-content/uploads/2021/11/22-Japan-Surf-Header.jpg
ORGANIZER;CN="Keiko Inoki":MAILTO:Keiko_inoki@japan-wakesurfing.com
END:VEVENT
BEGIN:VEVENT
DTSTART;VALUE=DATE:20220520
DTEND;VALUE=DATE:20220523
DTSTAMP:20260424T061519
CREATED:20220324T193302Z
LAST-MODIFIED:20220510T173537Z
UID:21439-1653004800-1653263999@www.thewwa.com
SUMMARY:Wake the Canyon 2022
DESCRIPTION:Info coming soon…								\n				\n				\n				\n									\n					\n						\n									Event Registration
URL:https://www.thewwa.com/event/wake-the-canyon-2022/
LOCATION:Buffalo Springs\, 99 Pony Express Trail\, Buffalo Springs\, TX\, 79049\, United States
ATTACH;FMTTYPE=image/jpeg:https://www.thewwa.com/wp-content/uploads/2022/03/53016242_2004970842964764_6182161048095686656_n-copy.jpg
END:VEVENT
BEGIN:VEVENT
DTSTART;VALUE=DATE:20220514
DTEND;VALUE=DATE:20220516
DTSTAMP:20260424T061519
CREATED:20220427T171054Z
LAST-MODIFIED:20220427T171054Z
UID:21518-1652486400-1652659199@www.thewwa.com
SUMMARY:Michigan State University - Spartan Throwdown
DESCRIPTION:Info coming soon…								\n				\n				\n				\n									\n					\n						\n									Event Registration
URL:https://www.thewwa.com/event/michigan-state-university-spartan-throwdown/
LOCATION:Lake Lansing\, United States
ATTACH;FMTTYPE=image/jpeg:https://www.thewwa.com/wp-content/uploads/2022/04/278180906_480894913720725_4367003552561677427_n.jpg
ORGANIZER;CN="World Wake Association":MAILTO:info@thewwa.com
END:VEVENT
END:VCALENDAR