BEGIN:VCALENDAR
VERSION:2.0
PRODID:-//World Wake Association - ECPv6.15.17//NONSGML v1.0//EN
CALSCALE:GREGORIAN
METHOD:PUBLISH
X-WR-CALNAME:World Wake Association
X-ORIGINAL-URL:https://www.thewwa.com
X-WR-CALDESC:Events for World Wake Association
REFRESH-INTERVAL;VALUE=DURATION:PT1H
X-Robots-Tag:noindex
X-PUBLISHED-TTL:PT1H
BEGIN:VTIMEZONE
TZID:America/Halifax
BEGIN:DAYLIGHT
TZOFFSETFROM:-0400
TZOFFSETTO:-0300
TZNAME:ADT
DTSTART:20220313T060000
END:DAYLIGHT
BEGIN:STANDARD
TZOFFSETFROM:-0300
TZOFFSETTO:-0400
TZNAME:AST
DTSTART:20221106T050000
END:STANDARD
BEGIN:DAYLIGHT
TZOFFSETFROM:-0400
TZOFFSETTO:-0300
TZNAME:ADT
DTSTART:20230312T060000
END:DAYLIGHT
BEGIN:STANDARD
TZOFFSETFROM:-0300
TZOFFSETTO:-0400
TZNAME:AST
DTSTART:20231105T050000
END:STANDARD
BEGIN:DAYLIGHT
TZOFFSETFROM:-0400
TZOFFSETTO:-0300
TZNAME:ADT
DTSTART:20240310T060000
END:DAYLIGHT
BEGIN:STANDARD
TZOFFSETFROM:-0300
TZOFFSETTO:-0400
TZNAME:AST
DTSTART:20241103T050000
END:STANDARD
END:VTIMEZONE
BEGIN:VTIMEZONE
TZID:Asia/Krasnoyarsk
BEGIN:STANDARD
TZOFFSETFROM:+0700
TZOFFSETTO:+0700
TZNAME:+07
DTSTART:20220101T000000
END:STANDARD
END:VTIMEZONE
BEGIN:VEVENT
DTSTART;TZID=America/Halifax:20231104T080000
DTEND;TZID=America/Halifax:20231105T170000
DTSTAMP:20260423T210738
CREATED:20230825T151617Z
LAST-MODIFIED:20231031T153043Z
UID:24228-1699084800-1699203600@www.thewwa.com
SUMMARY:Wakesurf Championships - Dubai Creek Edition
DESCRIPTION:Info coming soon…								\n				\n				\n				\n									\n					\n						\n									Event Registration
URL:https://www.thewwa.com/event/wakesurf-championships-dubai-creek-edition/
LOCATION:Dubai Creek Marina\, Dubai\, United Arab Emirates
ATTACH;FMTTYPE=image/png:https://www.thewwa.com/wp-content/uploads/2023/08/Dubai-Surf-Header.png
END:VEVENT
BEGIN:VEVENT
DTSTART;VALUE=DATE:20231021
DTEND;VALUE=DATE:20231023
DTSTAMP:20260423T210738
CREATED:20230519T152756Z
LAST-MODIFIED:20231006T225915Z
UID:22734-1697846400-1698019199@www.thewwa.com
SUMMARY:MS Wakesurfing Hong Kong Competition
DESCRIPTION:Info coming soon…								\n				\n				\n				\n									\n					\n						\n									Event Registration
URL:https://www.thewwa.com/event/ms-wakesurfing-hong-kong-competition/
ATTACH;FMTTYPE=image/png:https://www.thewwa.com/wp-content/uploads/2023/05/Screen-Shot-2023-05-19-at-11.02.29-AM-scaled.png
END:VEVENT
BEGIN:VEVENT
DTSTART;VALUE=DATE:20231005
DTEND;VALUE=DATE:20231009
DTSTAMP:20260423T210738
CREATED:20230323T174820Z
LAST-MODIFIED:20240425T105058Z
UID:22290-1696464000-1696809599@www.thewwa.com
SUMMARY:Nautique WWA Wake Park National Championships 2023
DESCRIPTION:Info coming soon…								\n				\n				\n				\n									\n					\n						\n									Event Registration
URL:https://www.thewwa.com/event/nautique-wwa-wake-park-national-championships-2023/
LOCATION:Terminus Wake Park\, 171 Lakepoint Pkwy\, Cartersville\, GA\, 30121\, United States
ATTACH;FMTTYPE=image/png:https://www.thewwa.com/wp-content/uploads/2023/02/23-Wake-Park-Nationals-Header.png
ORGANIZER;CN="World Wake Association":MAILTO:info@thewwa.com
END:VEVENT
BEGIN:VEVENT
DTSTART;VALUE=DATE:20230929
DTEND;VALUE=DATE:20231002
DTSTAMP:20260423T210738
CREATED:20230519T151423Z
LAST-MODIFIED:20230908T130812Z
UID:22726-1695945600-1696204799@www.thewwa.com
SUMMARY:Seadoo Thailand Wake Open
DESCRIPTION:Info coming soon…								\n				\n				\n				\n									\n					\n						\n									Event Registration
URL:https://www.thewwa.com/event/wwa-asian-championships-thailand-stop-powered-by-seadoo-thailand/
LOCATION:Alpha Wake & Surf Camp\, 39 1 Bung Cham O\, Nong Suea District\, Pathum Thani\, 12170\, Thailand
END:VEVENT
BEGIN:VEVENT
DTSTART;VALUE=DATE:20230922
DTEND;VALUE=DATE:20230925
DTSTAMP:20260423T210738
CREATED:20221130T201246Z
LAST-MODIFIED:20230912T171029Z
UID:21955-1695340800-1695599999@www.thewwa.com
SUMMARY:Nautique Southwest Regatta 2023
DESCRIPTION:Info coming soon…								\n				\n				\n				\n									\n					\n						\n									Event Registration
URL:https://www.thewwa.com/event/nautique-southwest-regatta-2023/
LOCATION:Nautical Beachfront Resort\, 1000 McCulloch Blvd N\, Lake Havasu City\, AZ\, 86403\, United States
ATTACH;FMTTYPE=image/jpeg:https://www.thewwa.com/wp-content/uploads/2022/11/23-SW-Regatta-Header.jpg
END:VEVENT
BEGIN:VEVENT
DTSTART;VALUE=DATE:20230907
DTEND;VALUE=DATE:20230911
DTSTAMP:20260423T210738
CREATED:20221110T173606Z
LAST-MODIFIED:20231009T162859Z
UID:21935-1694044800-1694390399@www.thewwa.com
SUMMARY:2023 Nautique Masters Wakesurf Championships presented by GM Marine
DESCRIPTION:Info coming soon…								\n				\n				\n				\n									\n					\n						\n									Event Registration
URL:https://www.thewwa.com/event/2023-nautique-masters-wakesurf-championships-presented-by-gm-marine/
LOCATION:Callaway Gardens\, 3 Mile Beach Drive\, Pine Mountain\, GA\, 31822\, United States
ATTACH;FMTTYPE=image/png:https://www.thewwa.com/wp-content/uploads/2022/11/23-Surf-Masters-Header.png
END:VEVENT
BEGIN:VEVENT
DTSTART;VALUE=DATE:20230901
DTEND;VALUE=DATE:20230904
DTSTAMP:20260423T210738
CREATED:20230519T151000Z
LAST-MODIFIED:20230609T202915Z
UID:22721-1693526400-1693785599@www.thewwa.com
SUMMARY:Taipei Wake Open 2023
DESCRIPTION:Info coming soon…								\n				\n				\n				\n									\n					\n						\n									Event Registration
URL:https://www.thewwa.com/event/taipei-wake-open/
LOCATION:YingHsin Pier in Shezidao\, Taiwan
ATTACH;FMTTYPE=image/png:https://www.thewwa.com/wp-content/uploads/2023/05/Screen-Shot-2023-05-19-at-11.08.43-AM.png
END:VEVENT
BEGIN:VEVENT
DTSTART;VALUE=DATE:20230831
DTEND;VALUE=DATE:20230904
DTSTAMP:20260423T210738
CREATED:20221107T195733Z
LAST-MODIFIED:20230830T105852Z
UID:21894-1693440000-1693785599@www.thewwa.com
SUMMARY:Nautique WWA Wakeboard World Championships presented by GM Marine Engine Technology
DESCRIPTION:Info coming soon…								\n				\n				\n				\n									\n					\n						\n									Event Registration
URL:https://www.thewwa.com/event/nautique-wwa-wakeboard-world-championships-presented-by-gm-marine-engine-technology/
LOCATION:Ferreira do Zezere\, Portugal
ATTACH;FMTTYPE=image/png:https://www.thewwa.com/wp-content/uploads/2023/08/Screen-Shot-2023-08-18-at-11.57.42-AM.png
ORGANIZER;CN="World Wake Association":MAILTO:info@thewwa.com
END:VEVENT
BEGIN:VEVENT
DTSTART;TZID=America/Halifax:20230825T000000
DTEND;TZID=America/Halifax:20230826T235959
DTSTAMP:20260423T210738
CREATED:20230809T135351Z
LAST-MODIFIED:20230809T135352Z
UID:24089-1692921600-1693094399@www.thewwa.com
SUMMARY:Pro Wakeboard Tour Stop #4
DESCRIPTION:Info coming soon…								\n				\n				\n				\n									\n					\n						\n									Event Registration
URL:https://www.thewwa.com/event/pro-wakeboard-tour-stop-4-4/
END:VEVENT
BEGIN:VEVENT
DTSTART;TZID=America/Halifax:20230817T000000
DTEND;TZID=America/Halifax:20230819T235959
DTSTAMP:20260423T210738
CREATED:20230809T134734Z
LAST-MODIFIED:20230809T135119Z
UID:24084-1692230400-1692489599@www.thewwa.com
SUMMARY:Twin Lakes Cornfest 2023
DESCRIPTION:Info coming soon…								\n				\n				\n				\n									\n					\n						\n									Event Registration
URL:https://www.thewwa.com/event/twin-lakes-cornfest-2/
END:VEVENT
BEGIN:VEVENT
DTSTART;TZID=America/Halifax:20230812T000000
DTEND;TZID=America/Halifax:20230812T235959
DTSTAMP:20260423T210738
CREATED:20230803T164343Z
LAST-MODIFIED:20230803T164439Z
UID:23817-1691798400-1691884799@www.thewwa.com
SUMMARY:Jersey Wake Off 2023
DESCRIPTION:Info coming soon…								\n				\n				\n				\n									\n					\n						\n									Event Registration
URL:https://www.thewwa.com/event/jersey-wake-off-2023/
END:VEVENT
BEGIN:VEVENT
DTSTART;VALUE=DATE:20230811
DTEND;VALUE=DATE:20230814
DTSTAMP:20260423T210738
CREATED:20221130T201629Z
LAST-MODIFIED:20231009T152131Z
UID:21957-1691712000-1691971199@www.thewwa.com
SUMMARY:Nautique Canadian Regatta 2023
DESCRIPTION:Info coming soon…								\n				\n				\n				\n									\n					\n						\n									Event Registration
URL:https://www.thewwa.com/event/nautique-canadian-regatta-2023/
LOCATION:El Dorado Resort\, 500 Cook Rd\, Kelowna\, British Colombia\, V1W3G9\, Canada
ATTACH;FMTTYPE=image/jpeg:https://www.thewwa.com/wp-content/uploads/2022/11/23-Canada-Regatta-Header-scaled.jpg
END:VEVENT
BEGIN:VEVENT
DTSTART;TZID=America/Halifax:20230811T000000
DTEND;TZID=America/Halifax:20230812T235959
DTSTAMP:20260423T210738
CREATED:20230809T135006Z
LAST-MODIFIED:20230809T135007Z
UID:24086-1691712000-1691884799@www.thewwa.com
SUMMARY:Come & Take It Conroe Classic
DESCRIPTION:Info coming soon…								\n				\n				\n				\n									\n					\n						\n									Event Registration
URL:https://www.thewwa.com/event/come-take-it-conroe-classic/
END:VEVENT
BEGIN:VEVENT
DTSTART;TZID=America/Halifax:20230805T000000
DTEND;TZID=America/Halifax:20230805T235959
DTSTAMP:20260423T210738
CREATED:20230719T195017Z
LAST-MODIFIED:20230719T195019Z
UID:23750-1691193600-1691279999@www.thewwa.com
SUMMARY:Battle by the Beach
DESCRIPTION:Info coming soon…								\n				\n				\n				\n									\n					\n						\n									Event Registration
URL:https://www.thewwa.com/event/battle-by-the-beach-2/
LOCATION:Acworth Beach\, 4425 Beach Street\, Acworth\, GA\, United States
ORGANIZER;CN="Action Event Group LLC":MAILTO:brandon@watersportscentral.com
END:VEVENT
BEGIN:VEVENT
DTSTART;TZID=America/Halifax:20230804T000000
DTEND;TZID=America/Halifax:20230806T235959
DTSTAMP:20260423T210738
CREATED:20230803T162417Z
LAST-MODIFIED:20230803T162419Z
UID:23815-1691107200-1691366399@www.thewwa.com
SUMMARY:Southern Plains Festival 2023
DESCRIPTION:Info coming soon…								\n				\n				\n				\n									\n					\n						\n									Event Registration
URL:https://www.thewwa.com/event/southern-plains-festival-2023/
END:VEVENT
BEGIN:VEVENT
DTSTART;VALUE=DATE:20230727
DTEND;VALUE=DATE:20230731
DTSTAMP:20260423T210738
CREATED:20221110T174058Z
LAST-MODIFIED:20230726T202438Z
UID:21932-1690416000-1690761599@www.thewwa.com
SUMMARY:2023 Nautique USA National Wakesurf Championship Presented by GM Marine
DESCRIPTION:Info coming soon…								\n				\n				\n				\n									\n					\n						\n									Event Registration
URL:https://www.thewwa.com/event/2023-nautique-usa-national-wakesurf-championship-presented-by-gm-marine/
LOCATION:Callaway Gardens\, 3 Mile Beach Drive\, Pine Mountain\, GA\, 31822\, United States
ATTACH;FMTTYPE=image/png:https://www.thewwa.com/wp-content/uploads/2022/11/23-Surf-Nationals-Header.png
END:VEVENT
BEGIN:VEVENT
DTSTART;VALUE=DATE:20230727
DTEND;VALUE=DATE:20230731
DTSTAMP:20260423T210738
CREATED:20221107T200506Z
LAST-MODIFIED:20230726T202545Z
UID:21892-1690416000-1690761599@www.thewwa.com
SUMMARY:Nautique WWA Wakeboard National Championships presented by GM Marine Engine Technology 2023
DESCRIPTION:Info coming soon…								\n				\n				\n				\n									\n					\n						\n									Event Registration
URL:https://www.thewwa.com/event/nautique-wwa-wakeboard-national-championships-presented-by-gm-marine-engine-technology-2023/
LOCATION:Callaway Gardens\, 3 Mile Beach Drive\, Pine Mountain\, GA\, 31822\, United States
ATTACH;FMTTYPE=image/png:https://www.thewwa.com/wp-content/uploads/2022/11/23-Nationals-Header.png
ORGANIZER;CN="World Wake Association":MAILTO:info@thewwa.com
END:VEVENT
BEGIN:VEVENT
DTSTART;TZID=America/Halifax:20230726T000000
DTEND;TZID=America/Halifax:20230726T235959
DTSTAMP:20260423T210738
CREATED:20230719T234205Z
LAST-MODIFIED:20230719T234207Z
UID:23752-1690329600-1690415999@www.thewwa.com
SUMMARY:The Boat House Amateur Wakesurf Competition
DESCRIPTION:Info coming soon…								\n				\n				\n				\n									\n					\n						\n									Event Registration
URL:https://www.thewwa.com/event/the-boat-house-amateur-wakesurf-competition/
LOCATION:N2062 S Lake Shore Dr Lake Geneva\, WI 53147
END:VEVENT
BEGIN:VEVENT
DTSTART;VALUE=DATE:20230721
DTEND;VALUE=DATE:20230723
DTSTAMP:20260423T210738
CREATED:20230130T145640Z
LAST-MODIFIED:20230717T183602Z
UID:22063-1689897600-1690070399@www.thewwa.com
SUMMARY:Malibu Boats Rider Experience East at TN Wakefest 2023
DESCRIPTION:Info coming soon…								\n				\n				\n				\n									\n					\n						\n									Event Registration
URL:https://www.thewwa.com/event/malibu-rider-experience-east-at-tn-wakefest-2023/
LOCATION:Pates Ford Marina\, 6323 Jefferson Road\, Smithville\, TN\, 37166\, United States
ATTACH;FMTTYPE=image/jpeg:https://www.thewwa.com/wp-content/uploads/2023/01/23-Rider-Experience-East-Header.jpg
END:VEVENT
BEGIN:VEVENT
DTSTART;VALUE=DATE:20230715
DTEND;VALUE=DATE:20230717
DTSTAMP:20260423T210738
CREATED:20221110T175002Z
LAST-MODIFIED:20230708T011332Z
UID:21928-1689379200-1689551999@www.thewwa.com
SUMMARY:2023 Nautique European Wakesurf Championships - London
DESCRIPTION:Info coming soon…								\n				\n				\n				\n									\n					\n						\n									Event Registration
URL:https://www.thewwa.com/event/2023-nautique-european-wakesurf-championships-london/
LOCATION:Liquid Leisure\, Horton Road\, Slough\, SL3 9HY\, United Kingdom
ATTACH;FMTTYPE=image/png:https://www.thewwa.com/wp-content/uploads/2023/04/23-London-Surf-Header-2.png
END:VEVENT
BEGIN:VEVENT
DTSTART;VALUE=DATE:20230714
DTEND;VALUE=DATE:20230717
DTSTAMP:20260423T210738
CREATED:20230530T210429Z
LAST-MODIFIED:20230621T154136Z
UID:22802-1689292800-1689551999@www.thewwa.com
SUMMARY:Wake the Desert 2023
DESCRIPTION:Info coming soon…								\n				\n				\n				\n									\n					\n						\n									Event Registration
URL:https://www.thewwa.com/event/wake-the-desert-2023/
LOCATION:Middle Concho Park – Lake Nasworthy\, San Angelo\, TX\, 76904\, United States
ATTACH;FMTTYPE=image/jpeg:https://www.thewwa.com/wp-content/uploads/2022/03/2017-WTD-Logo-1.jpg
END:VEVENT
BEGIN:VEVENT
DTSTART;VALUE=DATE:20230714
DTEND;VALUE=DATE:20230717
DTSTAMP:20260423T210738
CREATED:20230120T173339Z
LAST-MODIFIED:20230706T202609Z
UID:22004-1689292800-1689551999@www.thewwa.com
SUMMARY:2023 Wake the Desert
DESCRIPTION:Info coming soon…								\n				\n				\n				\n									\n					\n						\n									Event Registration
URL:https://www.thewwa.com/event/2023-wake-the-desert/
LOCATION:Middle Concho Park – Lake Nasworthy\, San Angelo\, TX\, 76904\, United States
END:VEVENT
BEGIN:VEVENT
DTSTART;VALUE=DATE:20230713
DTEND;VALUE=DATE:20230717
DTSTAMP:20260423T210739
CREATED:20230120T171859Z
LAST-MODIFIED:20230715T123120Z
UID:21996-1689206400-1689551999@www.thewwa.com
SUMMARY:2023 WWA Wake Park World Championships presented by Nautique Boats
DESCRIPTION:Info coming soon…								\n				\n				\n				\n									\n					\n						\n									Event Registration
URL:https://www.thewwa.com/event/2023-wwa-wake-park-world-championships-presented-by-nautique-boats/
LOCATION:Liquid Leisure\, Horton Road\, Slough\, SL3 9HY\, United Kingdom
CATEGORIES:WPWS
ATTACH;FMTTYPE=image/png:https://www.thewwa.com/wp-content/uploads/2023/01/23-Wake-Park-World-Header-Image.png
ORGANIZER;CN="World Wake Association":MAILTO:info@thewwa.com
END:VEVENT
BEGIN:VEVENT
DTSTART;VALUE=DATE:20230713
DTEND;VALUE=DATE:20230716
DTSTAMP:20260423T210739
CREATED:20230621T205512Z
LAST-MODIFIED:20230621T205512Z
UID:23229-1689206400-1689465599@www.thewwa.com
SUMMARY:MN Wakesurf Championships 2023
DESCRIPTION:Info coming soon…								\n				\n				\n				\n									\n					\n						\n									Event Registration
URL:https://www.thewwa.com/event/mn-wakesurf-championships-2023/
END:VEVENT
BEGIN:VEVENT
DTSTART;VALUE=DATE:20230712
DTEND;VALUE=DATE:20230713
DTSTAMP:20260423T210739
CREATED:20230628T182027Z
LAST-MODIFIED:20230628T182027Z
UID:23417-1689120000-1689206399@www.thewwa.com
SUMMARY:Pro Wakeboard Tour #3
DESCRIPTION:Info coming soon…								\n				\n				\n				\n									\n					\n						\n									Event Registration
URL:https://www.thewwa.com/event/pro-wakeboard-tour-3-3/
LOCATION:Lake David Park\, Groveland\, FL.\, 450 S Lake Ave\, Groveland\, FL\, 34736\, United States
END:VEVENT
BEGIN:VEVENT
DTSTART;VALUE=DATE:20230712
DTEND;VALUE=DATE:20230713
DTSTAMP:20260423T210739
CREATED:20230426T161656Z
LAST-MODIFIED:20230426T161656Z
UID:22525-1689120000-1689206399@www.thewwa.com
SUMMARY:Pro Wakeboard Tour #3
DESCRIPTION:Info coming soon…								\n				\n				\n				\n									\n					\n						\n									Event Registration
URL:https://www.thewwa.com/event/pro-wakeboard-tour-3-2/
LOCATION:Tiki Bar Lake Minneola
END:VEVENT
BEGIN:VEVENT
DTSTART;VALUE=DATE:20230708
DTEND;VALUE=DATE:20230710
DTSTAMP:20260423T210739
CREATED:20230130T144036Z
LAST-MODIFIED:20230621T210252Z
UID:22048-1688774400-1688947199@www.thewwa.com
SUMMARY:Malibu Boats Rider Experience North 2023
DESCRIPTION:Info coming soon…								\n				\n				\n				\n									\n					\n						\n									Event Registration
URL:https://www.thewwa.com/event/malibu-rider-experience-north-2023/
LOCATION:WINNIPEASAUKEE PIER\, 263 Lakeside Ave\, Laconia\, New Hampshire\, 03246\, United States
ATTACH;FMTTYPE=image/png:https://www.thewwa.com/wp-content/uploads/2023/01/23-Rider-Experience-North-Header-2.png
END:VEVENT
BEGIN:VEVENT
DTSTART;VALUE=DATE:20230708
DTEND;VALUE=DATE:20230709
DTSTAMP:20260423T210739
CREATED:20230621T205241Z
LAST-MODIFIED:20230621T205241Z
UID:23226-1688774400-1688860799@www.thewwa.com
SUMMARY:Wake the Snake 2023
DESCRIPTION:Info coming soon…								\n				\n				\n				\n									\n					\n						\n									Event Registration
URL:https://www.thewwa.com/event/wake-the-snake-2023/
LOCATION:River’s Edge Golf Course
END:VEVENT
BEGIN:VEVENT
DTSTART;VALUE=DATE:20230627
DTEND;VALUE=DATE:20230628
DTSTAMP:20260423T210739
CREATED:20230621T205043Z
LAST-MODIFIED:20230621T205043Z
UID:23223-1687824000-1687910399@www.thewwa.com
SUMMARY:Operation Wakesurf - Salute to Service
DESCRIPTION:Info coming soon…								\n				\n				\n				\n									\n					\n						\n									Event Registration
URL:https://www.thewwa.com/event/operation-wakesurf-salute-to-service-2/
LOCATION:Elm Hill Marina
END:VEVENT
BEGIN:VEVENT
DTSTART;VALUE=DATE:20230624
DTEND;VALUE=DATE:20230626
DTSTAMP:20260423T210739
CREATED:20230621T210850Z
LAST-MODIFIED:20230621T210850Z
UID:23232-1687564800-1687737599@www.thewwa.com
SUMMARY:Mountain Wake Games 2023
DESCRIPTION:Info coming soon…								\n				\n				\n				\n									\n					\n						\n									Event Registration
URL:https://www.thewwa.com/event/mountain-wake-games-2023/
END:VEVENT
END:VCALENDAR