BEGIN:VCALENDAR
VERSION:2.0
PRODID:-//World Wake Association - ECPv6.15.17//NONSGML v1.0//EN
CALSCALE:GREGORIAN
METHOD:PUBLISH
X-WR-CALNAME:World Wake Association
X-ORIGINAL-URL:https://www.thewwa.com
X-WR-CALDESC:Events for World Wake Association
REFRESH-INTERVAL;VALUE=DURATION:PT1H
X-Robots-Tag:noindex
X-PUBLISHED-TTL:PT1H
BEGIN:VTIMEZONE
TZID:America/Halifax
BEGIN:DAYLIGHT
TZOFFSETFROM:-0400
TZOFFSETTO:-0300
TZNAME:ADT
DTSTART:20180311T060000
END:DAYLIGHT
BEGIN:STANDARD
TZOFFSETFROM:-0300
TZOFFSETTO:-0400
TZNAME:AST
DTSTART:20181104T050000
END:STANDARD
BEGIN:DAYLIGHT
TZOFFSETFROM:-0400
TZOFFSETTO:-0300
TZNAME:ADT
DTSTART:20190310T060000
END:DAYLIGHT
BEGIN:STANDARD
TZOFFSETFROM:-0300
TZOFFSETTO:-0400
TZNAME:AST
DTSTART:20191103T050000
END:STANDARD
BEGIN:DAYLIGHT
TZOFFSETFROM:-0400
TZOFFSETTO:-0300
TZNAME:ADT
DTSTART:20200308T060000
END:DAYLIGHT
BEGIN:STANDARD
TZOFFSETFROM:-0300
TZOFFSETTO:-0400
TZNAME:AST
DTSTART:20201101T050000
END:STANDARD
END:VTIMEZONE
BEGIN:VEVENT
DTSTART;VALUE=DATE:20190308
DTEND;VALUE=DATE:20190312
DTSTAMP:20260423T190409
CREATED:20190219T174015Z
LAST-MODIFIED:20190311T130223Z
UID:16129-1552003200-1552348799@www.thewwa.com
SUMMARY:Moomba Masters International Invitational presented by Nautique 2019
DESCRIPTION:Info coming soon…								\n				\n				\n				\n									\n					\n						\n									Event Registration
URL:https://www.thewwa.com/event/moomba-masters-international-invitational-presented-by-nautique-2019/
LOCATION:Yarra River\, Alexandra Ave\, Melbourne\, Victoria\, Australia
CATEGORIES:Nautique Wake Series,WBWS
ATTACH;FMTTYPE=image/jpeg:https://www.thewwa.com/wp-content/uploads/2019/02/WWA_WBWS_WebTiles_03-1moomba.jpg
ORGANIZER;CN="Victorian Waterski Association":MAILTO:darren@nautiquesvictoria.com
END:VEVENT
BEGIN:VEVENT
DTSTART;TZID=America/Halifax:20190309T080000
DTEND;TZID=America/Halifax:20190309T170000
DTSTAMP:20260423T190409
CREATED:20190301T150409Z
LAST-MODIFIED:20190301T150409Z
UID:16256-1552118400-1552150800@www.thewwa.com
SUMMARY:Wake N Flake
DESCRIPTION:Info coming soon…								\n				\n				\n				\n									\n					\n						\n									Event Registration
URL:https://www.thewwa.com/event/wake-n-flake-2/
LOCATION:Humphrey’s Ridge Resort\, 435 Humphrey's Ridge Road\, Stokesdale\, NC\, United States
ORGANIZER;CN="Wake The World":MAILTO:waketheworld@earthlink.net
END:VEVENT
BEGIN:VEVENT
DTSTART;TZID=America/Halifax:20190323T080000
DTEND;TZID=America/Halifax:20190323T170000
DTSTAMP:20260423T190409
CREATED:20190308T173528Z
LAST-MODIFIED:20190308T173528Z
UID:16348-1553328000-1553360400@www.thewwa.com
SUMMARY:UF Wakeclub - Wakefest 2019
DESCRIPTION:Info coming soon…								\n				\n				\n				\n									\n					\n						\n									Event Registration
URL:https://www.thewwa.com/event/uf-wakeclub-wakefest-2019/
LOCATION:Lake Wauburg\, 133 Regatta Drive\, Micanopy\, FL\, 32667\, United States
ORGANIZER;CN="UF Wakeclub":MAILTO:ufwakeclub@gmail.com
END:VEVENT
BEGIN:VEVENT
DTSTART;TZID=America/Halifax:20190323T080000
DTEND;TZID=America/Halifax:20190324T170000
DTSTAMP:20260423T190409
CREATED:20190320T140048Z
LAST-MODIFIED:20190320T140048Z
UID:16418-1553328000-1553446800@www.thewwa.com
SUMMARY:UNT Wake Break
DESCRIPTION:Info coming soon…								\n				\n				\n				\n									\n					\n						\n									Event Registration
URL:https://www.thewwa.com/event/unt-wake-break/
LOCATION:Hydrous Wake Park\, 280 E Eldorado Pkwy\, Little Elm\, TX\, 75068\, United States
ATTACH;FMTTYPE=image/jpeg:https://www.thewwa.com/wp-content/uploads/2019/03/IMG_0739.jpg
ORGANIZER;CN="UNT Wake Club":MAILTO:untwake@gmail.com
END:VEVENT
BEGIN:VEVENT
DTSTART;TZID=America/Halifax:20190413T080000
DTEND;TZID=America/Halifax:20190414T170000
DTSTAMP:20260423T190409
CREATED:20190301T151035Z
LAST-MODIFIED:20190312T134309Z
UID:16258-1555142400-1555261200@www.thewwa.com
SUMMARY:West Coast Collegiate Open - SAC State
DESCRIPTION:Info coming soon…								\n				\n				\n				\n									\n					\n						\n									Event Registration
URL:https://www.thewwa.com/event/sac-state-west-coast-collegiate-open/
LOCATION:The Watersports Farm\, Velocity Island park\, United States
ATTACH;FMTTYPE=image/jpeg:https://www.thewwa.com/wp-content/uploads/2019/03/image1.jpeg
ORGANIZER;CN="SAC State Wakeboard Club":MAILTO:kellyvolken@csus.edu
END:VEVENT
BEGIN:VEVENT
DTSTART;TZID=America/Halifax:20190420T080000
DTEND;TZID=America/Halifax:20190420T170000
DTSTAMP:20260423T190409
CREATED:20190221T183051Z
LAST-MODIFIED:20190603T215356Z
UID:16211-1555747200-1555779600@www.thewwa.com
SUMMARY:Gravel Tour Stop #1 - Performance Ski & Surf
DESCRIPTION:Info coming soon…								\n				\n				\n				\n									\n					\n						\n									Event Registration
URL:https://www.thewwa.com/event/gravel-tour-stop-1-performance-ski-surf-2/
LOCATION:Orlando Watersports Complex\, 8615 Florida Rock Rd\, Orlando\, FL\, 32824\, United States
ATTACH;FMTTYPE=image/jpeg:https://www.thewwa.com/wp-content/uploads/2019/02/2019-Gravel-Tour-Series-Dates-2.jpeg
END:VEVENT
BEGIN:VEVENT
DTSTART;VALUE=DATE:20190427
DTEND;VALUE=DATE:20190428
DTSTAMP:20260423T190409
CREATED:20190224T011128Z
LAST-MODIFIED:20190427T220038Z
UID:16174-1556323200-1556409599@www.thewwa.com
SUMMARY:2019 Nautique Master's Wakeboard LCQ
DESCRIPTION:Info coming soon…								\n				\n				\n				\n									\n					\n						\n									Event Registration
URL:https://www.thewwa.com/event/2019-nautique-masters-wakeboard-lcq/
LOCATION:Orlando Watersports Complex\, 8615 Florida Rock Rd\, Orlando\, FL\, 32824\, United States
ORGANIZER;CN="World Wake Association":MAILTO:info@thewwa.com
END:VEVENT
BEGIN:VEVENT
DTSTART;TZID=America/Halifax:20190427T080000
DTEND;TZID=America/Halifax:20190428T170000
DTSTAMP:20260423T190409
CREATED:20190311T143045Z
LAST-MODIFIED:20190311T143045Z
UID:16374-1556352000-1556470800@www.thewwa.com
SUMMARY:Wake the Canyon - 2019
DESCRIPTION:Info coming soon…								\n				\n				\n				\n									\n					\n						\n									Event Registration
URL:https://www.thewwa.com/event/wake-the-canyon-2019/
LOCATION:Buffalo Bay Marine\, 9999 High Meadow Rd\, Buffalo Springs\, TX\, 79404\, United States
ATTACH;FMTTYPE=image/jpeg:https://www.thewwa.com/wp-content/uploads/2019/03/Wake-The-Canyon-2019-Flyer-Tech-wake-added.jpg
ORGANIZER;CN="Family Powersports Lubbock":MAILTO:mailto:anava@familypowersports.com
END:VEVENT
BEGIN:VEVENT
DTSTART;TZID=America/Halifax:20190503T080000
DTEND;TZID=America/Halifax:20190505T170000
DTSTAMP:20260423T190409
CREATED:20190304T155941Z
LAST-MODIFIED:20190610T140932Z
UID:15920-1556870400-1557075600@www.thewwa.com
SUMMARY:Malibu Rider Experience South - 2019
DESCRIPTION:Info coming soon…								\n				\n				\n				\n									\n					\n						\n									Event Registration
URL:https://www.thewwa.com/event/malibu-rider-experience-south-2019/
LOCATION:Freedom Wake Park\, 7200 Lake Ellenor Dr.\, Orlando\, FL\, 32809\, United States
ATTACH;FMTTYPE=image/jpeg:https://www.thewwa.com/wp-content/uploads/2019/04/WWA_RE2019_Webtiles_05_1south.jpg
ORGANIZER;CN="World Wake Association":MAILTO:info@thewwa.com
END:VEVENT
BEGIN:VEVENT
DTSTART;TZID=America/Halifax:20190504T080000
DTEND;TZID=America/Halifax:20190504T170000
DTSTAMP:20260423T190409
CREATED:20190304T155758Z
LAST-MODIFIED:20190401T195936Z
UID:15908-1556956800-1556989200@www.thewwa.com
SUMMARY:Malibu Pro Card Qualifier #1 - 2019
DESCRIPTION:Info coming soon…								\n				\n				\n				\n									\n					\n						\n									Event Registration
URL:https://www.thewwa.com/event/malibu-pro-card-qualifier-1-2019/
LOCATION:Freedom Wake Park\, 7200 Lake Ellenor Dr.\, Orlando\, FL\, 32809\, United States
ATTACH;FMTTYPE=image/jpeg:https://www.thewwa.com/wp-content/uploads/2019/03/WWA_ProCard2019_WebTiles_01_1.jpg
ORGANIZER;CN="World Wake Association":MAILTO:info@thewwa.com
END:VEVENT
BEGIN:VEVENT
DTSTART;TZID=America/Halifax:20190504T080000
DTEND;TZID=America/Halifax:20190504T170000
DTSTAMP:20260423T190409
CREATED:20190304T155852Z
LAST-MODIFIED:20190417T172201Z
UID:15904-1556956800-1556989200@www.thewwa.com
SUMMARY:WWA Wakeboard Wakeboard Regional Championships - South 2019
DESCRIPTION:Info coming soon…								\n				\n				\n				\n									\n					\n						\n									Event Registration
URL:https://www.thewwa.com/event/wwa-wakeboard-wakeboard-regional-championships-south-2019/
LOCATION:Freedom Wake Park\, 7200 Lake Ellenor Dr.\, Orlando\, FL\, 32809\, United States
ORGANIZER;CN="World Wake Association":MAILTO:info@thewwa.com
END:VEVENT
BEGIN:VEVENT
DTSTART;TZID=America/Halifax:20190504T080000
DTEND;TZID=America/Halifax:20190504T170000
DTSTAMP:20260423T190409
CREATED:20190430T174029Z
LAST-MODIFIED:20190430T174029Z
UID:16833-1556956800-1556989200@www.thewwa.com
SUMMARY:Canyon Lake Wakeboard Club - Stop #1
DESCRIPTION:Info coming soon…								\n				\n				\n				\n									\n					\n						\n									Event Registration
URL:https://www.thewwa.com/event/canyon-lake-wakeboard-club-stop-1-2/
LOCATION:Canyon Lake Backwater\, 23030 Blue Bird Road\, Canyon Lake\, CA\, 92587\, United States
ATTACH;FMTTYPE=image/png:https://www.thewwa.com/wp-content/uploads/2018/04/CLWC-logo.png
ORGANIZER;CN="Canyon Lake Wakeboard Club":MAILTO:daveclarke951@yahoo.com
END:VEVENT
BEGIN:VEVENT
DTSTART;VALUE=DATE:20190509
DTEND;VALUE=DATE:20190512
DTSTAMP:20260423T190409
CREATED:20190325T181918Z
LAST-MODIFIED:20190325T181918Z
UID:16438-1557360000-1557619199@www.thewwa.com
SUMMARY:2019 WWA Judges Clinic - Taipei\, Taiwan
DESCRIPTION:Info coming soon…								\n				\n				\n				\n									\n					\n						\n									Event Registration
URL:https://www.thewwa.com/event/2019-wwa-judges-clinic-taipei-taiwan/
LOCATION:Yingxing Pier\, No. 358號\, Lane 106\, Section 7\, Yanping North Road\, Taipei City\, Taiwan
ORGANIZER;CN="World Wake Association":MAILTO:info@thewwa.com
END:VEVENT
BEGIN:VEVENT
DTSTART;TZID=America/Halifax:20190511T080000
DTEND;TZID=America/Halifax:20190511T170000
DTSTAMP:20260423T190409
CREATED:20190221T183143Z
LAST-MODIFIED:20190603T215332Z
UID:16213-1557561600-1557594000@www.thewwa.com
SUMMARY:Gravel Tour Stop #2 - Performance Ski & Surf
DESCRIPTION:Info coming soon…								\n				\n				\n				\n									\n					\n						\n									Event Registration
URL:https://www.thewwa.com/event/gravel-tour-stop-2-performance-ski-surf-2/
LOCATION:Orlando Watersports Complex\, 8615 Florida Rock Rd\, Orlando\, FL\, 32824\, United States
ATTACH;FMTTYPE=image/jpeg:https://www.thewwa.com/wp-content/uploads/2019/02/2019-Gravel-Tour-Series-Dates-2.jpeg
END:VEVENT
BEGIN:VEVENT
DTSTART;TZID=America/Halifax:20190512T080000
DTEND;TZID=America/Halifax:20190512T170000
DTSTAMP:20260423T190409
CREATED:20190430T160648Z
LAST-MODIFIED:20190430T164712Z
UID:16817-1557648000-1557680400@www.thewwa.com
SUMMARY:Thigh High Surf Series Stop #1
DESCRIPTION:Info coming soon…								\n				\n				\n				\n									\n					\n						\n									Event Registration
URL:https://www.thewwa.com/event/thigh-high-surf-series-stop-1/
LOCATION:Orlando Watersports Complex\, 8615 Florida Rock Rd\, Orlando\, FL\, 32824\, United States
ATTACH;FMTTYPE=image/png:https://www.thewwa.com/wp-content/uploads/2019/04/thigh-high-logo.png
ORGANIZER;CN="Touch of the North Events%2C LLC":MAILTO:Dano2340@aol.com
END:VEVENT
BEGIN:VEVENT
DTSTART;TZID=America/Halifax:20190517T080000
DTEND;TZID=America/Halifax:20190518T170000
DTSTAMP:20260423T190409
CREATED:20190417T184420Z
LAST-MODIFIED:20190417T184420Z
UID:16711-1558080000-1558198800@www.thewwa.com
SUMMARY:Pro Wakeboard Tour Stop #1
DESCRIPTION:Info coming soon…								\n				\n				\n				\n									\n					\n						\n									Event Registration
URL:https://www.thewwa.com/event/pro-wakeboard-tour-stop-1-3/
LOCATION:August Lakes\, 135 August Lakes\, Katy\, TX\, 77493\, United States
END:VEVENT
BEGIN:VEVENT
DTSTART;TZID=America/Halifax:20190517T080000
DTEND;TZID=America/Halifax:20190519T170000
DTSTAMP:20260423T190409
CREATED:20190430T155235Z
LAST-MODIFIED:20190430T155235Z
UID:16814-1558080000-1558285200@www.thewwa.com
SUMMARY:Mountain Wake Games - Southern Wake Series
DESCRIPTION:Info coming soon…								\n				\n				\n				\n									\n					\n						\n									Event Registration
URL:https://www.thewwa.com/event/mountain-wake-games-southern-wake-series/
LOCATION:Oak Mountain State Park\, 20 Terrace Drive\, Pelham\, AL\, 35124\, United States
ATTACH;FMTTYPE=image/png:https://www.thewwa.com/wp-content/uploads/2019/04/FB_BANNER-01.png
ORGANIZER;CN="Flip Side Watersports of AL":MAILTO:info@flipsideal.com
END:VEVENT
BEGIN:VEVENT
DTSTART;TZID=America/Halifax:20190518T080000
DTEND;TZID=America/Halifax:20190519T170000
DTSTAMP:20260423T190409
CREATED:20190509T142424Z
LAST-MODIFIED:20190509T142424Z
UID:16911-1558166400-1558285200@www.thewwa.com
SUMMARY:Scheels All Sports Rail Jam
DESCRIPTION:Info coming soon…								\n				\n				\n				\n									\n					\n						\n									Event Registration
URL:https://www.thewwa.com/event/scheels-all-sports-rail-jam-2/
LOCATION:Scheels All Sports\, 2101 W 41st St\, Sioux Falls\, SD\, 57105\, United States
ORGANIZER;CN="Step Up Productions":MAILTO:ryan@stepupproductions.com
END:VEVENT
BEGIN:VEVENT
DTSTART;TZID=America/Halifax:20190518T080000
DTEND;TZID=America/Halifax:20190519T170000
DTSTAMP:20260423T190409
CREATED:20190509T143655Z
LAST-MODIFIED:20190509T143655Z
UID:16913-1558166400-1558285200@www.thewwa.com
SUMMARY:GA Wake Series - Stop#1 & #2 - 2019
DESCRIPTION:Info coming soon…								\n				\n				\n				\n									\n					\n						\n									Event Registration
URL:https://www.thewwa.com/event/ga-wake-series-stop1-2-2019/
LOCATION:Lake Spivey\, 8629 BLACKHALL RD\, Jonesboro\, GA\, 30236\, United States
ATTACH;FMTTYPE=image/jpeg:https://www.thewwa.com/wp-content/uploads/2019/05/59561530_2274360462893604_6723561170613043200_o.jpg
ORGANIZER;CN="Action Event Group LLC":MAILTO:brandon@watersportscentral.com
END:VEVENT
BEGIN:VEVENT
DTSTART;TZID=America/Halifax:20190521T080000
DTEND;TZID=America/Halifax:20190521T170000
DTSTAMP:20260423T190409
CREATED:20190430T154218Z
LAST-MODIFIED:20190430T173108Z
UID:16812-1558425600-1558458000@www.thewwa.com
SUMMARY:Feet on Fire - South
DESCRIPTION:Info coming soon…								\n				\n				\n				\n									\n					\n						\n									Event Registration
URL:https://www.thewwa.com/event/feet-on-fire-south/
LOCATION:The Waterfront Orlando\, 4201 S Orange Ave\, Orlando\, FL\, 32806\, United States
ATTACH;FMTTYPE=image/jpeg:https://www.thewwa.com/wp-content/uploads/2019/04/FeetonFireTile.jpg
ORGANIZER;CN="Touch of the North Events%2C LLC":MAILTO:Dano2340@aol.com
END:VEVENT
BEGIN:VEVENT
DTSTART;TZID=America/Halifax:20190524T080000
DTEND;TZID=America/Halifax:20190526T170000
DTSTAMP:20260423T190409
CREATED:20190221T154643Z
LAST-MODIFIED:20190526T211330Z
UID:16197-1558684800-1558890000@www.thewwa.com
SUMMARY:2019 Nautique Masters Water Ski & Wakeboard Tournament presented by GM Marine Engine Technology
DESCRIPTION:Info coming soon…								\n				\n				\n				\n									\n					\n						\n									Event Registration
URL:https://www.thewwa.com/event/2019-nautique-masters-water-ski-wakeboard-tournament-presented-by-gm-marine-engine-technology/
LOCATION:Callaway Gardens\, 3 Mile Beach Drive\, Pine Mountain\, GA\, 31822\, United States
ATTACH;FMTTYPE=image/jpeg:https://www.thewwa.com/wp-content/uploads/2019/02/WWA_WBWS_WebTiles_03-2masters.jpg
ORGANIZER;CN="World Wake Association":MAILTO:info@thewwa.com
END:VEVENT
BEGIN:VEVENT
DTSTART;TZID=America/Halifax:20190525T080000
DTEND;TZID=America/Halifax:20190526T170000
DTSTAMP:20260423T190409
CREATED:20190510T142011Z
LAST-MODIFIED:20190510T142011Z
UID:16922-1558771200-1558890000@www.thewwa.com
SUMMARY:Midwest College Wake Tour Championship
DESCRIPTION:Info coming soon…								\n				\n				\n				\n									\n					\n						\n									Event Registration
URL:https://www.thewwa.com/event/midwest-college-wake-tour-championship/
LOCATION:Quarry Cable Park\, 5517 Northwest Hwy\, Crystal Lake\, IL\, 60014\, United States
ATTACH;FMTTYPE=image/png:https://www.thewwa.com/wp-content/uploads/2019/05/cropped-states-logo.png
ORGANIZER;CN="Midwest College Wake Tour":MAILTO:midwestwaketour@gmail.com
END:VEVENT
BEGIN:VEVENT
DTSTART;TZID=America/Halifax:20190531T080000
DTEND;TZID=America/Halifax:20190531T170000
DTSTAMP:20260423T190409
CREATED:20190529T181155Z
LAST-MODIFIED:20190529T181155Z
UID:16972-1559289600-1559322000@www.thewwa.com
SUMMARY:Shope's Boathouse of Seneca Clinic
DESCRIPTION:Info coming soon…								\n				\n				\n				\n									\n					\n						\n									Event Registration
URL:https://www.thewwa.com/event/shopes-boathouse-of-seneca-clinic/
LOCATION:Boathouse of Seneca\, SC\, 110 Wynmere Waye\, Seneca\, SC\, 29672\, United States
END:VEVENT
BEGIN:VEVENT
DTSTART;TZID=America/Halifax:20190601T080000
DTEND;TZID=America/Halifax:20190601T170000
DTSTAMP:20260423T190409
CREATED:20190529T183022Z
LAST-MODIFIED:20190529T183022Z
UID:16976-1559376000-1559408400@www.thewwa.com
SUMMARY:GA Wake Series Stop #3
DESCRIPTION:Info coming soon…								\n				\n				\n				\n									\n					\n						\n									Event Registration
URL:https://www.thewwa.com/event/ga-wake-series-stop-3/
LOCATION:Lake Lanier Olympic Park\, 3105 Clarks Bridge Rd\, Gainesville\, GA\, United States
ATTACH;FMTTYPE=image/jpeg:https://www.thewwa.com/wp-content/uploads/2018/03/GAWS-logo.jpg
ORGANIZER;CN="Action Event Group LLC":MAILTO:brandon@watersportscentral.com
END:VEVENT
BEGIN:VEVENT
DTSTART;TZID=America/Halifax:20190601T080000
DTEND;TZID=America/Halifax:20190601T170000
DTSTAMP:20260423T190409
CREATED:20190529T184548Z
LAST-MODIFIED:20190529T184548Z
UID:16978-1559376000-1559408400@www.thewwa.com
SUMMARY:Spartan Throwdown - 2019
DESCRIPTION:Info coming soon…								\n				\n				\n				\n									\n					\n						\n									Event Registration
URL:https://www.thewwa.com/event/spartan-throwdown-2019/
LOCATION:Lake Lansing Park South\, 1621 Pike St\, Haslett\, MI\, United States
ATTACH;FMTTYPE=image/jpeg:https://www.thewwa.com/wp-content/uploads/2019/05/Flyer.jpg
ORGANIZER;CN="MSU Wakeboard Club":MAILTO:msuwakeboardclub@gmail.com
END:VEVENT
BEGIN:VEVENT
DTSTART;VALUE=DATE:20190607
DTEND;VALUE=DATE:20190610
DTSTAMP:20260423T190409
CREATED:20190220T130038Z
LAST-MODIFIED:20210607T191154Z
UID:15871-1559865600-1560124799@www.thewwa.com
SUMMARY:Nautique European Wakesurf Championships - London
DESCRIPTION:Info coming soon…								\n				\n				\n				\n									\n					\n						\n									Event Registration
URL:https://www.thewwa.com/event/nautique-european-wakesurf-championships/
LOCATION:Liquid Leisure\, Horton Road\, Slough\, SL3 9HY\, United Kingdom
ATTACH;FMTTYPE=image/jpeg:https://www.thewwa.com/wp-content/uploads/2019/04/WWA_WakesurfSeries_WebTiles_09_st1.jpg
ORGANIZER;CN="World Wake Association":MAILTO:info@thewwa.com
END:VEVENT
BEGIN:VEVENT
DTSTART;TZID=America/Halifax:20190607T080000
DTEND;TZID=America/Halifax:20190608T170000
DTSTAMP:20260423T190409
CREATED:20190410T155458Z
LAST-MODIFIED:20190410T160858Z
UID:16614-1559894400-1560013200@www.thewwa.com
SUMMARY:Liquid Force US Park Pro Wake Island Stop
DESCRIPTION:Info coming soon…								\n				\n				\n				\n									\n					\n						\n									Event Registration
URL:https://www.thewwa.com/event/liquid-force-us-park-pro-wake-island-stop/
LOCATION:Wake Island\, 7633 Locust Rd\, Pleasant Grove\, CA\, 95668\, United States
ATTACH;FMTTYPE=image/jpeg:https://www.thewwa.com/wp-content/uploads/2019/04/0322_LF-Park-Pro.jpg
END:VEVENT
BEGIN:VEVENT
DTSTART;TZID=America/Halifax:20190608T080000
DTEND;TZID=America/Halifax:20190608T170000
DTSTAMP:20260423T190409
CREATED:20190221T183238Z
LAST-MODIFIED:20190530T133008Z
UID:16215-1559980800-1560013200@www.thewwa.com
SUMMARY:Gravel Tour Stop #3 - Performance Ski & Surf
DESCRIPTION:Info coming soon…								\n				\n				\n				\n									\n					\n						\n									Event Registration
URL:https://www.thewwa.com/event/gravel-tour-stop-3-performance-ski-surf-2/
LOCATION:Orlando Watersports Complex\, 8615 Florida Rock Rd\, Orlando\, FL\, 32824\, United States
ATTACH;FMTTYPE=image/jpeg:https://www.thewwa.com/wp-content/uploads/2019/02/2019-Gravel-Tour-Series-Dates-1.jpeg
END:VEVENT
BEGIN:VEVENT
DTSTART;TZID=America/Halifax:20190609T080000
DTEND;TZID=America/Halifax:20190609T170000
DTSTAMP:20260423T190409
CREATED:20190430T160810Z
LAST-MODIFIED:20190430T164540Z
UID:16819-1560067200-1560099600@www.thewwa.com
SUMMARY:Thigh High Surf Series Stop #2
DESCRIPTION:Info coming soon…								\n				\n				\n				\n									\n					\n						\n									Event Registration
URL:https://www.thewwa.com/event/thigh-high-surf-series-stop-2/
LOCATION:Orlando Watersports Complex\, 8615 Florida Rock Rd\, Orlando\, FL\, 32824\, United States
ATTACH;FMTTYPE=image/png:https://www.thewwa.com/wp-content/uploads/2019/04/thigh-high-logo.png
ORGANIZER;CN="Touch of the North Events%2C LLC":MAILTO:Dano2340@aol.com
END:VEVENT
BEGIN:VEVENT
DTSTART;TZID=America/Halifax:20190614T080000
DTEND;TZID=America/Halifax:20190615T170000
DTSTAMP:20260423T190409
CREATED:20190410T155649Z
LAST-MODIFIED:20190410T160716Z
UID:16618-1560499200-1560618000@www.thewwa.com
SUMMARY:Liquid Force US Park Pro Quarry Stop
DESCRIPTION:Info coming soon…								\n				\n				\n				\n									\n					\n						\n									Event Registration
URL:https://www.thewwa.com/event/liquid-force-us-park-pro-quarry-stop/
LOCATION:Quarry Cable Park\, 5517 Northwest Hwy\, Crystal Lake\, IL\, 60014\, United States
ATTACH;FMTTYPE=image/jpeg:https://www.thewwa.com/wp-content/uploads/2019/04/0322_LF-Park-Pro.jpg
END:VEVENT
END:VCALENDAR