BEGIN:VCALENDAR
VERSION:2.0
PRODID:-//World Wake Association - ECPv6.15.17//NONSGML v1.0//EN
CALSCALE:GREGORIAN
METHOD:PUBLISH
X-WR-CALNAME:World Wake Association
X-ORIGINAL-URL:https://www.thewwa.com
X-WR-CALDESC:Events for World Wake Association
REFRESH-INTERVAL;VALUE=DURATION:PT1H
X-Robots-Tag:noindex
X-PUBLISHED-TTL:PT1H
BEGIN:VTIMEZONE
TZID:America/Halifax
BEGIN:DAYLIGHT
TZOFFSETFROM:-0400
TZOFFSETTO:-0300
TZNAME:ADT
DTSTART:20230312T060000
END:DAYLIGHT
BEGIN:STANDARD
TZOFFSETFROM:-0300
TZOFFSETTO:-0400
TZNAME:AST
DTSTART:20231105T050000
END:STANDARD
BEGIN:DAYLIGHT
TZOFFSETFROM:-0400
TZOFFSETTO:-0300
TZNAME:ADT
DTSTART:20240310T060000
END:DAYLIGHT
BEGIN:STANDARD
TZOFFSETFROM:-0300
TZOFFSETTO:-0400
TZNAME:AST
DTSTART:20241103T050000
END:STANDARD
BEGIN:DAYLIGHT
TZOFFSETFROM:-0400
TZOFFSETTO:-0300
TZNAME:ADT
DTSTART:20250309T060000
END:DAYLIGHT
BEGIN:STANDARD
TZOFFSETFROM:-0300
TZOFFSETTO:-0400
TZNAME:AST
DTSTART:20251102T050000
END:STANDARD
END:VTIMEZONE
BEGIN:VTIMEZONE
TZID:Australia/Melbourne
BEGIN:STANDARD
TZOFFSETFROM:+1100
TZOFFSETTO:+1000
TZNAME:AEST
DTSTART:20230401T160000
END:STANDARD
BEGIN:DAYLIGHT
TZOFFSETFROM:+1000
TZOFFSETTO:+1100
TZNAME:AEDT
DTSTART:20230930T160000
END:DAYLIGHT
BEGIN:STANDARD
TZOFFSETFROM:+1100
TZOFFSETTO:+1000
TZNAME:AEST
DTSTART:20240406T160000
END:STANDARD
BEGIN:DAYLIGHT
TZOFFSETFROM:+1000
TZOFFSETTO:+1100
TZNAME:AEDT
DTSTART:20241005T160000
END:DAYLIGHT
BEGIN:STANDARD
TZOFFSETFROM:+1100
TZOFFSETTO:+1000
TZNAME:AEST
DTSTART:20250405T160000
END:STANDARD
BEGIN:DAYLIGHT
TZOFFSETFROM:+1000
TZOFFSETTO:+1100
TZNAME:AEDT
DTSTART:20251004T160000
END:DAYLIGHT
END:VTIMEZONE
BEGIN:VEVENT
DTSTART;VALUE=DATE:20240307
DTEND;VALUE=DATE:20240312
DTSTAMP:20260423T201856
CREATED:20231109T134727Z
LAST-MODIFIED:20240924T152351Z
UID:24716-1709769600-1710201599@www.thewwa.com
SUMMARY:Nautique Moomba Masters International Invitational presented by GM Marine
DESCRIPTION:Info coming soon…								\n				\n				\n				\n									\n					\n						\n									Event Registration
URL:https://www.thewwa.com/event/stop-1-63rd-nautique-moomba-masters-international-invitational-presented-by-gm-marine/
LOCATION:Melbourne\, Australia on the Yarra River\, Melbourne\, Yarra River\, Australia
CATEGORIES:Nautique Wake Series
ATTACH;FMTTYPE=image/png:https://www.thewwa.com/wp-content/uploads/2023/11/nautique-wake-series-1-min.png
ORGANIZER;CN="WWA":MAILTO:info@thewwa.com
END:VEVENT
BEGIN:VEVENT
DTSTART;VALUE=DATE:20240309
DTEND;VALUE=DATE:20240311
DTSTAMP:20260423T201856
CREATED:20240130T210521Z
LAST-MODIFIED:20240306T020047Z
UID:25037-1709942400-1710115199@www.thewwa.com
SUMMARY:WWA Aussie Triple Crown Stop 1: Melbourne Cable Park
DESCRIPTION:Info coming soon…								\n				\n				\n				\n									\n					\n						\n									Event Registration
URL:https://www.thewwa.com/event/aussie-triple-crown-stop-1-melbourne-cable-park/
LOCATION:Melbourne Cable Park\, 5 River End Rd\, Bangholme\, VIC\, 3175\, Australia
CATEGORIES:WWA Aussie Triple Crown
ATTACH;FMTTYPE=image/png:https://www.thewwa.com/wp-content/uploads/2024/01/WWA-aussie-11-1.png
END:VEVENT
BEGIN:VEVENT
DTSTART;VALUE=DATE:20240316
DTEND;VALUE=DATE:20240318
DTSTAMP:20260423T201856
CREATED:20240130T233503Z
LAST-MODIFIED:20240314T104448Z
UID:25044-1710547200-1710719999@www.thewwa.com
SUMMARY:WWA Aussie Triple Crown Stop 2: Wake House Australia
DESCRIPTION:Info coming soon…								\n				\n				\n				\n									\n					\n						\n									Event Registration
URL:https://www.thewwa.com/event/wwa-aussie-triple-crown-stop-2-wake-house-australia/
LOCATION:Wake House Australia\, Poco Pl\, Andergrove\, QLD\, 4740\, Australia
CATEGORIES:WWA Aussie Triple Crown
ATTACH;FMTTYPE=image/png:https://www.thewwa.com/wp-content/uploads/2024/02/WWA-aussie-22-1.png
END:VEVENT
BEGIN:VEVENT
DTSTART;VALUE=DATE:20240323
DTEND;VALUE=DATE:20240325
DTSTAMP:20260423T201856
CREATED:20240201T234611Z
LAST-MODIFIED:20240322T134922Z
UID:25085-1711152000-1711324799@www.thewwa.com
SUMMARY:WWA Aussie Triple Crown Stop 3: Bli Bli Wake Park
DESCRIPTION:Info coming soon…								\n				\n				\n				\n									\n					\n						\n									Event Registration
URL:https://www.thewwa.com/event/wwa-aussie-triple-crown-stop-3-bli-bli-wake-park/
LOCATION:Bli Bli Watersports Complex\, 367 David Low Way\, Bli Bli\, QLD\, 4560\, Australia
CATEGORIES:WWA Aussie Triple Crown
ATTACH;FMTTYPE=image/png:https://www.thewwa.com/wp-content/uploads/2024/02/WWA-aussie-33-1.png
ORGANIZER;CN="WWA":MAILTO:info@thewwa.com
END:VEVENT
BEGIN:VEVENT
DTSTART;VALUE=DATE:20240427
DTEND;VALUE=DATE:20240429
DTSTAMP:20260423T201856
CREATED:20240301T154330Z
LAST-MODIFIED:20240426T164918Z
UID:25259-1714176000-1714348799@www.thewwa.com
SUMMARY:Nautique WWA Florida State Championship
DESCRIPTION:Info coming soon…								\n				\n				\n				\n									\n					\n						\n									Event Registration
URL:https://www.thewwa.com/event/wwa-florida-state-championship/
LOCATION:Private: Lake Myrtle\, Auburndale\, FL\, 2701 Lake Myrtle Park Rd\, Auburndale\, FL\, 33823\, United States
CATEGORIES:WWA State Championships 2024
ATTACH;FMTTYPE=image/png:https://www.thewwa.com/wp-content/uploads/2024/03/WWA-Florida-State-Championship-Boat-2.png
ORGANIZER;CN="WWA":MAILTO:info@thewwa.com
END:VEVENT
BEGIN:VEVENT
DTSTART;VALUE=DATE:20240504
DTEND;VALUE=DATE:20240506
DTSTAMP:20260423T201856
CREATED:20240429T131606Z
LAST-MODIFIED:20240429T131606Z
UID:26021-1714780800-1714953599@www.thewwa.com
SUMMARY:2024 Spivey Shootout
DESCRIPTION:Info coming soon…								\n				\n				\n				\n									\n					\n						\n									Event Registration
URL:https://www.thewwa.com/event/2024-spivey-shootout/
ORGANIZER;CN="Action Event Group LLC":MAILTO:brandon@watersportscentral.com
END:VEVENT
BEGIN:VEVENT
DTSTART;VALUE=DATE:20240510
DTEND;VALUE=DATE:20240513
DTSTAMP:20260423T201856
CREATED:20231117T163920Z
LAST-MODIFIED:20240511T113828Z
UID:24798-1715299200-1715558399@www.thewwa.com
SUMMARY:Japan Wakesurf Open presented by YANMAR
DESCRIPTION:Info coming soon…								\n				\n				\n				\n									\n					\n						\n									Event Registration
URL:https://www.thewwa.com/event/japan-wakesurf-open-presented-by-yanmar-2024/
LOCATION:Yanmar Sunset Marina\, Lake Biwa\, Japan
CATEGORIES:Nautique Wakesurf Series
ATTACH;FMTTYPE=image/png:https://www.thewwa.com/wp-content/uploads/2024/04/YANMAR-1.png
ORGANIZER;CN="WWA":MAILTO:info@thewwa.com
END:VEVENT
BEGIN:VEVENT
DTSTART;VALUE=DATE:20240518
DTEND;VALUE=DATE:20240520
DTSTAMP:20260423T201856
CREATED:20240325T133156Z
LAST-MODIFIED:20240819T165732Z
UID:25575-1715990400-1716163199@www.thewwa.com
SUMMARY:USWL Florida State Wakepark Championships
DESCRIPTION:Info coming soon…								\n				\n				\n				\n									\n					\n						\n									Event Registration
URL:https://www.thewwa.com/event/wwa-florida-wake-park-state-championships/
LOCATION:Shark Wake Park\, West Palm Beach\, 1440 Eshleman Trail\, West Palm Beach\, FL\, 33413\, United States
CATEGORIES:USWL,WWA State Championships 2024
ATTACH;FMTTYPE=image/jpeg:https://www.thewwa.com/wp-content/uploads/2024/03/wwa-anouncement-state-wakepark-2-jpg.webp
ORGANIZER;CN="WWA":MAILTO:info@thewwa.com
END:VEVENT
BEGIN:VEVENT
DTSTART;VALUE=DATE:20240519
DTEND;VALUE=DATE:20240520
DTSTAMP:20260423T201856
CREATED:20240415T172317Z
LAST-MODIFIED:20240516T203040Z
UID:25969-1716076800-1716163199@www.thewwa.com
SUMMARY:Performance Ski & Surf - Roots Tour Stop #1
DESCRIPTION:Info coming soon…								\n				\n				\n				\n									\n					\n						\n									Event Registration
URL:https://www.thewwa.com/event/performance-ski-surf-roots-tour-stop-1/
LOCATION:Lake Ronix\, Christmas\, FL\, United States
ATTACH;FMTTYPE=image/jpeg:https://www.thewwa.com/wp-content/uploads/2024/04/Roots-Tour-Shirt-Logo-jpeg.webp
END:VEVENT
BEGIN:VEVENT
DTSTART;VALUE=DATE:20240524
DTEND;VALUE=DATE:20240527
DTSTAMP:20260423T201856
CREATED:20231109T135054Z
LAST-MODIFIED:20231110T192032Z
UID:24723-1716508800-1716767999@www.thewwa.com
SUMMARY:Nautique Masters Water Ski & Wakeboard Tournament® presented by GM Marine
DESCRIPTION:Info coming soon…								\n				\n				\n				\n									\n					\n						\n									Event Registration
URL:https://www.thewwa.com/event/nautique-masters-water-ski-wakeboard-tournament-presented-by-gm-marine/
LOCATION:Callaway Gardens (WWA-WBWS)\, Pine Mountain\, GA\, United States
CATEGORIES:Nautique Wake Series
ATTACH;FMTTYPE=image/png:https://www.thewwa.com/wp-content/uploads/2023/11/nautique-wake-series-2-min.png
ORGANIZER;CN="WWA":MAILTO:info@thewwa.com
END:VEVENT
BEGIN:VEVENT
DTSTART;VALUE=DATE:20240524
DTEND;VALUE=DATE:20240527
DTSTAMP:20260423T201856
CREATED:20240301T154441Z
LAST-MODIFIED:20240523T111847Z
UID:25262-1716508800-1716767999@www.thewwa.com
SUMMARY:WWA Texas State Championships @ Wake the Canyon
DESCRIPTION:Info coming soon…								\n				\n				\n				\n									\n					\n						\n									Event Registration
URL:https://www.thewwa.com/event/wwa-texas-state-championships-wake-the-canyon/
LOCATION:Private: Buffalo Spring Lake\, Lubbock\, TX\, 9999 High Meadow Rd\, Buffalo Springs\, TX\, 79404\, United States
CATEGORIES:WWA State Championships 2024
ATTACH;FMTTYPE=image/png:https://www.thewwa.com/wp-content/uploads/2024/03/WWA-Texas-State-Championships-@-Wake-the-Canyon-2.png
ORGANIZER;CN="WWA":MAILTO:info@thewwa.com
END:VEVENT
BEGIN:VEVENT
DTSTART;VALUE=DATE:20240531
DTEND;VALUE=DATE:20240601
DTSTAMP:20260423T201856
CREATED:20240429T131118Z
LAST-MODIFIED:20240429T131118Z
UID:26018-1717113600-1717199999@www.thewwa.com
SUMMARY:Centurion Come and Take it Conroe Classic
DESCRIPTION:Info coming soon…								\n				\n				\n				\n									\n					\n						\n									Event Registration
URL:https://www.thewwa.com/event/centurion-come-and-take-it-conroe-classic/
END:VEVENT
BEGIN:VEVENT
DTSTART;VALUE=DATE:20240601
DTEND;VALUE=DATE:20240603
DTSTAMP:20260423T201856
CREATED:20240209T111141Z
LAST-MODIFIED:20240530T014123Z
UID:25104-1717200000-1717372799@www.thewwa.com
SUMMARY:Malibu Boats Rider Experience East
DESCRIPTION:Info coming soon…								\n				\n				\n				\n									\n					\n						\n									Event Registration
URL:https://www.thewwa.com/event/malibu-boats-rider-experience-east/
LOCATION:Private: Lake Silver\, Winter Haven\, Florida\, United States
CATEGORIES:Malibu Boats Rider Experience Series 2024
ATTACH;FMTTYPE=image/jpeg:https://www.thewwa.com/wp-content/uploads/2024/02/WWA_11920x800-East-Banner-jpg.webp
ORGANIZER;CN="WWA":MAILTO:info@thewwa.com
END:VEVENT
BEGIN:VEVENT
DTSTART;VALUE=DATE:20240607
DTEND;VALUE=DATE:20240609
DTSTAMP:20260423T201856
CREATED:20240513T153635Z
LAST-MODIFIED:20240513T153635Z
UID:26092-1717718400-1717891199@www.thewwa.com
SUMMARY:SC Rough Riders Weekend with the Pros
DESCRIPTION:Info coming soon…								\n				\n				\n				\n									\n					\n						\n									Event Registration
URL:https://www.thewwa.com/event/sc-rough-riders-weekend-with-the-pros/
END:VEVENT
BEGIN:VEVENT
DTSTART;VALUE=DATE:20240607
DTEND;VALUE=DATE:20240610
DTSTAMP:20260423T201856
CREATED:20231208T141842Z
LAST-MODIFIED:20240528T132245Z
UID:24866-1717718400-1717977599@www.thewwa.com
SUMMARY:Nautique South Central Regatta
DESCRIPTION:Info coming soon…								\n				\n				\n				\n									\n					\n						\n									Event Registration
URL:https://www.thewwa.com/event/nautique-south-central-regatta/
LOCATION:Rockwall\, TX\, United States
CATEGORIES:Nautique Regatta 2024
ATTACH;FMTTYPE=image/png:https://www.thewwa.com/wp-content/uploads/2023/12/regatta-1-min.png
ORGANIZER;CN="WWA":MAILTO:info@thewwa.com
END:VEVENT
BEGIN:VEVENT
DTSTART;VALUE=DATE:20240608
DTEND;VALUE=DATE:20240610
DTSTAMP:20260423T201856
CREATED:20240522T171234Z
LAST-MODIFIED:20240522T171454Z
UID:26137-1717804800-1717977599@www.thewwa.com
SUMMARY:Wake United Series - Clermont Watersports Complex
DESCRIPTION:Info coming soon…								\n				\n				\n				\n									\n					\n						\n									Event Registration
URL:https://www.thewwa.com/event/wake-united-series-clermont-watersports-complex/
LOCATION:Clermont Watersports Complex\, 6010 Cook Rd\, Clermont\, Florida\, 34714
CATEGORIES:WWA Event Sanctioning
ATTACH;FMTTYPE=image/png:https://www.thewwa.com/wp-content/uploads/2024/05/Screenshot-2024-05-22-181342.png
END:VEVENT
BEGIN:VEVENT
DTSTART;VALUE=DATE:20240614
DTEND;VALUE=DATE:20240617
DTSTAMP:20260423T201856
CREATED:20231208T142017Z
LAST-MODIFIED:20240528T132424Z
UID:24877-1718323200-1718582399@www.thewwa.com
SUMMARY:Nautique Southeast Regatta
DESCRIPTION:Info coming soon…								\n				\n				\n				\n									\n					\n						\n									Event Registration
URL:https://www.thewwa.com/event/nautique-southeast-regatta/
LOCATION:Buford\, GA\, United States
CATEGORIES:Nautique Regatta 2024
ATTACH;FMTTYPE=image/png:https://www.thewwa.com/wp-content/uploads/2023/12/regatta-2-min.png
ORGANIZER;CN="WWA":MAILTO:info@thewwa.com
END:VEVENT
BEGIN:VEVENT
DTSTART;VALUE=DATE:20240621
DTEND;VALUE=DATE:20240623
DTSTAMP:20260423T201856
CREATED:20240513T154319Z
LAST-MODIFIED:20240513T154319Z
UID:26097-1718928000-1719100799@www.thewwa.com
SUMMARY:Pro Wakeboard Tour #1
DESCRIPTION:Info coming soon…								\n				\n				\n				\n									\n					\n						\n									Event Registration
URL:https://www.thewwa.com/event/pro-wakeboard-tour-1-2/
END:VEVENT
BEGIN:VEVENT
DTSTART;VALUE=DATE:20240622
DTEND;VALUE=DATE:20240624
DTSTAMP:20260423T201856
CREATED:20240409T101359Z
LAST-MODIFIED:20240819T165731Z
UID:25873-1719014400-1719187199@www.thewwa.com
SUMMARY:USWL Midwest Regional Wakepark Championships
DESCRIPTION:Info coming soon…								\n				\n				\n				\n									\n					\n						\n									Event Registration
URL:https://www.thewwa.com/event/uswl-midwest-regional-wakepark-championships/
LOCATION:West Rock Wake Park\, 1420 S Pierpont Ave\, Rockford\, IL\, 61102\, United States
CATEGORIES:USWL
ATTACH;FMTTYPE=image/jpeg:https://www.thewwa.com/wp-content/uploads/2024/04/june21-22.jpg
ORGANIZER;CN="WWA":MAILTO:info@thewwa.com
END:VEVENT
BEGIN:VEVENT
DTSTART;VALUE=DATE:20240622
DTEND;VALUE=DATE:20240624
DTSTAMP:20260423T201856
CREATED:20240209T111306Z
LAST-MODIFIED:20240620T155240Z
UID:25107-1719014400-1719187199@www.thewwa.com
SUMMARY:Malibu Boats Rider Experience Central
DESCRIPTION:Info coming soon…								\n				\n				\n				\n									\n					\n						\n									Event Registration
URL:https://www.thewwa.com/event/malibu-boats-rider-experience-central/
LOCATION:Rock River along Ethell Ave Bike Path\, 1040 N 2nd St #1\, Rockford\, IL\, 61107\, United States
CATEGORIES:Malibu Boats Rider Experience Series 2024
ATTACH;FMTTYPE=image/jpeg:https://www.thewwa.com/wp-content/uploads/2024/02/unnamed-1-jpg.webp
ORGANIZER;CN="WWA":MAILTO:info@thewwa.com
END:VEVENT
BEGIN:VEVENT
DTSTART;VALUE=DATE:20240622
DTEND;VALUE=DATE:20240624
DTSTAMP:20260423T201856
CREATED:20240429T131923Z
LAST-MODIFIED:20240429T131923Z
UID:26023-1719014400-1719187199@www.thewwa.com
SUMMARY:2024 Mountain Wake Games
DESCRIPTION:Info coming soon…								\n				\n				\n				\n									\n					\n						\n									Event Registration
URL:https://www.thewwa.com/event/2024-mountain-wake-games/
LOCATION:Oak Mountain State Park\, 20 Terrace Drive\, Pelham\, AL\, 35124\, United States
ORGANIZER;CN="Flip Side Watersports of AL":MAILTO:info@flipsideal.com
END:VEVENT
BEGIN:VEVENT
DTSTART;VALUE=DATE:20240628
DTEND;VALUE=DATE:20240701
DTSTAMP:20260423T201856
CREATED:20240301T154607Z
LAST-MODIFIED:20240619T200345Z
UID:25265-1719532800-1719791999@www.thewwa.com
SUMMARY:Nautique WWA Colorado State Championships 2024
DESCRIPTION:Info coming soon…								\n				\n				\n				\n									\n					\n						\n									Event Registration
URL:https://www.thewwa.com/event/wwa-colorado-state-championships/
LOCATION:Private: Sweitzer Lake\, Delta\, CO & Imondi Wake Zone\, Fruita\, CO\, United States
CATEGORIES:WWA State Championships 2024
ATTACH;FMTTYPE=image/png:https://www.thewwa.com/wp-content/uploads/2024/03/WWA-Colorado-State-Championships-Boat-Wake-Park-2.png
ORGANIZER;CN="WWA":MAILTO:info@thewwa.com
END:VEVENT
BEGIN:VEVENT
DTSTART;VALUE=DATE:20240629
DTEND;VALUE=DATE:20240701
DTSTAMP:20260423T201856
CREATED:20240501T120312Z
LAST-MODIFIED:20240819T165729Z
UID:26037-1719619200-1719791999@www.thewwa.com
SUMMARY:USWL Colorado State Wakepark Championships
DESCRIPTION:Info coming soon…								\n				\n				\n				\n									\n					\n						\n									Event Registration
URL:https://www.thewwa.com/event/uswl-colorado-regional-wakepark-championships/
LOCATION:Private: Sweitzer Lake\, Delta\, CO & Imondi Wake Zone\, Fruita\, CO\, United States
CATEGORIES:USWL
ATTACH;FMTTYPE=image/png:https://www.thewwa.com/wp-content/uploads/2024/05/Colorado-Regional-Championships-jpg.webp.png
ORGANIZER;CN="WWA":MAILTO:info@thewwa.com
END:VEVENT
BEGIN:VEVENT
DTSTART;VALUE=DATE:20240706
DTEND;VALUE=DATE:20240708
DTSTAMP:20260423T201856
CREATED:20240430T104141Z
LAST-MODIFIED:20240819T165728Z
UID:26025-1720224000-1720396799@www.thewwa.com
SUMMARY:USWL Southeast Regional Championships
DESCRIPTION:Info coming soon…								\n				\n				\n				\n									\n					\n						\n									Event Registration
URL:https://www.thewwa.com/event/south-east-regional-championships/
LOCATION:South town wake park\, 255 Rambo Rd E\, Rock Hill\,\, SC\, SC 29730\, United States
CATEGORIES:USWL
ATTACH;FMTTYPE=image/jpeg:https://www.thewwa.com/wp-content/uploads/2024/04/South-East-Regional-Championships-4-jpg.webp
ORGANIZER;CN="WWA":MAILTO:info@thewwa.com
END:VEVENT
BEGIN:VEVENT
DTSTART;VALUE=DATE:20240711
DTEND;VALUE=DATE:20240713
DTSTAMP:20260423T201856
CREATED:20240701T211533Z
LAST-MODIFIED:20240701T211533Z
UID:26305-1720656000-1720828799@www.thewwa.com
SUMMARY:Pro Wakeboard Tour #2
DESCRIPTION:Info coming soon…								\n				\n				\n				\n									\n					\n						\n									Event Registration
URL:https://www.thewwa.com/event/pro-wakeboard-tour-2-2/
LOCATION:Jordanelle State Park – Park City\, UT\, Jordanelle State Park\, Park City\, UT\, United States
CATEGORIES:WWA Event Sanctioning
END:VEVENT
BEGIN:VEVENT
DTSTART;VALUE=DATE:20240713
DTEND;VALUE=DATE:20240714
DTSTAMP:20260423T201856
CREATED:20240523T111401Z
LAST-MODIFIED:20240610T184431Z
UID:26150-1720828800-1720915199@www.thewwa.com
SUMMARY:Wake in the Snake
DESCRIPTION:Info coming soon…								\n				\n				\n				\n									\n					\n						\n									Event Registration
URL:https://www.thewwa.com/event/wake-in-the-snake/
LOCATION:River’s Edge Golf Club At Burley\, 131 E Highway 81\, Burley\, ID\, ID 83318\, United States
CATEGORIES:WWA Event Sanctioning
ATTACH;FMTTYPE=image/png:https://www.thewwa.com/wp-content/uploads/2024/05/Screenshot-2024-05-23-121100.png
END:VEVENT
BEGIN:VEVENT
DTSTART;VALUE=DATE:20240713
DTEND;VALUE=DATE:20240715
DTSTAMP:20260423T201856
CREATED:20231117T163919Z
LAST-MODIFIED:20240711T161936Z
UID:24804-1720828800-1721001599@www.thewwa.com
SUMMARY:Nautique European Wakesurf Championships - London
DESCRIPTION:Info coming soon…								\n				\n				\n				\n									\n					\n						\n									Event Registration
URL:https://www.thewwa.com/event/nautique-european-wakesurf-2024/
LOCATION:Liquid Leisure\, Horton Road\, Slough\, SL3 9HY\, United Kingdom
CATEGORIES:Nautique Wakesurf Series
ATTACH;FMTTYPE=image/png:https://www.thewwa.com/wp-content/uploads/2023/11/nautique-wakesurf-series-2-min.png
ORGANIZER;CN="World Wake Association":MAILTO:info@thewwa.com
END:VEVENT
BEGIN:VEVENT
DTSTART;VALUE=DATE:20240713
DTEND;VALUE=DATE:20240715
DTSTAMP:20260423T201856
CREATED:20240209T111404Z
LAST-MODIFIED:20240618T211045Z
UID:25110-1720828800-1721001599@www.thewwa.com
SUMMARY:Malibu Boats Rider Experience West
DESCRIPTION:Info coming soon…								\n				\n				\n				\n									\n					\n						\n									Event Registration
URL:https://www.thewwa.com/event/malibu-boats-rider-experience-west/
LOCATION:Private: Prospect Lake\, Colorado Springs\, Colorado\, CO\, United States
CATEGORIES:Malibu Boats Rider Experience Series 2024
ATTACH;FMTTYPE=image/jpeg:https://www.thewwa.com/wp-content/uploads/2024/02/WWA_1920x800-West-Banner-jpg.webp
ORGANIZER;CN="WWA":MAILTO:info@thewwa.com
END:VEVENT
BEGIN:VEVENT
DTSTART;VALUE=DATE:20240713
DTEND;VALUE=DATE:20240715
DTSTAMP:20260423T201856
CREATED:20240522T163548Z
LAST-MODIFIED:20240618T144328Z
UID:26121-1720828800-1721001599@www.thewwa.com
SUMMARY:2024 Board Bonanza
DESCRIPTION:Info coming soon…								\n				\n				\n				\n									\n					\n						\n									Event Registration
URL:https://www.thewwa.com/event/2024-board-bonanza/
LOCATION:Nashville Boating Center\, 4010 Sells Dr\, Hermitage\, TN\, TN 37076\, United States
CATEGORIES:WWA Event Sanctioning
ATTACH;FMTTYPE=image/png:https://www.thewwa.com/wp-content/uploads/2024/05/Screenshot-2024-05-22-173631.png
END:VEVENT
BEGIN:VEVENT
DTSTART;VALUE=DATE:20240719
DTEND;VALUE=DATE:20240722
DTSTAMP:20260423T201856
CREATED:20240606T173608Z
LAST-MODIFIED:20240717T135301Z
UID:26194-1721347200-1721606399@www.thewwa.com
SUMMARY:Wake the Desert 2024
DESCRIPTION:Info coming soon…								\n				\n				\n				\n									\n					\n						\n									Event Registration
URL:https://www.thewwa.com/event/wake-the-desert-2024/
LOCATION:San Angelo\, Texas
CATEGORIES:WWA State Championships 2024
ATTACH;FMTTYPE=image/jpeg:https://www.thewwa.com/wp-content/uploads/2024/06/Wake-the-Desert-Logo.jpg
END:VEVENT
END:VCALENDAR