BEGIN:VCALENDAR
VERSION:2.0
PRODID:-//World Wake Association - ECPv6.15.17//NONSGML v1.0//EN
CALSCALE:GREGORIAN
METHOD:PUBLISH
X-ORIGINAL-URL:https://www.thewwa.com
X-WR-CALDESC:Events for World Wake Association
REFRESH-INTERVAL;VALUE=DURATION:PT1H
X-Robots-Tag:noindex
X-PUBLISHED-TTL:PT1H
BEGIN:VTIMEZONE
TZID:America/Halifax
BEGIN:DAYLIGHT
TZOFFSETFROM:-0400
TZOFFSETTO:-0300
TZNAME:ADT
DTSTART:20190310T060000
END:DAYLIGHT
BEGIN:STANDARD
TZOFFSETFROM:-0300
TZOFFSETTO:-0400
TZNAME:AST
DTSTART:20191103T050000
END:STANDARD
BEGIN:DAYLIGHT
TZOFFSETFROM:-0400
TZOFFSETTO:-0300
TZNAME:ADT
DTSTART:20200308T060000
END:DAYLIGHT
BEGIN:STANDARD
TZOFFSETFROM:-0300
TZOFFSETTO:-0400
TZNAME:AST
DTSTART:20201101T050000
END:STANDARD
BEGIN:DAYLIGHT
TZOFFSETFROM:-0400
TZOFFSETTO:-0300
TZNAME:ADT
DTSTART:20210314T060000
END:DAYLIGHT
BEGIN:STANDARD
TZOFFSETFROM:-0300
TZOFFSETTO:-0400
TZNAME:AST
DTSTART:20211107T050000
END:STANDARD
BEGIN:DAYLIGHT
TZOFFSETFROM:-0400
TZOFFSETTO:-0300
TZNAME:ADT
DTSTART:20220313T060000
END:DAYLIGHT
BEGIN:STANDARD
TZOFFSETFROM:-0300
TZOFFSETTO:-0400
TZNAME:AST
DTSTART:20221106T050000
END:STANDARD
END:VTIMEZONE
BEGIN:VTIMEZONE
TZID:America/New_York
BEGIN:DAYLIGHT
TZOFFSETFROM:-0500
TZOFFSETTO:-0400
TZNAME:EDT
DTSTART:20190310T070000
END:DAYLIGHT
BEGIN:STANDARD
TZOFFSETFROM:-0400
TZOFFSETTO:-0500
TZNAME:EST
DTSTART:20191103T060000
END:STANDARD
BEGIN:DAYLIGHT
TZOFFSETFROM:-0500
TZOFFSETTO:-0400
TZNAME:EDT
DTSTART:20200308T070000
END:DAYLIGHT
BEGIN:STANDARD
TZOFFSETFROM:-0400
TZOFFSETTO:-0500
TZNAME:EST
DTSTART:20201101T060000
END:STANDARD
BEGIN:DAYLIGHT
TZOFFSETFROM:-0500
TZOFFSETTO:-0400
TZNAME:EDT
DTSTART:20210314T070000
END:DAYLIGHT
BEGIN:STANDARD
TZOFFSETFROM:-0400
TZOFFSETTO:-0500
TZNAME:EST
DTSTART:20211107T060000
END:STANDARD
END:VTIMEZONE
BEGIN:VEVENT
DTSTART;VALUE=DATE:20200124
DTEND;VALUE=DATE:20200126
DTSTAMP:20260423T195014
CREATED:20191220T153813Z
LAST-MODIFIED:20191220T153813Z
UID:18089-1579824000-1579996799@www.thewwa.com
SUMMARY:Toronto Indoor Wakeboard Championships
DESCRIPTION:Info coming soon…								\n				\n				\n				\n									\n					\n						\n									Event Registration
URL:https://www.thewwa.com/event/toronto-indoor-wakeboard-championships/
LOCATION:Enercare Centre\, Toronto\, Canada
ATTACH;FMTTYPE=image/jpeg:https://www.thewwa.com/wp-content/uploads/2019/12/2020_TORONTO_INDOOR_WAKEBOARD_WWA_.jpg
ORGANIZER;CN="Wake Canada":MAILTO:info@wakecanada.ca
END:VEVENT
BEGIN:VEVENT
DTSTART;VALUE=DATE:20200206
DTEND;VALUE=DATE:20200210
DTSTAMP:20260423T195014
CREATED:20191211T004649Z
LAST-MODIFIED:20191211T004649Z
UID:18078-1580947200-1581292799@www.thewwa.com
SUMMARY:Utah Boat Show & Watersports Expo Rail Jam
DESCRIPTION:Info coming soon…								\n				\n				\n				\n									\n					\n						\n									Event Registration
URL:https://www.thewwa.com/event/utah-boat-show-watersports-expo-rail-jam/
LOCATION:Mountain America Expo Center\, 9575 State St\, Sandy\, UT\, United States
END:VEVENT
BEGIN:VEVENT
DTSTART;VALUE=DATE:20200417
DTEND;VALUE=DATE:20200420
DTSTAMP:20260423T195014
CREATED:20200207T224059Z
LAST-MODIFIED:20200506T211457Z
UID:18168-1587081600-1587340799@www.thewwa.com
SUMMARY:Thailand WWA Wake Park World Series event 2020 - POSTPONED
DESCRIPTION:Info coming soon…								\n				\n				\n				\n									\n					\n						\n									Event Registration
URL:https://www.thewwa.com/event/thailand-wwa-wake-park-world-series-event-2020/
LOCATION:Zanook Wake Park\, 77 Thanon Bang Bon 3\, Bangkok\, 10150\, Thailand
CATEGORIES:WPWS
ATTACH;FMTTYPE=image/jpeg:https://www.thewwa.com/wp-content/uploads/2020/02/Thailand-Postponed-1.jpg
ORGANIZER;CN="World Wake Association":MAILTO:info@thewwa.com
END:VEVENT
BEGIN:VEVENT
DTSTART;VALUE=DATE:20200605
DTEND;VALUE=DATE:20200608
DTSTAMP:20260423T195014
CREATED:20200131T004608Z
LAST-MODIFIED:20200514T161737Z
UID:18053-1591315200-1591574399@www.thewwa.com
SUMMARY:Nautique Southeast Regatta 2020 - CANCELLED
DESCRIPTION:Info coming soon…								\n				\n				\n				\n									\n					\n						\n									Event Registration
URL:https://www.thewwa.com/event/nautique-southeast-regatta-2020/
LOCATION:Lake Lanier Islands\, 7000 Lanier Islands Pkwy\, Buford\, GA\, 30518\, United States
ATTACH;FMTTYPE=image/png:https://www.thewwa.com/wp-content/uploads/2020/01/WWA_NautiqueRegattas2020_WebTiles_Cancel.png
ORGANIZER;CN="World Wake Association":MAILTO:info@thewwa.com
END:VEVENT
BEGIN:VEVENT
DTSTART;VALUE=DATE:20200605
DTEND;VALUE=DATE:20200623
DTSTAMP:20260423T195014
CREATED:20200219T194214Z
LAST-MODIFIED:20200605T175229Z
UID:18199-1591315200-1592870399@www.thewwa.com
SUMMARY:Nautique Masters Wakeboard Virtual LCQ 2020
DESCRIPTION:Info coming soon…								\n				\n				\n				\n									\n					\n						\n									Event Registration
URL:https://www.thewwa.com/event/nautique-masters-wakeboard-lcq-2020/
CATEGORIES:Nautique Wake Series
ATTACH;FMTTYPE=image/jpeg:https://www.thewwa.com/wp-content/uploads/2020/02/WWA_WBWS2020_WebTiles_06_LCQ.jpg
ORGANIZER;CN="World Wake Association":MAILTO:info@thewwa.com
END:VEVENT
BEGIN:VEVENT
DTSTART;VALUE=DATE:20200619
DTEND;VALUE=DATE:20200622
DTSTAMP:20260423T195014
CREATED:20200221T012439Z
LAST-MODIFIED:20200507T153823Z
UID:18223-1592524800-1592783999@www.thewwa.com
SUMMARY:Nautique European Wakesurf Championships – London - CANCELLED for 2020
DESCRIPTION:Info coming soon…								\n				\n				\n				\n									\n					\n						\n									Event Registration
URL:https://www.thewwa.com/event/nautique-european-wakesurf-championships-london-2020/
LOCATION:Liquid Leisure\, Horton Road\, Slough\, SL3 9HY\, United Kingdom
ATTACH;FMTTYPE=image/png:https://www.thewwa.com/wp-content/uploads/2020/02/WWA_WakesurfSeries2020_WebTiles_Cancel.png
ORGANIZER;CN="World Wake Association":MAILTO:info@thewwa.com
END:VEVENT
BEGIN:VEVENT
DTSTART;VALUE=DATE:20200620
DTEND;VALUE=DATE:20200621
DTSTAMP:20260423T195014
CREATED:20200604T193443Z
LAST-MODIFIED:20200618T212112Z
UID:18641-1592611200-1592697599@www.thewwa.com
SUMMARY:Malibu Rider Experience Florida Regional Qualifier 2020
DESCRIPTION:Info coming soon…								\n				\n				\n				\n									\n					\n						\n									Event Registration
URL:https://www.thewwa.com/event/malibu-rider-experience-florida-regional-qualifier-2020/
LOCATION:Sun West Harbortowne\, 17253 Old Dixie Hwy\, Hudson\, FL\, 34667\, United States
ATTACH;FMTTYPE=image/jpeg:https://www.thewwa.com/wp-content/uploads/2020/06/WWA_RE2020_Webtiles_04-Florida.jpg
ORGANIZER;CN="World Wake Association":MAILTO:info@thewwa.com
END:VEVENT
BEGIN:VEVENT
DTSTART;VALUE=DATE:20200627
DTEND;VALUE=DATE:20200629
DTSTAMP:20260423T195014
CREATED:20200219T192704Z
LAST-MODIFIED:20200629T024221Z
UID:18066-1593216000-1593388799@www.thewwa.com
SUMMARY:Malibu Rider Experience Central 2020
DESCRIPTION:Info coming soon…								\n				\n				\n				\n									\n					\n						\n									Event Registration
URL:https://www.thewwa.com/event/malibu-rider-experience-central-2020/
LOCATION:Marine Creek Reservoir\, 2700 NW Loop 820\, Fort Worth\, TX\, 76179\, United States
ATTACH;FMTTYPE=image/jpeg:https://www.thewwa.com/wp-content/uploads/2020/02/WWA_RE2020_Webtiles_03-Central.jpg
ORGANIZER;CN="World Wake Association":MAILTO:info@thewwa.com
END:VEVENT
BEGIN:VEVENT
DTSTART;VALUE=DATE:20200628
DTEND;VALUE=DATE:20200630
DTSTAMP:20260423T195014
CREATED:20200219T192930Z
LAST-MODIFIED:20200629T024643Z
UID:18068-1593302400-1593475199@www.thewwa.com
SUMMARY:Malibu WWA Regional Championships Central 2020
DESCRIPTION:Info coming soon…								\n				\n				\n				\n									\n					\n						\n									Event Registration
URL:https://www.thewwa.com/event/malibu-wwa-regional-championships-central-2020/
LOCATION:Marine Creek Reservoir\, 2700 NW Loop 820\, Fort Worth\, TX\, 76179\, United States
CATEGORIES:USA
ATTACH;FMTTYPE=image/jpeg:https://www.thewwa.com/wp-content/uploads/2020/02/WWA_RE2020_Webtiles_03-Central.jpg
ORGANIZER;CN="World Wake Association":MAILTO:info@thewwa.com
END:VEVENT
BEGIN:VEVENT
DTSTART;VALUE=DATE:20200711
DTEND;VALUE=DATE:20200713
DTSTAMP:20260423T195014
CREATED:20200219T191827Z
LAST-MODIFIED:20200713T142623Z
UID:18074-1594425600-1594598399@www.thewwa.com
SUMMARY:Malibu Rider Experience North 2020
DESCRIPTION:Info coming soon…								\n				\n				\n				\n									\n					\n						\n									Event Registration
URL:https://www.thewwa.com/event/malibu-rider-experience-north-2020/
LOCATION:Lake Anna State Park\, 6800 Lawyers Road\, Spotsylvania\, VA\, 22551\, United States
ATTACH;FMTTYPE=image/jpeg:https://www.thewwa.com/wp-content/uploads/2020/01/WWA_RE2020_Webtiles_02-North.jpg
ORGANIZER;CN="World Wake Association":MAILTO:info@thewwa.com
END:VEVENT
BEGIN:VEVENT
DTSTART;VALUE=DATE:20200712
DTEND;VALUE=DATE:20200713
DTSTAMP:20260423T195014
CREATED:20200219T191657Z
LAST-MODIFIED:20200713T144432Z
UID:18076-1594512000-1594598399@www.thewwa.com
SUMMARY:Malibu WWA Regional Championships North 2020
DESCRIPTION:Info coming soon…								\n				\n				\n				\n									\n					\n						\n									Event Registration
URL:https://www.thewwa.com/event/malibu-wwa-regional-championships-north-2020/
LOCATION:Lake Anna State Park\, 6800 Lawyers Road\, Spotsylvania\, VA\, 22551\, United States
ATTACH;FMTTYPE=image/jpeg:https://www.thewwa.com/wp-content/uploads/2020/01/WWA_RE2020_Webtiles_02-North.jpg
ORGANIZER;CN="World Wake Association":MAILTO:info@thewwa.com
END:VEVENT
BEGIN:VEVENT
DTSTART;VALUE=DATE:20200717
DTEND;VALUE=DATE:20200720
DTSTAMP:20260423T195014
CREATED:20200219T185956Z
LAST-MODIFIED:20210427T180643Z
UID:18070-1594944000-1595203199@www.thewwa.com
SUMMARY:Malibu Rider Experience South at Wakefest Tennessee 2020
DESCRIPTION:Info coming soon…								\n				\n				\n				\n									\n					\n						\n									Event Registration
URL:https://www.thewwa.com/event/malibu-rider-experience-south-2020/
LOCATION:Pates Ford Marina\, 6323 Jefferson Road\, Smithville\, TN\, 37166\, United States
ATTACH;FMTTYPE=image/jpeg:https://www.thewwa.com/wp-content/uploads/2020/02/WWA_RE2020_Webtiles_04_South.jpg
ORGANIZER;CN="World Wake Association":MAILTO:info@thewwa.com
END:VEVENT
BEGIN:VEVENT
DTSTART;VALUE=DATE:20200718
DTEND;VALUE=DATE:20200720
DTSTAMP:20260423T195014
CREATED:20200219T191417Z
LAST-MODIFIED:20200622T151950Z
UID:18072-1595030400-1595203199@www.thewwa.com
SUMMARY:Malibu WWA Regional Championships South 2020
DESCRIPTION:Info coming soon…								\n				\n				\n				\n									\n					\n						\n									Event Registration
URL:https://www.thewwa.com/event/malibu-wwa-regional-championships-south-2020/
LOCATION:Pates Ford Marina\, 6323 Jefferson Road\, Smithville\, TN\, 37166\, United States
ATTACH;FMTTYPE=image/jpeg:https://www.thewwa.com/wp-content/uploads/2020/02/WWA_RE2020_Webtiles_04_South.jpg
ORGANIZER;CN="World Wake Association":MAILTO:info@thewwa.com
END:VEVENT
BEGIN:VEVENT
DTSTART;VALUE=DATE:20200731
DTEND;VALUE=DATE:20200802
DTSTAMP:20260423T195014
CREATED:20200219T193145Z
LAST-MODIFIED:20200723T181718Z
UID:18064-1596153600-1596326399@www.thewwa.com
SUMMARY:Malibu WWA Regional Championships West 2020
DESCRIPTION:Info coming soon…								\n				\n				\n				\n									\n					\n						\n									Event Registration
URL:https://www.thewwa.com/event/malibu-wwa-regional-championships-west-2020/
LOCATION:Broadside Harbor Ski Lakes\, 21600 Look Ln\, Caldwell\, ID\, 83607\, United States
ATTACH;FMTTYPE=image/jpeg:https://www.thewwa.com/wp-content/uploads/2020/02/West-New-Location-scaled.jpg
ORGANIZER;CN="World Wake Association":MAILTO:info@thewwa.com
END:VEVENT
BEGIN:VEVENT
DTSTART;VALUE=DATE:20200731
DTEND;VALUE=DATE:20200802
DTSTAMP:20260423T195014
CREATED:20200219T193659Z
LAST-MODIFIED:20200724T230137Z
UID:18060-1596153600-1596326399@www.thewwa.com
SUMMARY:Malibu Rider Experience West 2020
DESCRIPTION:Info coming soon…								\n				\n				\n				\n									\n					\n						\n									Event Registration
URL:https://www.thewwa.com/event/malibu-rider-experience-west-2020/
LOCATION:Broadside Harbor Ski Lakes\, 21600 Look Ln\, Caldwell\, ID\, 83607\, United States
ATTACH;FMTTYPE=application/pdf:https://www.thewwa.com/wp-content/uploads/2020/02/Artboard-1.pdf
ORGANIZER;CN="World Wake Association":MAILTO:info@thewwa.com
END:VEVENT
BEGIN:VEVENT
DTSTART;VALUE=DATE:20200801
DTEND;VALUE=DATE:20200803
DTSTAMP:20260423T195014
CREATED:20200221T013631Z
LAST-MODIFIED:20200318T002221Z
UID:18230-1596240000-1596412799@www.thewwa.com
SUMMARY:Japan Wakesurf Open presented by Yanmar 2020
DESCRIPTION:Info coming soon…								\n				\n				\n				\n									\n					\n						\n									Event Registration
URL:https://www.thewwa.com/event/japan-wakesurf-open-presented-by-yanmar-2020/
ATTACH;FMTTYPE=image/jpeg:https://www.thewwa.com/wp-content/uploads/2020/03/WWA_WakesurfSeries2020_WebTiles_06_Japan.jpg
ORGANIZER;CN="World Wake Association":MAILTO:info@thewwa.com
END:VEVENT
BEGIN:VEVENT
DTSTART;TZID=America/Halifax:20200801T100000
DTEND;TZID=America/Halifax:20200801T170000
DTSTAMP:20260423T195014
CREATED:20200326T181343Z
LAST-MODIFIED:20200608T204952Z
UID:18530-1596276000-1596301200@www.thewwa.com
SUMMARY:Wakesurf Lake Area Watersports
DESCRIPTION:Info coming soon…								\n				\n				\n				\n									\n					\n						\n									Event Registration
URL:https://www.thewwa.com/event/wakesurf-lake-area-watersports/
LOCATION:Island Lake\, 10858 NE 227th Place Rd.\, Ft. McCoy\, FL\, 32134\, United States
CATEGORIES:USA
ATTACH;FMTTYPE=image/png:https://www.thewwa.com/wp-content/uploads/2020/03/Screen-Shot-2020-02-11-at-1.32.05-PM.png
END:VEVENT
BEGIN:VEVENT
DTSTART;VALUE=DATE:20200805
DTEND;VALUE=DATE:20200810
DTSTAMP:20260423T195014
CREATED:20200219T195632Z
LAST-MODIFIED:20210427T180205Z
UID:18043-1596585600-1597017599@www.thewwa.com
SUMMARY:Nautique WWA Wakeboard National Championships presented by GM Marine 2020
DESCRIPTION:Info coming soon…								\n				\n				\n				\n									\n					\n						\n									Event Registration
URL:https://www.thewwa.com/event/nautique-wwa-wakeboard-national-championships-2020/
LOCATION:BSR Cable Park\, 5347 Old Mexia Rd\, Waco\, TX\, 76705\, United States
CATEGORIES:WBWS
ATTACH;FMTTYPE=image/jpeg:https://www.thewwa.com/wp-content/uploads/2020/01/WWA_WBWS2020_WebTiles_03_BoatNationals.jpg
ORGANIZER;CN="World Wake Association":MAILTO:info@thewwa.com
END:VEVENT
BEGIN:VEVENT
DTSTART;VALUE=DATE:20200805
DTEND;VALUE=DATE:20200810
DTSTAMP:20260423T195014
CREATED:20200219T195812Z
LAST-MODIFIED:20200814T175802Z
UID:18045-1596585600-1597017599@www.thewwa.com
SUMMARY:Nautique WWA Wake Park National Championships presented by GM Marine 2020
DESCRIPTION:Info coming soon…								\n				\n				\n				\n									\n					\n						\n									Event Registration
URL:https://www.thewwa.com/event/nautique-wwa-wake-park-national-championships-2020/
LOCATION:BSR Cable Park\, 5347 Old Mexia Rd\, Waco\, TX\, 76705\, United States
ATTACH;FMTTYPE=image/jpeg:https://www.thewwa.com/wp-content/uploads/2020/01/WWA_WPWS2020_WebTiles_02_ParkNats.jpg
ORGANIZER;CN="World Wake Association":MAILTO:info@thewwa.com
END:VEVENT
BEGIN:VEVENT
DTSTART;VALUE=DATE:20200807
DTEND;VALUE=DATE:20200810
DTSTAMP:20260423T195014
CREATED:20200219T195118Z
LAST-MODIFIED:20200826T124136Z
UID:18047-1596758400-1597017599@www.thewwa.com
SUMMARY:Nautique USA National Wakesurf Championships presented by GM Marine 2020
DESCRIPTION:Info coming soon…								\n				\n				\n				\n									\n					\n						\n									Event Registration
URL:https://www.thewwa.com/event/nautique-usa-national-wakesurf-championships-2020/
LOCATION:BSR Cable Park\, 5347 Old Mexia Rd\, Waco\, TX\, 76705\, United States
ATTACH;FMTTYPE=image/jpeg:https://www.thewwa.com/wp-content/uploads/2020/02/WWA_WakesurfSeries2020_WebTiles_05-3.jpg
ORGANIZER;CN="World Wake Association":MAILTO:info@thewwa.com
END:VEVENT
BEGIN:VEVENT
DTSTART;VALUE=DATE:20200814
DTEND;VALUE=DATE:20200817
DTSTAMP:20260423T195014
CREATED:20200221T012607Z
LAST-MODIFIED:20200823T001930Z
UID:18221-1597363200-1597622399@www.thewwa.com
SUMMARY:Nautique European Wakesurf Championships – Konakovo 2020 - CANCELLED FOR 2020
DESCRIPTION:Info coming soon…								\n				\n				\n				\n									\n					\n						\n									Event Registration
URL:https://www.thewwa.com/event/nautique-european-wakesurf-championships-konakovo-2020/
LOCATION:Konakovo River Club\, Prigorodnaya Ulitsa\, 70\, Tverskaya oblast'\, Konakovo\, 171255\, Russian Federation
ATTACH;FMTTYPE=image/png:https://www.thewwa.com/wp-content/uploads/2020/02/WWA_WakesurfSeries2020_WebTiles_Cancel.png
END:VEVENT
BEGIN:VEVENT
DTSTART;VALUE=DATE:20200814
DTEND;VALUE=DATE:20200817
DTSTAMP:20260423T195014
CREATED:20200221T012833Z
LAST-MODIFIED:20200722T195109Z
UID:18225-1597363200-1597622399@www.thewwa.com
SUMMARY:Nautique Asian Wakesurf Championships 2020 - CANCELLED FOR 2020
DESCRIPTION:Info coming soon…								\n				\n				\n				\n									\n					\n						\n									Event Registration
URL:https://www.thewwa.com/event/nautique-asian-wakesurf-championships-2020/
LOCATION:Han River – Korea Wakesurf Association Training Center\, 376-1\, Abgujeong-dong\, Gangnam-gu\, Seoul\, South Korea\, Seoul\, Korea\, Democratic People's Republic of
ATTACH;FMTTYPE=image/png:https://www.thewwa.com/wp-content/uploads/2020/07/korea-cancelled-tile.png
ORGANIZER;CN="Korean Wakesurf Association":MAILTO:info@kwsa.co.kr
END:VEVENT
BEGIN:VEVENT
DTSTART;VALUE=DATE:20200815
DTEND;VALUE=DATE:20200816
DTSTAMP:20260423T195014
CREATED:20200730T002814Z
LAST-MODIFIED:20200730T002814Z
UID:18927-1597449600-1597535999@www.thewwa.com
SUMMARY:Mountain Air Classic
DESCRIPTION:Info coming soon…								\n				\n				\n				\n									\n					\n						\n									Event Registration
URL:https://www.thewwa.com/event/mountain-air-classic-3/
LOCATION:Lake Burton\, 25 Shoreline Trail\, Clarkesville\, GA\, 30523\, United States
CATEGORIES:USA
ATTACH;FMTTYPE=image/jpeg:https://www.thewwa.com/wp-content/uploads/2020/07/105654354_4037592979647568_1373472543275085506_o.jpg
ORGANIZER;CN="World Wake Association":MAILTO:info@thewwa.com
END:VEVENT
BEGIN:VEVENT
DTSTART;VALUE=DATE:20200828
DTEND;VALUE=DATE:20200831
DTSTAMP:20260423T195014
CREATED:20200219T194520Z
LAST-MODIFIED:20200828T185506Z
UID:18058-1598572800-1598831999@www.thewwa.com
SUMMARY:Nautique Masters Wakesurf Championships presented by Yanmar 2020
DESCRIPTION:Info coming soon…								\n				\n				\n				\n									\n					\n						\n									Event Registration
URL:https://www.thewwa.com/event/nautique-masters-wakesurf-championships-2020/
LOCATION:Callaway Gardens\, 3 Mile Beach Drive\, Pine Mountain\, GA\, 31822\, United States
ATTACH;FMTTYPE=image/jpeg:https://www.thewwa.com/wp-content/uploads/2020/07/WWA_WakesurfSeries2020_WebTiles_07_SurfMasters.jpg
ORGANIZER;CN="World Wake Association":MAILTO:info@thewwa.com
END:VEVENT
BEGIN:VEVENT
DTSTART;VALUE=DATE:20200828
DTEND;VALUE=DATE:20200831
DTSTAMP:20260423T195014
CREATED:20200219T200149Z
LAST-MODIFIED:20200605T184257Z
UID:18041-1598572800-1598831999@www.thewwa.com
SUMMARY:Nautique Masters Waterski & Wakeboard Tournament 2020
DESCRIPTION:Info coming soon…								\n				\n				\n				\n									\n					\n						\n									Event Registration
URL:https://www.thewwa.com/event/nautique-masters-waterski-wakeboard-tournament-2020/
LOCATION:Callaway Gardens\, 3 Mile Beach Drive\, Pine Mountain\, GA\, 31822\, United States
ATTACH;FMTTYPE=image/jpeg:https://www.thewwa.com/wp-content/uploads/2020/02/WWA_WBWS2020_WebTiles_07_Masters.jpg
END:VEVENT
BEGIN:VEVENT
DTSTART;VALUE=DATE:20200828
DTEND;VALUE=DATE:20200831
DTSTAMP:20260423T195014
CREATED:20200220T173231Z
LAST-MODIFIED:20200829T115356Z
UID:18049-1598572800-1598831999@www.thewwa.com
SUMMARY:Nautique WWA Wakeboard World Championships 2020
DESCRIPTION:Info coming soon…								\n				\n				\n				\n									\n					\n						\n									Event Registration
URL:https://www.thewwa.com/event/nautique-wwa-wakeboard-world-championships-2020/
LOCATION:Pine Mountain\, Georgia\, 3 Mile Beach Drive\, Pine Mountain\, GA\, 31822\, United States
ATTACH;FMTTYPE=image/jpeg:https://www.thewwa.com/wp-content/uploads/2020/07/WWA_WBWS2020_WebTiles_08_BoatWorlds.jpg
ORGANIZER;CN="World Wake Association":MAILTO:info@thewwa.com
END:VEVENT
BEGIN:VEVENT
DTSTART;VALUE=DATE:20200911
DTEND;VALUE=DATE:20200914
DTSTAMP:20260423T195014
CREATED:20200131T004511Z
LAST-MODIFIED:20200722T195146Z
UID:18056-1599782400-1600041599@www.thewwa.com
SUMMARY:Nautique Southwest Regatta 2020 - CANCELLED
DESCRIPTION:Info coming soon…								\n				\n				\n				\n									\n					\n						\n									Event Registration
URL:https://www.thewwa.com/event/nautique-southwest-regatta-2020/
LOCATION:BlueWater Resort & Casino\, 11300 Resort Dr\, Parker\, AZ\, 85344\, United States
CATEGORIES:USA
ATTACH;FMTTYPE=application/pdf:https://www.thewwa.com/wp-content/uploads/2020/01/SW-CANCELLED.pdf
ORGANIZER;CN="World Wake Association":MAILTO:info@thewwa.com
END:VEVENT
BEGIN:VEVENT
DTSTART;VALUE=DATE:20200918
DTEND;VALUE=DATE:20200919
DTSTAMP:20260423T195014
CREATED:20200221T013237Z
LAST-MODIFIED:20200914T180642Z
UID:18228-1600387200-1600473599@www.thewwa.com
SUMMARY:Nautique Canadian Wakesurf National Championships presented by Yanmar 2020
DESCRIPTION:Info coming soon…								\n				\n				\n				\n									\n					\n						\n									Event Registration
URL:https://www.thewwa.com/event/nautique-canadian-wakesurf-national-championships-presented-by-yanmar-2020/
LOCATION:Newport Beach Marina\, 12069 Westside Rd\, Vernon\, BC\, L0N 1S5\, Canada
ATTACH;FMTTYPE=image/jpeg:https://www.thewwa.com/wp-content/uploads/2020/02/NAUTIQUE_CDN-WAKESURF_NATIONALS_WWA_updated_graphic-scaled.jpg
ORGANIZER;CN="Wake Canada":MAILTO:info@wakecanada.ca
END:VEVENT
BEGIN:VEVENT
DTSTART;VALUE=DATE:20200920
DTEND;VALUE=DATE:20200923
DTSTAMP:20260423T195014
CREATED:20200810T183551Z
LAST-MODIFIED:20201006T170901Z
UID:19094-1600560000-1600819199@www.thewwa.com
SUMMARY:WWA Wake Park World Championships presented by Nautique Boats 2020
DESCRIPTION:Info coming soon…								\n				\n				\n				\n									\n					\n						\n									Event Registration
URL:https://www.thewwa.com/event/wwa-wake-park-world-championships-presented-by-nautique-boats-2020/
LOCATION:Valdosta Wake Compound\, 2314 Old Clyattville Rd\, Valdosta\, GA\, 31601\, United States
CATEGORIES:WPWS
ATTACH;FMTTYPE=image/jpeg:https://www.thewwa.com/wp-content/uploads/2020/08/Updated-Wake-Park-Worlds-Tile-scaled.jpg
ORGANIZER;CN="World Wake Association":MAILTO:info@thewwa.com
END:VEVENT
BEGIN:VEVENT
DTSTART;TZID=America/Halifax:20210213T080000
DTEND;TZID=America/Halifax:20210213T170000
DTSTAMP:20260423T195014
CREATED:20210223T174754Z
LAST-MODIFIED:20210223T182216Z
UID:19510-1613203200-1613235600@www.thewwa.com
SUMMARY:Aktion Parks Member's Only Contest Stop #1 - Miami Watersports Complex
DESCRIPTION:Info coming soon…								\n				\n				\n				\n									\n					\n						\n									Event Registration
URL:https://www.thewwa.com/event/aktion-parks-members-only-miami-watersports-complex/
LOCATION:Miami Watersports Complex\, 401 E 65 Street\, Hialeah\, FL\, 33013\, United States
END:VEVENT
END:VCALENDAR