BEGIN:VCALENDAR
VERSION:2.0
PRODID:-//World Wake Association - ECPv6.15.17//NONSGML v1.0//EN
CALSCALE:GREGORIAN
METHOD:PUBLISH
X-WR-CALNAME:World Wake Association
X-ORIGINAL-URL:https://www.thewwa.com
X-WR-CALDESC:Events for World Wake Association
REFRESH-INTERVAL;VALUE=DURATION:PT1H
X-Robots-Tag:noindex
X-PUBLISHED-TTL:PT1H
BEGIN:VTIMEZONE
TZID:America/Halifax
BEGIN:DAYLIGHT
TZOFFSETFROM:-0400
TZOFFSETTO:-0300
TZNAME:ADT
DTSTART:20250309T060000
END:DAYLIGHT
BEGIN:STANDARD
TZOFFSETFROM:-0300
TZOFFSETTO:-0400
TZNAME:AST
DTSTART:20251102T050000
END:STANDARD
BEGIN:DAYLIGHT
TZOFFSETFROM:-0400
TZOFFSETTO:-0300
TZNAME:ADT
DTSTART:20260308T060000
END:DAYLIGHT
BEGIN:STANDARD
TZOFFSETFROM:-0300
TZOFFSETTO:-0400
TZNAME:AST
DTSTART:20261101T050000
END:STANDARD
BEGIN:DAYLIGHT
TZOFFSETFROM:-0400
TZOFFSETTO:-0300
TZNAME:ADT
DTSTART:20270314T060000
END:DAYLIGHT
BEGIN:STANDARD
TZOFFSETFROM:-0300
TZOFFSETTO:-0400
TZNAME:AST
DTSTART:20271107T050000
END:STANDARD
END:VTIMEZONE
BEGIN:VEVENT
DTSTART;VALUE=DATE:20260711
DTEND;VALUE=DATE:20260713
DTSTAMP:20260423T192434
CREATED:20260330T230143Z
LAST-MODIFIED:20260330T230143Z
UID:38208-1783728000-1783900799@www.thewwa.com
SUMMARY:WSWS Centurion Wake Surf Japan Open 2026
DESCRIPTION:Event: Loch Stock Wakeboard and Wakesurf Event 2025Location: Ardlui Hotel\, Loch Lomond\, Nr Arrochar G83 7EB\, United KingdomDates: Demo Day Saturday 31st May\, Competition Day Sunday June 1stTowboat: Nautique G23 powered by Yanmar Marine EnginesDetails: Get Ready for Loch Stock – The Ultimate Scottish Wakeboard and Wakesurf Weekend!Presented by Scotland Nautique\, Loch Stock returns to the stunning waters of Loch Lomond for two days of non-stop action and entertainment! 								\n				\n				\n				\n									\n					\n						\n									Event registration\n					\n					\n				\n								\n				\n				\n				\n							\n\n						Entry fee $88 + Membership USD $45 (single event)  \n			\n						this includes a practice set and tshirt.\n			\n						\n									×\n							\n			\n		\n						\n				\n				\n				\n									 Saturday 31st May – Coaching & Demo DayKick off the weekend with expert-led wakeboard and wakesurf lessons\, hands-on coaching sessions\, and the chance to demo the latest Nautique boats. Sunday 1st June – Competition Day Watch amateur and top athletes go head-to-head in thrilling wakeboard and wakesurf competition\, with riders showing off their skills in front of a buzzing crowd. All Weekend – Food\, Music & More! Enjoy live DJ sets\, music\, a sizzling BBQ\, and the electric atmosphere that makes Loch Stock an unmissable celebration of watersports and summer vibes. Register now to secure your spot!
URL:https://www.thewwa.com/event/wsws-centurion-wake-surf-japan-open-2026/
CATEGORIES:World Series of Wakesurfing
ATTACH;FMTTYPE=image/png:https://www.thewwa.com/wp-content/uploads/2026/03/1772025096230000.png
END:VEVENT
BEGIN:VEVENT
DTSTART;VALUE=DATE:20260717
DTEND;VALUE=DATE:20260719
DTSTAMP:20260423T192434
CREATED:20260122T231828Z
LAST-MODIFIED:20260402T154845Z
UID:37683-1784246400-1784419199@www.thewwa.com
SUMMARY:Cowtown Wake Fest
DESCRIPTION:Event: Loch Stock Wakeboard and Wakesurf Event 2025Location: Ardlui Hotel\, Loch Lomond\, Nr Arrochar G83 7EB\, United KingdomDates: Demo Day Saturday 31st May\, Competition Day Sunday June 1stTowboat: Nautique G23 powered by Yanmar Marine EnginesDetails: Get Ready for Loch Stock – The Ultimate Scottish Wakeboard and Wakesurf Weekend!Presented by Scotland Nautique\, Loch Stock returns to the stunning waters of Loch Lomond for two days of non-stop action and entertainment! 								\n				\n				\n				\n									\n					\n						\n									Event registration\n					\n					\n				\n								\n				\n				\n				\n							\n\n						Entry fee $88 + Membership USD $45 (single event)  \n			\n						this includes a practice set and tshirt.\n			\n						\n									×\n							\n			\n		\n						\n				\n				\n				\n									 Saturday 31st May – Coaching & Demo DayKick off the weekend with expert-led wakeboard and wakesurf lessons\, hands-on coaching sessions\, and the chance to demo the latest Nautique boats. Sunday 1st June – Competition Day Watch amateur and top athletes go head-to-head in thrilling wakeboard and wakesurf competition\, with riders showing off their skills in front of a buzzing crowd. All Weekend – Food\, Music & More! Enjoy live DJ sets\, music\, a sizzling BBQ\, and the electric atmosphere that makes Loch Stock an unmissable celebration of watersports and summer vibes. Register now to secure your spot!
URL:https://www.thewwa.com/event/fort-worth-wake-surf-open-2026/
CATEGORIES:2026,World Series of Wakesurfing
ATTACH;FMTTYPE=image/png:https://www.thewwa.com/wp-content/uploads/2026/01/Group-44206.png
ORGANIZER;CN="WWA":MAILTO:info@thewwa.com
END:VEVENT
BEGIN:VEVENT
DTSTART;VALUE=DATE:20260717
DTEND;VALUE=DATE:20260720
DTSTAMP:20260423T192434
CREATED:20251120T134711Z
LAST-MODIFIED:20260415T123120Z
UID:37587-1784246400-1784505599@www.thewwa.com
SUMMARY:Nautique Canadian Regatta
DESCRIPTION:Event: Loch Stock Wakeboard and Wakesurf Event 2025Location: Ardlui Hotel\, Loch Lomond\, Nr Arrochar G83 7EB\, United KingdomDates: Demo Day Saturday 31st May\, Competition Day Sunday June 1stTowboat: Nautique G23 powered by Yanmar Marine EnginesDetails: Get Ready for Loch Stock – The Ultimate Scottish Wakeboard and Wakesurf Weekend!Presented by Scotland Nautique\, Loch Stock returns to the stunning waters of Loch Lomond for two days of non-stop action and entertainment! 								\n				\n				\n				\n									\n					\n						\n									Event registration\n					\n					\n				\n								\n				\n				\n				\n							\n\n						Entry fee $88 + Membership USD $45 (single event)  \n			\n						this includes a practice set and tshirt.\n			\n						\n									×\n							\n			\n		\n						\n				\n				\n				\n									 Saturday 31st May – Coaching & Demo DayKick off the weekend with expert-led wakeboard and wakesurf lessons\, hands-on coaching sessions\, and the chance to demo the latest Nautique boats. Sunday 1st June – Competition Day Watch amateur and top athletes go head-to-head in thrilling wakeboard and wakesurf competition\, with riders showing off their skills in front of a buzzing crowd. All Weekend – Food\, Music & More! Enjoy live DJ sets\, music\, a sizzling BBQ\, and the electric atmosphere that makes Loch Stock an unmissable celebration of watersports and summer vibes. Register now to secure your spot!
URL:https://www.thewwa.com/event/2026-nautique-regatta-4/
CATEGORIES:2026,Nautique Regatta 2026
ATTACH;FMTTYPE=image/png:https://www.thewwa.com/wp-content/uploads/2025/11/Group-44220.png
END:VEVENT
BEGIN:VEVENT
DTSTART;VALUE=DATE:20260722
DTEND;VALUE=DATE:20260727
DTSTAMP:20260423T192434
CREATED:20251113T182625Z
LAST-MODIFIED:20251120T142108Z
UID:36477-1784678400-1785110399@www.thewwa.com
SUMMARY:Nautique USA National Wakesurf Championships presented by GM Marine
DESCRIPTION:Event: Loch Stock Wakeboard and Wakesurf Event 2025Location: Ardlui Hotel\, Loch Lomond\, Nr Arrochar G83 7EB\, United KingdomDates: Demo Day Saturday 31st May\, Competition Day Sunday June 1stTowboat: Nautique G23 powered by Yanmar Marine EnginesDetails: Get Ready for Loch Stock – The Ultimate Scottish Wakeboard and Wakesurf Weekend!Presented by Scotland Nautique\, Loch Stock returns to the stunning waters of Loch Lomond for two days of non-stop action and entertainment! 								\n				\n				\n				\n									\n					\n						\n									Event registration\n					\n					\n				\n								\n				\n				\n				\n							\n\n						Entry fee $88 + Membership USD $45 (single event)  \n			\n						this includes a practice set and tshirt.\n			\n						\n									×\n							\n			\n		\n						\n				\n				\n				\n									 Saturday 31st May – Coaching & Demo DayKick off the weekend with expert-led wakeboard and wakesurf lessons\, hands-on coaching sessions\, and the chance to demo the latest Nautique boats. Sunday 1st June – Competition Day Watch amateur and top athletes go head-to-head in thrilling wakeboard and wakesurf competition\, with riders showing off their skills in front of a buzzing crowd. All Weekend – Food\, Music & More! Enjoy live DJ sets\, music\, a sizzling BBQ\, and the electric atmosphere that makes Loch Stock an unmissable celebration of watersports and summer vibes. Register now to secure your spot!
URL:https://www.thewwa.com/event/nautique-wakesurf-series-4/
LOCATION:Boca Raton\, Boca Raton\, FL\, United States
CATEGORIES:2026,Nautique Wakesurf Series
ATTACH;FMTTYPE=image/png:https://www.thewwa.com/wp-content/uploads/2025/11/nws4-min.png
ORGANIZER;CN="WWA":MAILTO:info@thewwa.com
END:VEVENT
BEGIN:VEVENT
DTSTART;VALUE=DATE:20260726
DTEND;VALUE=DATE:20260727
DTSTAMP:20260423T192434
CREATED:20251106T232214Z
LAST-MODIFIED:20251120T141331Z
UID:35419-1785024000-1785110399@www.thewwa.com
SUMMARY:Nautique WWA Wakeboard National Championships presented by GM Marine
DESCRIPTION:Event: Loch Stock Wakeboard and Wakesurf Event 2025Location: Ardlui Hotel\, Loch Lomond\, Nr Arrochar G83 7EB\, United KingdomDates: Demo Day Saturday 31st May\, Competition Day Sunday June 1stTowboat: Nautique G23 powered by Yanmar Marine EnginesDetails: Get Ready for Loch Stock – The Ultimate Scottish Wakeboard and Wakesurf Weekend!Presented by Scotland Nautique\, Loch Stock returns to the stunning waters of Loch Lomond for two days of non-stop action and entertainment! 								\n				\n				\n				\n									\n					\n						\n									Event registration\n					\n					\n				\n								\n				\n				\n				\n							\n\n						Entry fee $88 + Membership USD $45 (single event)  \n			\n						this includes a practice set and tshirt.\n			\n						\n									×\n							\n			\n		\n						\n				\n				\n				\n									 Saturday 31st May – Coaching & Demo DayKick off the weekend with expert-led wakeboard and wakesurf lessons\, hands-on coaching sessions\, and the chance to demo the latest Nautique boats. Sunday 1st June – Competition Day Watch amateur and top athletes go head-to-head in thrilling wakeboard and wakesurf competition\, with riders showing off their skills in front of a buzzing crowd. All Weekend – Food\, Music & More! Enjoy live DJ sets\, music\, a sizzling BBQ\, and the electric atmosphere that makes Loch Stock an unmissable celebration of watersports and summer vibes. Register now to secure your spot!
URL:https://www.thewwa.com/event/nautique-wake-series-2026-3/
LOCATION:Boca Raton\, Boca Raton\, FL\, United States
CATEGORIES:2026,Nautique Wake Series
ATTACH;FMTTYPE=image/png:https://www.thewwa.com/wp-content/uploads/2025/11/nw3-min.png
ORGANIZER;CN="WWA":MAILTO:info@thewwa.com
END:VEVENT
BEGIN:VEVENT
DTSTART;VALUE=DATE:20260807
DTEND;VALUE=DATE:20260809
DTSTAMP:20260423T192434
CREATED:20260330T225820Z
LAST-MODIFIED:20260402T154220Z
UID:38206-1786060800-1786233599@www.thewwa.com
SUMMARY:Cali Comp 2026
DESCRIPTION:Event: Loch Stock Wakeboard and Wakesurf Event 2025Location: Ardlui Hotel\, Loch Lomond\, Nr Arrochar G83 7EB\, United KingdomDates: Demo Day Saturday 31st May\, Competition Day Sunday June 1stTowboat: Nautique G23 powered by Yanmar Marine EnginesDetails: Get Ready for Loch Stock – The Ultimate Scottish Wakeboard and Wakesurf Weekend!Presented by Scotland Nautique\, Loch Stock returns to the stunning waters of Loch Lomond for two days of non-stop action and entertainment! 								\n				\n				\n				\n									\n					\n						\n									Event registration\n					\n					\n				\n								\n				\n				\n				\n							\n\n						Entry fee $88 + Membership USD $45 (single event)  \n			\n						this includes a practice set and tshirt.\n			\n						\n									×\n							\n			\n		\n						\n				\n				\n				\n									 Saturday 31st May – Coaching & Demo DayKick off the weekend with expert-led wakeboard and wakesurf lessons\, hands-on coaching sessions\, and the chance to demo the latest Nautique boats. Sunday 1st June – Competition Day Watch amateur and top athletes go head-to-head in thrilling wakeboard and wakesurf competition\, with riders showing off their skills in front of a buzzing crowd. All Weekend – Food\, Music & More! Enjoy live DJ sets\, music\, a sizzling BBQ\, and the electric atmosphere that makes Loch Stock an unmissable celebration of watersports and summer vibes. Register now to secure your spot!
URL:https://www.thewwa.com/event/cali-comp-2026/
CATEGORIES:World Series of Wakesurfing
ATTACH;FMTTYPE=image/png:https://www.thewwa.com/wp-content/uploads/2026/03/Group-44204.png
END:VEVENT
BEGIN:VEVENT
DTSTART;VALUE=DATE:20260814
DTEND;VALUE=DATE:20260817
DTSTAMP:20260423T192434
CREATED:20260318T143651Z
LAST-MODIFIED:20260318T145755Z
UID:38140-1786665600-1786924799@www.thewwa.com
SUMMARY:ChattaWake
DESCRIPTION:Event: Loch Stock Wakeboard and Wakesurf Event 2025Location: Ardlui Hotel\, Loch Lomond\, Nr Arrochar G83 7EB\, United KingdomDates: Demo Day Saturday 31st May\, Competition Day Sunday June 1stTowboat: Nautique G23 powered by Yanmar Marine EnginesDetails: Get Ready for Loch Stock – The Ultimate Scottish Wakeboard and Wakesurf Weekend!Presented by Scotland Nautique\, Loch Stock returns to the stunning waters of Loch Lomond for two days of non-stop action and entertainment! 								\n				\n				\n				\n									\n					\n						\n									Event registration\n					\n					\n				\n								\n				\n				\n				\n							\n\n						Entry fee $88 + Membership USD $45 (single event)  \n			\n						this includes a practice set and tshirt.\n			\n						\n									×\n							\n			\n		\n						\n				\n				\n				\n									 Saturday 31st May – Coaching & Demo DayKick off the weekend with expert-led wakeboard and wakesurf lessons\, hands-on coaching sessions\, and the chance to demo the latest Nautique boats. Sunday 1st June – Competition Day Watch amateur and top athletes go head-to-head in thrilling wakeboard and wakesurf competition\, with riders showing off their skills in front of a buzzing crowd. All Weekend – Food\, Music & More! Enjoy live DJ sets\, music\, a sizzling BBQ\, and the electric atmosphere that makes Loch Stock an unmissable celebration of watersports and summer vibes. Register now to secure your spot!
URL:https://www.thewwa.com/event/chattawake/
CATEGORIES:Grassroots events
ATTACH;FMTTYPE=image/png:https://www.thewwa.com/wp-content/uploads/2026/03/1773776964654000-scaled.png
END:VEVENT
BEGIN:VEVENT
DTSTART;VALUE=DATE:20260821
DTEND;VALUE=DATE:20260823
DTSTAMP:20260423T192434
CREATED:20260122T231923Z
LAST-MODIFIED:20260312T143651Z
UID:37685-1787270400-1787443199@www.thewwa.com
SUMMARY:I❤️Surf Classic
DESCRIPTION:Event: Loch Stock Wakeboard and Wakesurf Event 2025Location: Ardlui Hotel\, Loch Lomond\, Nr Arrochar G83 7EB\, United KingdomDates: Demo Day Saturday 31st May\, Competition Day Sunday June 1stTowboat: Nautique G23 powered by Yanmar Marine EnginesDetails: Get Ready for Loch Stock – The Ultimate Scottish Wakeboard and Wakesurf Weekend!Presented by Scotland Nautique\, Loch Stock returns to the stunning waters of Loch Lomond for two days of non-stop action and entertainment! 								\n				\n				\n				\n									\n					\n						\n									Event registration\n					\n					\n				\n								\n				\n				\n				\n							\n\n						Entry fee $88 + Membership USD $45 (single event)  \n			\n						this includes a practice set and tshirt.\n			\n						\n									×\n							\n			\n		\n						\n				\n				\n				\n									 Saturday 31st May – Coaching & Demo DayKick off the weekend with expert-led wakeboard and wakesurf lessons\, hands-on coaching sessions\, and the chance to demo the latest Nautique boats. Sunday 1st June – Competition Day Watch amateur and top athletes go head-to-head in thrilling wakeboard and wakesurf competition\, with riders showing off their skills in front of a buzzing crowd. All Weekend – Food\, Music & More! Enjoy live DJ sets\, music\, a sizzling BBQ\, and the electric atmosphere that makes Loch Stock an unmissable celebration of watersports and summer vibes. Register now to secure your spot!
URL:https://www.thewwa.com/event/canandaigua-wake-surf-open-2026/
CATEGORIES:2026,World Series of Wakesurfing
ATTACH;FMTTYPE=image/png:https://www.thewwa.com/wp-content/uploads/2026/01/Group-44140.png
ORGANIZER;CN="WWA":MAILTO:info@thewwa.com
END:VEVENT
BEGIN:VEVENT
DTSTART;VALUE=DATE:20260821
DTEND;VALUE=DATE:20260824
DTSTAMP:20260423T192434
CREATED:20251120T134743Z
LAST-MODIFIED:20260415T123156Z
UID:37589-1787270400-1787529599@www.thewwa.com
SUMMARY:Nautique South Central Regatta - Horseshoe Bay
DESCRIPTION:Event: Loch Stock Wakeboard and Wakesurf Event 2025Location: Ardlui Hotel\, Loch Lomond\, Nr Arrochar G83 7EB\, United KingdomDates: Demo Day Saturday 31st May\, Competition Day Sunday June 1stTowboat: Nautique G23 powered by Yanmar Marine EnginesDetails: Get Ready for Loch Stock – The Ultimate Scottish Wakeboard and Wakesurf Weekend!Presented by Scotland Nautique\, Loch Stock returns to the stunning waters of Loch Lomond for two days of non-stop action and entertainment! 								\n				\n				\n				\n									\n					\n						\n									Event registration\n					\n					\n				\n								\n				\n				\n				\n							\n\n						Entry fee $88 + Membership USD $45 (single event)  \n			\n						this includes a practice set and tshirt.\n			\n						\n									×\n							\n			\n		\n						\n				\n				\n				\n									 Saturday 31st May – Coaching & Demo DayKick off the weekend with expert-led wakeboard and wakesurf lessons\, hands-on coaching sessions\, and the chance to demo the latest Nautique boats. Sunday 1st June – Competition Day Watch amateur and top athletes go head-to-head in thrilling wakeboard and wakesurf competition\, with riders showing off their skills in front of a buzzing crowd. All Weekend – Food\, Music & More! Enjoy live DJ sets\, music\, a sizzling BBQ\, and the electric atmosphere that makes Loch Stock an unmissable celebration of watersports and summer vibes. Register now to secure your spot!
URL:https://www.thewwa.com/event/2026-nautique-regatta-5/
CATEGORIES:2026,Nautique Regatta 2026
ATTACH;FMTTYPE=image/png:https://www.thewwa.com/wp-content/uploads/2025/11/Group-44221.png
END:VEVENT
BEGIN:VEVENT
DTSTART;VALUE=DATE:20260823
DTEND;VALUE=DATE:20260824
DTSTAMP:20260423T192434
CREATED:20260401T194711Z
LAST-MODIFIED:20260401T194711Z
UID:38263-1787443200-1787529599@www.thewwa.com
SUMMARY:Centurion Wake Surf Chubu Open 2026
DESCRIPTION:Event: Loch Stock Wakeboard and Wakesurf Event 2025Location: Ardlui Hotel\, Loch Lomond\, Nr Arrochar G83 7EB\, United KingdomDates: Demo Day Saturday 31st May\, Competition Day Sunday June 1stTowboat: Nautique G23 powered by Yanmar Marine EnginesDetails: Get Ready for Loch Stock – The Ultimate Scottish Wakeboard and Wakesurf Weekend!Presented by Scotland Nautique\, Loch Stock returns to the stunning waters of Loch Lomond for two days of non-stop action and entertainment! 								\n				\n				\n				\n									\n					\n						\n									Event registration\n					\n					\n				\n								\n				\n				\n				\n							\n\n						Entry fee $88 + Membership USD $45 (single event)  \n			\n						this includes a practice set and tshirt.\n			\n						\n									×\n							\n			\n		\n						\n				\n				\n				\n									 Saturday 31st May – Coaching & Demo DayKick off the weekend with expert-led wakeboard and wakesurf lessons\, hands-on coaching sessions\, and the chance to demo the latest Nautique boats. Sunday 1st June – Competition Day Watch amateur and top athletes go head-to-head in thrilling wakeboard and wakesurf competition\, with riders showing off their skills in front of a buzzing crowd. All Weekend – Food\, Music & More! Enjoy live DJ sets\, music\, a sizzling BBQ\, and the electric atmosphere that makes Loch Stock an unmissable celebration of watersports and summer vibes. Register now to secure your spot!
URL:https://www.thewwa.com/event/centurion-wake-surf-chubu-open-2026/
CATEGORIES:World Series of Wakesurfing
ATTACH;FMTTYPE=image/png:https://www.thewwa.com/wp-content/uploads/2026/04/Group-44200.png
END:VEVENT
BEGIN:VEVENT
DTSTART;VALUE=DATE:20260904
DTEND;VALUE=DATE:20260906
DTSTAMP:20260423T192434
CREATED:20260423T194714Z
LAST-MODIFIED:20260423T202106Z
UID:38352-1788480000-1788652799@www.thewwa.com
SUMMARY:Alpine Lake Series
DESCRIPTION:Event: Loch Stock Wakeboard and Wakesurf Event 2025Location: Ardlui Hotel\, Loch Lomond\, Nr Arrochar G83 7EB\, United KingdomDates: Demo Day Saturday 31st May\, Competition Day Sunday June 1stTowboat: Nautique G23 powered by Yanmar Marine EnginesDetails: Get Ready for Loch Stock – The Ultimate Scottish Wakeboard and Wakesurf Weekend!Presented by Scotland Nautique\, Loch Stock returns to the stunning waters of Loch Lomond for two days of non-stop action and entertainment! 								\n				\n				\n				\n									\n					\n						\n									Event registration\n					\n					\n				\n								\n				\n				\n				\n							\n\n						Entry fee $88 + Membership USD $45 (single event)  \n			\n						this includes a practice set and tshirt.\n			\n						\n									×\n							\n			\n		\n						\n				\n				\n				\n									 Saturday 31st May – Coaching & Demo DayKick off the weekend with expert-led wakeboard and wakesurf lessons\, hands-on coaching sessions\, and the chance to demo the latest Nautique boats. Sunday 1st June – Competition Day Watch amateur and top athletes go head-to-head in thrilling wakeboard and wakesurf competition\, with riders showing off their skills in front of a buzzing crowd. All Weekend – Food\, Music & More! Enjoy live DJ sets\, music\, a sizzling BBQ\, and the electric atmosphere that makes Loch Stock an unmissable celebration of watersports and summer vibes. Register now to secure your spot!
URL:https://www.thewwa.com/event/alpine-lake-series/
CATEGORIES:World Series of Wakesurfing
ATTACH;FMTTYPE=image/png:https://www.thewwa.com/wp-content/uploads/2026/04/Group-44224.png
END:VEVENT
BEGIN:VEVENT
DTSTART;VALUE=DATE:20260909
DTEND;VALUE=DATE:20260914
DTSTAMP:20260423T192434
CREATED:20251106T232358Z
LAST-MODIFIED:20251120T141505Z
UID:35422-1788912000-1789343999@www.thewwa.com
SUMMARY:Nautique WWA Wakeboard World Championships presented by GM Marine
DESCRIPTION:Event: Loch Stock Wakeboard and Wakesurf Event 2025Location: Ardlui Hotel\, Loch Lomond\, Nr Arrochar G83 7EB\, United KingdomDates: Demo Day Saturday 31st May\, Competition Day Sunday June 1stTowboat: Nautique G23 powered by Yanmar Marine EnginesDetails: Get Ready for Loch Stock – The Ultimate Scottish Wakeboard and Wakesurf Weekend!Presented by Scotland Nautique\, Loch Stock returns to the stunning waters of Loch Lomond for two days of non-stop action and entertainment! 								\n				\n				\n				\n									\n					\n						\n									Event registration\n					\n					\n				\n								\n				\n				\n				\n							\n\n						Entry fee $88 + Membership USD $45 (single event)  \n			\n						this includes a practice set and tshirt.\n			\n						\n									×\n							\n			\n		\n						\n				\n				\n				\n									 Saturday 31st May – Coaching & Demo DayKick off the weekend with expert-led wakeboard and wakesurf lessons\, hands-on coaching sessions\, and the chance to demo the latest Nautique boats. Sunday 1st June – Competition Day Watch amateur and top athletes go head-to-head in thrilling wakeboard and wakesurf competition\, with riders showing off their skills in front of a buzzing crowd. All Weekend – Food\, Music & More! Enjoy live DJ sets\, music\, a sizzling BBQ\, and the electric atmosphere that makes Loch Stock an unmissable celebration of watersports and summer vibes. Register now to secure your spot!
URL:https://www.thewwa.com/event/nautique-wake-series-2026-4/
LOCATION:Callaway Gardens\, 3 Mile Beach Drive\, Pine Mountain\, GA\, 31822\, United States
CATEGORIES:2026,Nautique Wake Series
ATTACH;FMTTYPE=image/png:https://www.thewwa.com/wp-content/uploads/2025/11/nw4-min.png
ORGANIZER;CN="WWA":MAILTO:info@thewwa.com
END:VEVENT
BEGIN:VEVENT
DTSTART;VALUE=DATE:20260909
DTEND;VALUE=DATE:20260914
DTSTAMP:20260423T192434
CREATED:20251113T183219Z
LAST-MODIFIED:20251120T142244Z
UID:36481-1788912000-1789343999@www.thewwa.com
SUMMARY:Nautique Masters Wakesurf Championships presented by GM Marine
DESCRIPTION:Event: Loch Stock Wakeboard and Wakesurf Event 2025Location: Ardlui Hotel\, Loch Lomond\, Nr Arrochar G83 7EB\, United KingdomDates: Demo Day Saturday 31st May\, Competition Day Sunday June 1stTowboat: Nautique G23 powered by Yanmar Marine EnginesDetails: Get Ready for Loch Stock – The Ultimate Scottish Wakeboard and Wakesurf Weekend!Presented by Scotland Nautique\, Loch Stock returns to the stunning waters of Loch Lomond for two days of non-stop action and entertainment! 								\n				\n				\n				\n									\n					\n						\n									Event registration\n					\n					\n				\n								\n				\n				\n				\n							\n\n						Entry fee $88 + Membership USD $45 (single event)  \n			\n						this includes a practice set and tshirt.\n			\n						\n									×\n							\n			\n		\n						\n				\n				\n				\n									 Saturday 31st May – Coaching & Demo DayKick off the weekend with expert-led wakeboard and wakesurf lessons\, hands-on coaching sessions\, and the chance to demo the latest Nautique boats. Sunday 1st June – Competition Day Watch amateur and top athletes go head-to-head in thrilling wakeboard and wakesurf competition\, with riders showing off their skills in front of a buzzing crowd. All Weekend – Food\, Music & More! Enjoy live DJ sets\, music\, a sizzling BBQ\, and the electric atmosphere that makes Loch Stock an unmissable celebration of watersports and summer vibes. Register now to secure your spot!
URL:https://www.thewwa.com/event/nautique-wakesurf-series-5/
LOCATION:Callaway Gardens\, 3 Mile Beach Drive\, Pine Mountain\, GA\, 31822\, United States
CATEGORIES:2026,Nautique Wakesurf Series
ATTACH;FMTTYPE=image/png:https://www.thewwa.com/wp-content/uploads/2025/11/nws5-min.png
ORGANIZER;CN="WWA":MAILTO:info@thewwa.com
END:VEVENT
BEGIN:VEVENT
DTSTART;VALUE=DATE:20261001
DTEND;VALUE=DATE:20261004
DTSTAMP:20260423T192434
CREATED:20260122T232019Z
LAST-MODIFIED:20260407T110429Z
UID:37687-1790812800-1791071999@www.thewwa.com
SUMMARY:Centurion World Wake Surfing Championships 2026
DESCRIPTION:Event: Loch Stock Wakeboard and Wakesurf Event 2025Location: Ardlui Hotel\, Loch Lomond\, Nr Arrochar G83 7EB\, United KingdomDates: Demo Day Saturday 31st May\, Competition Day Sunday June 1stTowboat: Nautique G23 powered by Yanmar Marine EnginesDetails: Get Ready for Loch Stock – The Ultimate Scottish Wakeboard and Wakesurf Weekend!Presented by Scotland Nautique\, Loch Stock returns to the stunning waters of Loch Lomond for two days of non-stop action and entertainment! 								\n				\n				\n				\n									\n					\n						\n									Event registration\n					\n					\n				\n								\n				\n				\n				\n							\n\n						Entry fee $88 + Membership USD $45 (single event)  \n			\n						this includes a practice set and tshirt.\n			\n						\n									×\n							\n			\n		\n						\n				\n				\n				\n									 Saturday 31st May – Coaching & Demo DayKick off the weekend with expert-led wakeboard and wakesurf lessons\, hands-on coaching sessions\, and the chance to demo the latest Nautique boats. Sunday 1st June – Competition Day Watch amateur and top athletes go head-to-head in thrilling wakeboard and wakesurf competition\, with riders showing off their skills in front of a buzzing crowd. All Weekend – Food\, Music & More! Enjoy live DJ sets\, music\, a sizzling BBQ\, and the electric atmosphere that makes Loch Stock an unmissable celebration of watersports and summer vibes. Register now to secure your spot!
URL:https://www.thewwa.com/event/centurion-world-wake-surfing-championships-2026/
CATEGORIES:2026,World Series of Wakesurfing
ATTACH;FMTTYPE=image/png:https://www.thewwa.com/wp-content/uploads/2026/01/Group-44207.png
ORGANIZER;CN="WWA":MAILTO:info@thewwa.com
END:VEVENT
END:VCALENDAR